{"text_format":"3","workbook":"xlsx","n_sheets":5,"sheets":["Pas à pas","Solutions","Un compte","Plan comptable","Journal imprimable"],"not_rendered":{"macros":1,"defined_names":5,"comments":1},"read":"whole","date_system":"1900"}

{"sheet":"Pas à pas","index":0,"n_rows":106,"n_cols":10,"rows_kept":106,"merged":[[3,1,4,1],[3,2,3,5],[3,6,4,6],[3,7,3,8],[4,2,4,3],[4,4,4,5]]}
[]
[]
[null,{"$f":"Solutions!B3","v":"Exercice : "},{"$nulls":5},100,false]
["v","No","Comptes à",{"$nulls":3},"Libellé","Sommes à"]
["v",null,"débiter",null,"créditer",null,null,"débiter","créditer",1]
[null,{"$f":"IF(Solutions!B6=\"\",\"\",Solutions!B6)","v":1},{"$f":"IF($A6=\"\",\"\",IF(Solutions!C6=\"\",\"\",Solutions!C6))","v":""},{"$f":"IF($A6=\"\",\"\",IF(Solutions!D6=\"\",\"\",Solutions!D6))","v":""},{"$f":"IF($A6=\"\",\"\",IF(Solutions!E6=\"\",\"\",Solutions!E6))","v":""},{"$f":"IF($A6=\"\",\"\",IF(Solutions!F6=\"\",\"\",Solutions!F6))","v":""},{"$f":"IF(A6=\"v\",Solutions!G6,IF($I$3=TRUE,Solutions!G6,\"\"))","v":""},{"$f":"IF($A6=\"\",\"\",IF(Solutions!H6=\"\",\"\",Solutions!H6))","v":""},{"$f":"IF($A6=\"\",\"\",IF(Solutions!I6=\"\",\"\",Solutions!I6))","v":""}]
[null,{"$f":"IF(Solutions!B7=\"\",\"\",Solutions!B7)","v":""},{"$f":"IF($A7=\"\",\"\",IF(Solutions!C7=\"\",\"\",Solutions!C7))","v":""},{"$f":"IF($A7=\"\",\"\",IF(Solutions!D7=\"\",\"\",Solutions!D7))","v":""},{"$f":"IF($A7=\"\",\"\",IF(Solutions!E7=\"\",\"\",Solutions!E7))","v":""},{"$f":"IF($A7=\"\",\"\",IF(Solutions!F7=\"\",\"\",Solutions!F7))","v":""},{"$f":"IF(A7=\"v\",Solutions!G7,IF($I$3=TRUE,Solutions!G7,\"\"))","v":""},{"$f":"IF($A7=\"\",\"\",IF(Solutions!H7=\"\",\"\",Solutions!H7))","v":""},{"$f":"IF($A7=\"\",\"\",IF(Solutions!I7=\"\",\"\",Solutions!I7))","v":""}]
[null,{"$f":"IF(Solutions!B8=\"\",\"\",Solutions!B8)","v":""},{"$f":"IF($A8=\"\",\"\",IF(Solutions!C8=\"\",\"\",Solutions!C8))","v":""},{"$f":"IF($A8=\"\",\"\",IF(Solutions!D8=\"\",\"\",Solutions!D8))","v":""},{"$f":"IF($A8=\"\",\"\",IF(Solutions!E8=\"\",\"\",Solutions!E8))","v":""},{"$f":"IF($A8=\"\",\"\",IF(Solutions!F8=\"\",\"\",Solutions!F8))","v":""},{"$f":"IF(A8=\"v\",Solutions!G8,IF($I$3=TRUE,IF(A6=\"v\",Solutions!G8,\"\"),\"\"))","v":""},{"$f":"IF($A8=\"\",\"\",IF(Solutions!H8=\"\",\"\",Solutions!H8))","v":""},{"$f":"IF($A8=\"\",\"\",IF(Solutions!I8=\"\",\"\",Solutions!I8))","v":""}]
[null,{"$f":"IF(Solutions!B9=\"\",\"\",Solutions!B9)","v":""},{"$f":"IF($A9=\"\",\"\",IF(Solutions!C9=\"\",\"\",Solutions!C9))","v":""},{"$f":"IF($A9=\"\",\"\",IF(Solutions!D9=\"\",\"\",Solutions!D9))","v":""},{"$f":"IF($A9=\"\",\"\",IF(Solutions!E9=\"\",\"\",Solutions!E9))","v":""},{"$f":"IF($A9=\"\",\"\",IF(Solutions!F9=\"\",\"\",Solutions!F9))","v":""},{"$f":"IF(A9=\"v\",Solutions!G9,IF($I$3=TRUE,IF(A7=\"v\",Solutions!G9,\"\"),\"\"))","v":""},{"$f":"IF($A9=\"\",\"\",IF(Solutions!H9=\"\",\"\",Solutions!H9))","v":""},{"$f":"IF($A9=\"\",\"\",IF(Solutions!I9=\"\",\"\",Solutions!I9))","v":""}]
[null,{"$f":"IF(Solutions!B10=\"\",\"\",Solutions!B10)","v":""},{"$f":"IF($A10=\"\",\"\",IF(Solutions!C10=\"\",\"\",Solutions!C10))","v":""},{"$f":"IF($A10=\"\",\"\",IF(Solutions!D10=\"\",\"\",Solutions!D10))","v":""},{"$f":"IF($A10=\"\",\"\",IF(Solutions!E10=\"\",\"\",Solutions!E10))","v":""},{"$f":"IF($A10=\"\",\"\",IF(Solutions!F10=\"\",\"\",Solutions!F10))","v":""},{"$f":"IF(A10=\"v\",Solutions!G10,IF($I$3=TRUE,IF(A8=\"v\",Solutions!G10,\"\"),\"\"))","v":""},{"$f":"IF($A10=\"\",\"\",IF(Solutions!H10=\"\",\"\",Solutions!H10))","v":""},{"$f":"IF($A10=\"\",\"\",IF(Solutions!I10=\"\",\"\",Solutions!I10))","v":""}]
[null,{"$f":"IF(Solutions!B11=\"\",\"\",Solutions!B11)","v":""},{"$f":"IF($A11=\"\",\"\",IF(Solutions!C11=\"\",\"\",Solutions!C11))","v":""},{"$f":"IF($A11=\"\",\"\",IF(Solutions!D11=\"\",\"\",Solutions!D11))","v":""},{"$f":"IF($A11=\"\",\"\",IF(Solutions!E11=\"\",\"\",Solutions!E11))","v":""},{"$f":"IF($A11=\"\",\"\",IF(Solutions!F11=\"\",\"\",Solutions!F11))","v":""},{"$f":"IF(A11=\"v\",Solutions!G11,IF($I$3=TRUE,IF(A9=\"v\",Solutions!G11,\"\"),\"\"))","v":""},{"$f":"IF($A11=\"\",\"\",IF(Solutions!H11=\"\",\"\",Solutions!H11))","v":""},{"$f":"IF($A11=\"\",\"\",IF(Solutions!I11=\"\",\"\",Solutions!I11))","v":""}]
[null,{"$f":"IF(Solutions!B12=\"\",\"\",Solutions!B12)","v":""},{"$f":"IF($A12=\"\",\"\",IF(Solutions!C12=\"\",\"\",Solutions!C12))","v":""},{"$f":"IF($A12=\"\",\"\",IF(Solutions!D12=\"\",\"\",Solutions!D12))","v":""},{"$f":"IF($A12=\"\",\"\",IF(Solutions!E12=\"\",\"\",Solutions!E12))","v":""},{"$f":"IF($A12=\"\",\"\",IF(Solutions!F12=\"\",\"\",Solutions!F12))","v":""},{"$f":"IF(A12=\"v\",Solutions!G12,IF($I$3=TRUE,IF(A10=\"v\",Solutions!G12,\"\"),\"\"))","v":""},{"$f":"IF($A12=\"\",\"\",IF(Solutions!H12=\"\",\"\",Solutions!H12))","v":""},{"$f":"IF($A12=\"\",\"\",IF(Solutions!I12=\"\",\"\",Solutions!I12))","v":""}]
[null,{"$f":"IF(Solutions!B13=\"\",\"\",Solutions!B13)","v":""},{"$f":"IF($A13=\"\",\"\",IF(Solutions!C13=\"\",\"\",Solutions!C13))","v":""},{"$f":"IF($A13=\"\",\"\",IF(Solutions!D13=\"\",\"\",Solutions!D13))","v":""},{"$f":"IF($A13=\"\",\"\",IF(Solutions!E13=\"\",\"\",Solutions!E13))","v":""},{"$f":"IF($A13=\"\",\"\",IF(Solutions!F13=\"\",\"\",Solutions!F13))","v":""},{"$f":"IF(A13=\"v\",Solutions!G13,IF($I$3=TRUE,IF(A11=\"v\",Solutions!G13,\"\"),\"\"))","v":""},{"$f":"IF($A13=\"\",\"\",IF(Solutions!H13=\"\",\"\",Solutions!H13))","v":""},{"$f":"IF($A13=\"\",\"\",IF(Solutions!I13=\"\",\"\",Solutions!I13))","v":""}]
[null,{"$f":"IF(Solutions!B14=\"\",\"\",Solutions!B14)","v":""},{"$f":"IF($A14=\"\",\"\",IF(Solutions!C14=\"\",\"\",Solutions!C14))","v":""},{"$f":"IF($A14=\"\",\"\",IF(Solutions!D14=\"\",\"\",Solutions!D14))","v":""},{"$f":"IF($A14=\"\",\"\",IF(Solutions!E14=\"\",\"\",Solutions!E14))","v":""},{"$f":"IF($A14=\"\",\"\",IF(Solutions!F14=\"\",\"\",Solutions!F14))","v":""},{"$f":"IF(A14=\"v\",Solutions!G14,IF($I$3=TRUE,IF(A12=\"v\",Solutions!G14,\"\"),\"\"))","v":""},{"$f":"IF($A14=\"\",\"\",IF(Solutions!H14=\"\",\"\",Solutions!H14))","v":""},{"$f":"IF($A14=\"\",\"\",IF(Solutions!I14=\"\",\"\",Solutions!I14))","v":""}]
[null,{"$f":"IF(Solutions!B15=\"\",\"\",Solutions!B15)","v":""},{"$f":"IF($A15=\"\",\"\",IF(Solutions!C15=\"\",\"\",Solutions!C15))","v":""},{"$f":"IF($A15=\"\",\"\",IF(Solutions!D15=\"\",\"\",Solutions!D15))","v":""},{"$f":"IF($A15=\"\",\"\",IF(Solutions!E15=\"\",\"\",Solutions!E15))","v":""},{"$f":"IF($A15=\"\",\"\",IF(Solutions!F15=\"\",\"\",Solutions!F15))","v":""},{"$f":"IF(A15=\"v\",Solutions!G15,IF($I$3=TRUE,IF(A13=\"v\",Solutions!G15,\"\"),\"\"))","v":""},{"$f":"IF($A15=\"\",\"\",IF(Solutions!H15=\"\",\"\",Solutions!H15))","v":""},{"$f":"IF($A15=\"\",\"\",IF(Solutions!I15=\"\",\"\",Solutions!I15))","v":""}]
[null,{"$f":"IF(Solutions!B16=\"\",\"\",Solutions!B16)","v":""},{"$f":"IF($A16=\"\",\"\",IF(Solutions!C16=\"\",\"\",Solutions!C16))","v":""},{"$f":"IF($A16=\"\",\"\",IF(Solutions!D16=\"\",\"\",Solutions!D16))","v":""},{"$f":"IF($A16=\"\",\"\",IF(Solutions!E16=\"\",\"\",Solutions!E16))","v":""},{"$f":"IF($A16=\"\",\"\",IF(Solutions!F16=\"\",\"\",Solutions!F16))","v":""},{"$f":"IF(A16=\"v\",Solutions!G16,IF($I$3=TRUE,IF(A14=\"v\",Solutions!G16,\"\"),\"\"))","v":""},{"$f":"IF($A16=\"\",\"\",IF(Solutions!H16=\"\",\"\",Solutions!H16))","v":""},{"$f":"IF($A16=\"\",\"\",IF(Solutions!I16=\"\",\"\",Solutions!I16))","v":""}]
[null,{"$f":"IF(Solutions!B17=\"\",\"\",Solutions!B17)","v":""},{"$f":"IF($A17=\"\",\"\",IF(Solutions!C17=\"\",\"\",Solutions!C17))","v":""},{"$f":"IF($A17=\"\",\"\",IF(Solutions!D17=\"\",\"\",Solutions!D17))","v":""},{"$f":"IF($A17=\"\",\"\",IF(Solutions!E17=\"\",\"\",Solutions!E17))","v":""},{"$f":"IF($A17=\"\",\"\",IF(Solutions!F17=\"\",\"\",Solutions!F17))","v":""},{"$f":"IF(A17=\"v\",Solutions!G17,IF($I$3=TRUE,IF(A15=\"v\",Solutions!G17,\"\"),\"\"))","v":""},{"$f":"IF($A17=\"\",\"\",IF(Solutions!H17=\"\",\"\",Solutions!H17))","v":""},{"$f":"IF($A17=\"\",\"\",IF(Solutions!I17=\"\",\"\",Solutions!I17))","v":""}]
[null,{"$f":"IF(Solutions!B18=\"\",\"\",Solutions!B18)","v":""},{"$f":"IF($A18=\"\",\"\",IF(Solutions!C18=\"\",\"\",Solutions!C18))","v":""},{"$f":"IF($A18=\"\",\"\",IF(Solutions!D18=\"\",\"\",Solutions!D18))","v":""},{"$f":"IF($A18=\"\",\"\",IF(Solutions!E18=\"\",\"\",Solutions!E18))","v":""},{"$f":"IF($A18=\"\",\"\",IF(Solutions!F18=\"\",\"\",Solutions!F18))","v":""},{"$f":"IF(A18=\"v\",Solutions!G18,IF($I$3=TRUE,IF(A16=\"v\",Solutions!G18,\"\"),\"\"))","v":""},{"$f":"IF($A18=\"\",\"\",IF(Solutions!H18=\"\",\"\",Solutions!H18))","v":""},{"$f":"IF($A18=\"\",\"\",IF(Solutions!I18=\"\",\"\",Solutions!I18))","v":""}]
[null,{"$f":"IF(Solutions!B19=\"\",\"\",Solutions!B19)","v":""},{"$f":"IF($A19=\"\",\"\",IF(Solutions!C19=\"\",\"\",Solutions!C19))","v":""},{"$f":"IF($A19=\"\",\"\",IF(Solutions!D19=\"\",\"\",Solutions!D19))","v":""},{"$f":"IF($A19=\"\",\"\",IF(Solutions!E19=\"\",\"\",Solutions!E19))","v":""},{"$f":"IF($A19=\"\",\"\",IF(Solutions!F19=\"\",\"\",Solutions!F19))","v":""},{"$f":"IF(A19=\"v\",Solutions!G19,IF($I$3=TRUE,IF(A17=\"v\",Solutions!G19,\"\"),\"\"))","v":""},{"$f":"IF($A19=\"\",\"\",IF(Solutions!H19=\"\",\"\",Solutions!H19))","v":""},{"$f":"IF($A19=\"\",\"\",IF(Solutions!I19=\"\",\"\",Solutions!I19))","v":""}]
[null,{"$f":"IF(Solutions!B20=\"\",\"\",Solutions!B20)","v":""},{"$f":"IF($A20=\"\",\"\",IF(Solutions!C20=\"\",\"\",Solutions!C20))","v":""},{"$f":"IF($A20=\"\",\"\",IF(Solutions!D20=\"\",\"\",Solutions!D20))","v":""},{"$f":"IF($A20=\"\",\"\",IF(Solutions!E20=\"\",\"\",Solutions!E20))","v":""},{"$f":"IF($A20=\"\",\"\",IF(Solutions!F20=\"\",\"\",Solutions!F20))","v":""},{"$f":"IF(A20=\"v\",Solutions!G20,IF($I$3=TRUE,IF(A18=\"v\",Solutions!G20,\"\"),\"\"))","v":""},{"$f":"IF($A20=\"\",\"\",IF(Solutions!H20=\"\",\"\",Solutions!H20))","v":""},{"$f":"IF($A20=\"\",\"\",IF(Solutions!I20=\"\",\"\",Solutions!I20))","v":""}]
[null,{"$f":"IF(Solutions!B21=\"\",\"\",Solutions!B21)","v":""},{"$f":"IF($A21=\"\",\"\",IF(Solutions!C21=\"\",\"\",Solutions!C21))","v":""},{"$f":"IF($A21=\"\",\"\",IF(Solutions!D21=\"\",\"\",Solutions!D21))","v":""},{"$f":"IF($A21=\"\",\"\",IF(Solutions!E21=\"\",\"\",Solutions!E21))","v":""},{"$f":"IF($A21=\"\",\"\",IF(Solutions!F21=\"\",\"\",Solutions!F21))","v":""},{"$f":"IF(A21=\"v\",Solutions!G21,IF($I$3=TRUE,IF(A19=\"v\",Solutions!G21,\"\"),\"\"))","v":""},{"$f":"IF($A21=\"\",\"\",IF(Solutions!H21=\"\",\"\",Solutions!H21))","v":""},{"$f":"IF($A21=\"\",\"\",IF(Solutions!I21=\"\",\"\",Solutions!I21))","v":""}]
[null,{"$f":"IF(Solutions!B22=\"\",\"\",Solutions!B22)","v":""},{"$f":"IF($A22=\"\",\"\",IF(Solutions!C22=\"\",\"\",Solutions!C22))","v":""},{"$f":"IF($A22=\"\",\"\",IF(Solutions!D22=\"\",\"\",Solutions!D22))","v":""},{"$f":"IF($A22=\"\",\"\",IF(Solutions!E22=\"\",\"\",Solutions!E22))","v":""},{"$f":"IF($A22=\"\",\"\",IF(Solutions!F22=\"\",\"\",Solutions!F22))","v":""},{"$f":"IF(A22=\"v\",Solutions!G22,IF($I$3=TRUE,IF(A20=\"v\",Solutions!G22,\"\"),\"\"))","v":""},{"$f":"IF($A22=\"\",\"\",IF(Solutions!H22=\"\",\"\",Solutions!H22))","v":""},{"$f":"IF($A22=\"\",\"\",IF(Solutions!I22=\"\",\"\",Solutions!I22))","v":""}]
[null,{"$f":"IF(Solutions!B23=\"\",\"\",Solutions!B23)","v":""},{"$f":"IF($A23=\"\",\"\",IF(Solutions!C23=\"\",\"\",Solutions!C23))","v":""},{"$f":"IF($A23=\"\",\"\",IF(Solutions!D23=\"\",\"\",Solutions!D23))","v":""},{"$f":"IF($A23=\"\",\"\",IF(Solutions!E23=\"\",\"\",Solutions!E23))","v":""},{"$f":"IF($A23=\"\",\"\",IF(Solutions!F23=\"\",\"\",Solutions!F23))","v":""},{"$f":"IF(A23=\"v\",Solutions!G23,IF($I$3=TRUE,IF(A21=\"v\",Solutions!G23,\"\"),\"\"))","v":""},{"$f":"IF($A23=\"\",\"\",IF(Solutions!H23=\"\",\"\",Solutions!H23))","v":""},{"$f":"IF($A23=\"\",\"\",IF(Solutions!I23=\"\",\"\",Solutions!I23))","v":""}]
[null,{"$f":"IF(Solutions!B24=\"\",\"\",Solutions!B24)","v":""},{"$f":"IF($A24=\"\",\"\",IF(Solutions!C24=\"\",\"\",Solutions!C24))","v":""},{"$f":"IF($A24=\"\",\"\",IF(Solutions!D24=\"\",\"\",Solutions!D24))","v":""},{"$f":"IF($A24=\"\",\"\",IF(Solutions!E24=\"\",\"\",Solutions!E24))","v":""},{"$f":"IF($A24=\"\",\"\",IF(Solutions!F24=\"\",\"\",Solutions!F24))","v":""},{"$f":"IF(A24=\"v\",Solutions!G24,IF($I$3=TRUE,IF(A22=\"v\",Solutions!G24,\"\"),\"\"))","v":""},{"$f":"IF($A24=\"\",\"\",IF(Solutions!H24=\"\",\"\",Solutions!H24))","v":""},{"$f":"IF($A24=\"\",\"\",IF(Solutions!I24=\"\",\"\",Solutions!I24))","v":""}]
[null,{"$f":"IF(Solutions!B25=\"\",\"\",Solutions!B25)","v":""},{"$f":"IF($A25=\"\",\"\",IF(Solutions!C25=\"\",\"\",Solutions!C25))","v":""},{"$f":"IF($A25=\"\",\"\",IF(Solutions!D25=\"\",\"\",Solutions!D25))","v":""},{"$f":"IF($A25=\"\",\"\",IF(Solutions!E25=\"\",\"\",Solutions!E25))","v":""},{"$f":"IF($A25=\"\",\"\",IF(Solutions!F25=\"\",\"\",Solutions!F25))","v":""},{"$f":"IF(A25=\"v\",Solutions!G25,IF($I$3=TRUE,IF(A23=\"v\",Solutions!G25,\"\"),\"\"))","v":""},{"$f":"IF($A25=\"\",\"\",IF(Solutions!H25=\"\",\"\",Solutions!H25))","v":""},{"$f":"IF($A25=\"\",\"\",IF(Solutions!I25=\"\",\"\",Solutions!I25))","v":""}]
[null,{"$f":"IF(Solutions!B26=\"\",\"\",Solutions!B26)","v":""},{"$f":"IF($A26=\"\",\"\",IF(Solutions!C26=\"\",\"\",Solutions!C26))","v":""},{"$f":"IF($A26=\"\",\"\",IF(Solutions!D26=\"\",\"\",Solutions!D26))","v":""},{"$f":"IF($A26=\"\",\"\",IF(Solutions!E26=\"\",\"\",Solutions!E26))","v":""},{"$f":"IF($A26=\"\",\"\",IF(Solutions!F26=\"\",\"\",Solutions!F26))","v":""},{"$f":"IF(A26=\"v\",Solutions!G26,IF($I$3=TRUE,IF(A24=\"v\",Solutions!G26,\"\"),\"\"))","v":""},{"$f":"IF($A26=\"\",\"\",IF(Solutions!H26=\"\",\"\",Solutions!H26))","v":""},{"$f":"IF($A26=\"\",\"\",IF(Solutions!I26=\"\",\"\",Solutions!I26))","v":""}]
[null,{"$f":"IF(Solutions!B27=\"\",\"\",Solutions!B27)","v":""},{"$f":"IF($A27=\"\",\"\",IF(Solutions!C27=\"\",\"\",Solutions!C27))","v":""},{"$f":"IF($A27=\"\",\"\",IF(Solutions!D27=\"\",\"\",Solutions!D27))","v":""},{"$f":"IF($A27=\"\",\"\",IF(Solutions!E27=\"\",\"\",Solutions!E27))","v":""},{"$f":"IF($A27=\"\",\"\",IF(Solutions!F27=\"\",\"\",Solutions!F27))","v":""},{"$f":"IF(A27=\"v\",Solutions!G27,IF($I$3=TRUE,IF(A25=\"v\",Solutions!G27,\"\"),\"\"))","v":""},{"$f":"IF($A27=\"\",\"\",IF(Solutions!H27=\"\",\"\",Solutions!H27))","v":""},{"$f":"IF($A27=\"\",\"\",IF(Solutions!I27=\"\",\"\",Solutions!I27))","v":""}]
[null,{"$f":"IF(Solutions!B28=\"\",\"\",Solutions!B28)","v":""},{"$f":"IF($A28=\"\",\"\",IF(Solutions!C28=\"\",\"\",Solutions!C28))","v":""},{"$f":"IF($A28=\"\",\"\",IF(Solutions!D28=\"\",\"\",Solutions!D28))","v":""},{"$f":"IF($A28=\"\",\"\",IF(Solutions!E28=\"\",\"\",Solutions!E28))","v":""},{"$f":"IF($A28=\"\",\"\",IF(Solutions!F28=\"\",\"\",Solutions!F28))","v":""},{"$f":"IF(A28=\"v\",Solutions!G28,IF($I$3=TRUE,IF(A26=\"v\",Solutions!G28,\"\"),\"\"))","v":""},{"$f":"IF($A28=\"\",\"\",IF(Solutions!H28=\"\",\"\",Solutions!H28))","v":""},{"$f":"IF($A28=\"\",\"\",IF(Solutions!I28=\"\",\"\",Solutions!I28))","v":""}]
[null,{"$f":"IF(Solutions!B29=\"\",\"\",Solutions!B29)","v":""},{"$f":"IF($A29=\"\",\"\",IF(Solutions!C29=\"\",\"\",Solutions!C29))","v":""},{"$f":"IF($A29=\"\",\"\",IF(Solutions!D29=\"\",\"\",Solutions!D29))","v":""},{"$f":"IF($A29=\"\",\"\",IF(Solutions!E29=\"\",\"\",Solutions!E29))","v":""},{"$f":"IF($A29=\"\",\"\",IF(Solutions!F29=\"\",\"\",Solutions!F29))","v":""},{"$f":"IF(A29=\"v\",Solutions!G29,IF($I$3=TRUE,IF(A27=\"v\",Solutions!G29,\"\"),\"\"))","v":""},{"$f":"IF($A29=\"\",\"\",IF(Solutions!H29=\"\",\"\",Solutions!H29))","v":""},{"$f":"IF($A29=\"\",\"\",IF(Solutions!I29=\"\",\"\",Solutions!I29))","v":""}]
[null,{"$f":"IF(Solutions!B30=\"\",\"\",Solutions!B30)","v":""},{"$f":"IF($A30=\"\",\"\",IF(Solutions!C30=\"\",\"\",Solutions!C30))","v":""},{"$f":"IF($A30=\"\",\"\",IF(Solutions!D30=\"\",\"\",Solutions!D30))","v":""},{"$f":"IF($A30=\"\",\"\",IF(Solutions!E30=\"\",\"\",Solutions!E30))","v":""},{"$f":"IF($A30=\"\",\"\",IF(Solutions!F30=\"\",\"\",Solutions!F30))","v":""},{"$f":"IF(A30=\"v\",Solutions!G30,IF($I$3=TRUE,IF(A28=\"v\",Solutions!G30,\"\"),\"\"))","v":""},{"$f":"IF($A30=\"\",\"\",IF(Solutions!H30=\"\",\"\",Solutions!H30))","v":""},{"$f":"IF($A30=\"\",\"\",IF(Solutions!I30=\"\",\"\",Solutions!I30))","v":""}]
[null,{"$f":"IF(Solutions!B31=\"\",\"\",Solutions!B31)","v":""},{"$f":"IF($A31=\"\",\"\",IF(Solutions!C31=\"\",\"\",Solutions!C31))","v":""},{"$f":"IF($A31=\"\",\"\",IF(Solutions!D31=\"\",\"\",Solutions!D31))","v":""},{"$f":"IF($A31=\"\",\"\",IF(Solutions!E31=\"\",\"\",Solutions!E31))","v":""},{"$f":"IF($A31=\"\",\"\",IF(Solutions!F31=\"\",\"\",Solutions!F31))","v":""},{"$f":"IF(A31=\"v\",Solutions!G31,IF($I$3=TRUE,IF(A29=\"v\",Solutions!G31,\"\"),\"\"))","v":""},{"$f":"IF($A31=\"\",\"\",IF(Solutions!H31=\"\",\"\",Solutions!H31))","v":""},{"$f":"IF($A31=\"\",\"\",IF(Solutions!I31=\"\",\"\",Solutions!I31))","v":""}]
[null,{"$f":"IF(Solutions!B32=\"\",\"\",Solutions!B32)","v":""},{"$f":"IF($A32=\"\",\"\",IF(Solutions!C32=\"\",\"\",Solutions!C32))","v":""},{"$f":"IF($A32=\"\",\"\",IF(Solutions!D32=\"\",\"\",Solutions!D32))","v":""},{"$f":"IF($A32=\"\",\"\",IF(Solutions!E32=\"\",\"\",Solutions!E32))","v":""},{"$f":"IF($A32=\"\",\"\",IF(Solutions!F32=\"\",\"\",Solutions!F32))","v":""},{"$f":"IF(A32=\"v\",Solutions!G32,IF($I$3=TRUE,IF(A30=\"v\",Solutions!G32,\"\"),\"\"))","v":""},{"$f":"IF($A32=\"\",\"\",IF(Solutions!H32=\"\",\"\",Solutions!H32))","v":""},{"$f":"IF($A32=\"\",\"\",IF(Solutions!I32=\"\",\"\",Solutions!I32))","v":""}]
[null,{"$f":"IF(Solutions!B33=\"\",\"\",Solutions!B33)","v":""},{"$f":"IF($A33=\"\",\"\",IF(Solutions!C33=\"\",\"\",Solutions!C33))","v":""},{"$f":"IF($A33=\"\",\"\",IF(Solutions!D33=\"\",\"\",Solutions!D33))","v":""},{"$f":"IF($A33=\"\",\"\",IF(Solutions!E33=\"\",\"\",Solutions!E33))","v":""},{"$f":"IF($A33=\"\",\"\",IF(Solutions!F33=\"\",\"\",Solutions!F33))","v":""},{"$f":"IF(A33=\"v\",Solutions!G33,IF($I$3=TRUE,IF(A31=\"v\",Solutions!G33,\"\"),\"\"))","v":""},{"$f":"IF($A33=\"\",\"\",IF(Solutions!H33=\"\",\"\",Solutions!H33))","v":""},{"$f":"IF($A33=\"\",\"\",IF(Solutions!I33=\"\",\"\",Solutions!I33))","v":""}]
[null,{"$f":"IF(Solutions!B34=\"\",\"\",Solutions!B34)","v":""},{"$f":"IF($A34=\"\",\"\",IF(Solutions!C34=\"\",\"\",Solutions!C34))","v":""},{"$f":"IF($A34=\"\",\"\",IF(Solutions!D34=\"\",\"\",Solutions!D34))","v":""},{"$f":"IF($A34=\"\",\"\",IF(Solutions!E34=\"\",\"\",Solutions!E34))","v":""},{"$f":"IF($A34=\"\",\"\",IF(Solutions!F34=\"\",\"\",Solutions!F34))","v":""},{"$f":"IF(A34=\"v\",Solutions!G34,IF($I$3=TRUE,IF(A32=\"v\",Solutions!G34,\"\"),\"\"))","v":""},{"$f":"IF($A34=\"\",\"\",IF(Solutions!H34=\"\",\"\",Solutions!H34))","v":""},{"$f":"IF($A34=\"\",\"\",IF(Solutions!I34=\"\",\"\",Solutions!I34))","v":""}]
[null,{"$f":"IF(Solutions!B35=\"\",\"\",Solutions!B35)","v":""},{"$f":"IF($A35=\"\",\"\",IF(Solutions!C35=\"\",\"\",Solutions!C35))","v":""},{"$f":"IF($A35=\"\",\"\",IF(Solutions!D35=\"\",\"\",Solutions!D35))","v":""},{"$f":"IF($A35=\"\",\"\",IF(Solutions!E35=\"\",\"\",Solutions!E35))","v":""},{"$f":"IF($A35=\"\",\"\",IF(Solutions!F35=\"\",\"\",Solutions!F35))","v":""},{"$f":"IF(A35=\"v\",Solutions!G35,IF($I$3=TRUE,IF(A33=\"v\",Solutions!G35,\"\"),\"\"))","v":""},{"$f":"IF($A35=\"\",\"\",IF(Solutions!H35=\"\",\"\",Solutions!H35))","v":""},{"$f":"IF($A35=\"\",\"\",IF(Solutions!I35=\"\",\"\",Solutions!I35))","v":""}]
[null,{"$f":"IF(Solutions!B36=\"\",\"\",Solutions!B36)","v":""},{"$f":"IF($A36=\"\",\"\",IF(Solutions!C36=\"\",\"\",Solutions!C36))","v":""},{"$f":"IF($A36=\"\",\"\",IF(Solutions!D36=\"\",\"\",Solutions!D36))","v":""},{"$f":"IF($A36=\"\",\"\",IF(Solutions!E36=\"\",\"\",Solutions!E36))","v":""},{"$f":"IF($A36=\"\",\"\",IF(Solutions!F36=\"\",\"\",Solutions!F36))","v":""},{"$f":"IF(A36=\"v\",Solutions!G36,IF($I$3=TRUE,IF(A34=\"v\",Solutions!G36,\"\"),\"\"))","v":""},{"$f":"IF($A36=\"\",\"\",IF(Solutions!H36=\"\",\"\",Solutions!H36))","v":""},{"$f":"IF($A36=\"\",\"\",IF(Solutions!I36=\"\",\"\",Solutions!I36))","v":""}]
[null,{"$f":"IF(Solutions!B37=\"\",\"\",Solutions!B37)","v":""},{"$f":"IF($A37=\"\",\"\",IF(Solutions!C37=\"\",\"\",Solutions!C37))","v":""},{"$f":"IF($A37=\"\",\"\",IF(Solutions!D37=\"\",\"\",Solutions!D37))","v":""},{"$f":"IF($A37=\"\",\"\",IF(Solutions!E37=\"\",\"\",Solutions!E37))","v":""},{"$f":"IF($A37=\"\",\"\",IF(Solutions!F37=\"\",\"\",Solutions!F37))","v":""},{"$f":"IF(A37=\"v\",Solutions!G37,IF($I$3=TRUE,IF(A35=\"v\",Solutions!G37,\"\"),\"\"))","v":""},{"$f":"IF($A37=\"\",\"\",IF(Solutions!H37=\"\",\"\",Solutions!H37))","v":""},{"$f":"IF($A37=\"\",\"\",IF(Solutions!I37=\"\",\"\",Solutions!I37))","v":""}]
[null,{"$f":"IF(Solutions!B38=\"\",\"\",Solutions!B38)","v":""},{"$f":"IF($A38=\"\",\"\",IF(Solutions!C38=\"\",\"\",Solutions!C38))","v":""},{"$f":"IF($A38=\"\",\"\",IF(Solutions!D38=\"\",\"\",Solutions!D38))","v":""},{"$f":"IF($A38=\"\",\"\",IF(Solutions!E38=\"\",\"\",Solutions!E38))","v":""},{"$f":"IF($A38=\"\",\"\",IF(Solutions!F38=\"\",\"\",Solutions!F38))","v":""},{"$f":"IF(A38=\"v\",Solutions!G38,IF($I$3=TRUE,IF(A36=\"v\",Solutions!G38,\"\"),\"\"))","v":""},{"$f":"IF($A38=\"\",\"\",IF(Solutions!H38=\"\",\"\",Solutions!H38))","v":""},{"$f":"IF($A38=\"\",\"\",IF(Solutions!I38=\"\",\"\",Solutions!I38))","v":""}]
[null,{"$f":"IF(Solutions!B39=\"\",\"\",Solutions!B39)","v":""},{"$f":"IF($A39=\"\",\"\",IF(Solutions!C39=\"\",\"\",Solutions!C39))","v":""},{"$f":"IF($A39=\"\",\"\",IF(Solutions!D39=\"\",\"\",Solutions!D39))","v":""},{"$f":"IF($A39=\"\",\"\",IF(Solutions!E39=\"\",\"\",Solutions!E39))","v":""},{"$f":"IF($A39=\"\",\"\",IF(Solutions!F39=\"\",\"\",Solutions!F39))","v":""},{"$f":"IF(A39=\"v\",Solutions!G39,IF($I$3=TRUE,IF(A37=\"v\",Solutions!G39,\"\"),\"\"))","v":""},{"$f":"IF($A39=\"\",\"\",IF(Solutions!H39=\"\",\"\",Solutions!H39))","v":""},{"$f":"IF($A39=\"\",\"\",IF(Solutions!I39=\"\",\"\",Solutions!I39))","v":""}]
[null,{"$f":"IF(Solutions!B40=\"\",\"\",Solutions!B40)","v":""},{"$f":"IF($A40=\"\",\"\",IF(Solutions!C40=\"\",\"\",Solutions!C40))","v":""},{"$f":"IF($A40=\"\",\"\",IF(Solutions!D40=\"\",\"\",Solutions!D40))","v":""},{"$f":"IF($A40=\"\",\"\",IF(Solutions!E40=\"\",\"\",Solutions!E40))","v":""},{"$f":"IF($A40=\"\",\"\",IF(Solutions!F40=\"\",\"\",Solutions!F40))","v":""},{"$f":"IF(A40=\"v\",Solutions!G40,IF($I$3=TRUE,IF(A38=\"v\",Solutions!G40,\"\"),\"\"))","v":""},{"$f":"IF($A40=\"\",\"\",IF(Solutions!H40=\"\",\"\",Solutions!H40))","v":""},{"$f":"IF($A40=\"\",\"\",IF(Solutions!I40=\"\",\"\",Solutions!I40))","v":""}]
[null,{"$f":"IF(Solutions!B41=\"\",\"\",Solutions!B41)","v":""},{"$f":"IF($A41=\"\",\"\",IF(Solutions!C41=\"\",\"\",Solutions!C41))","v":""},{"$f":"IF($A41=\"\",\"\",IF(Solutions!D41=\"\",\"\",Solutions!D41))","v":""},{"$f":"IF($A41=\"\",\"\",IF(Solutions!E41=\"\",\"\",Solutions!E41))","v":""},{"$f":"IF($A41=\"\",\"\",IF(Solutions!F41=\"\",\"\",Solutions!F41))","v":""},{"$f":"IF(A41=\"v\",Solutions!G41,IF($I$3=TRUE,IF(A39=\"v\",Solutions!G41,\"\"),\"\"))","v":""},{"$f":"IF($A41=\"\",\"\",IF(Solutions!H41=\"\",\"\",Solutions!H41))","v":""},{"$f":"IF($A41=\"\",\"\",IF(Solutions!I41=\"\",\"\",Solutions!I41))","v":""}]
[null,{"$f":"IF(Solutions!B42=\"\",\"\",Solutions!B42)","v":""},{"$f":"IF($A42=\"\",\"\",IF(Solutions!C42=\"\",\"\",Solutions!C42))","v":""},{"$f":"IF($A42=\"\",\"\",IF(Solutions!D42=\"\",\"\",Solutions!D42))","v":""},{"$f":"IF($A42=\"\",\"\",IF(Solutions!E42=\"\",\"\",Solutions!E42))","v":""},{"$f":"IF($A42=\"\",\"\",IF(Solutions!F42=\"\",\"\",Solutions!F42))","v":""},{"$f":"IF(A42=\"v\",Solutions!G42,IF($I$3=TRUE,IF(A40=\"v\",Solutions!G42,\"\"),\"\"))","v":""},{"$f":"IF($A42=\"\",\"\",IF(Solutions!H42=\"\",\"\",Solutions!H42))","v":""},{"$f":"IF($A42=\"\",\"\",IF(Solutions!I42=\"\",\"\",Solutions!I42))","v":""}]
[null,{"$f":"IF(Solutions!B43=\"\",\"\",Solutions!B43)","v":""},{"$f":"IF($A43=\"\",\"\",IF(Solutions!C43=\"\",\"\",Solutions!C43))","v":""},{"$f":"IF($A43=\"\",\"\",IF(Solutions!D43=\"\",\"\",Solutions!D43))","v":""},{"$f":"IF($A43=\"\",\"\",IF(Solutions!E43=\"\",\"\",Solutions!E43))","v":""},{"$f":"IF($A43=\"\",\"\",IF(Solutions!F43=\"\",\"\",Solutions!F43))","v":""},{"$f":"IF(A43=\"v\",Solutions!G43,IF($I$3=TRUE,IF(A41=\"v\",Solutions!G43,\"\"),\"\"))","v":""},{"$f":"IF($A43=\"\",\"\",IF(Solutions!H43=\"\",\"\",Solutions!H43))","v":""},{"$f":"IF($A43=\"\",\"\",IF(Solutions!I43=\"\",\"\",Solutions!I43))","v":""}]
[null,{"$f":"IF(Solutions!B44=\"\",\"\",Solutions!B44)","v":""},{"$f":"IF($A44=\"\",\"\",IF(Solutions!C44=\"\",\"\",Solutions!C44))","v":""},{"$f":"IF($A44=\"\",\"\",IF(Solutions!D44=\"\",\"\",Solutions!D44))","v":""},{"$f":"IF($A44=\"\",\"\",IF(Solutions!E44=\"\",\"\",Solutions!E44))","v":""},{"$f":"IF($A44=\"\",\"\",IF(Solutions!F44=\"\",\"\",Solutions!F44))","v":""},{"$f":"IF(A44=\"v\",Solutions!G44,IF($I$3=TRUE,IF(A42=\"v\",Solutions!G44,\"\"),\"\"))","v":""},{"$f":"IF($A44=\"\",\"\",IF(Solutions!H44=\"\",\"\",Solutions!H44))","v":""},{"$f":"IF($A44=\"\",\"\",IF(Solutions!I44=\"\",\"\",Solutions!I44))","v":""}]
[null,{"$f":"IF(Solutions!B45=\"\",\"\",Solutions!B45)","v":""},{"$f":"IF($A45=\"\",\"\",IF(Solutions!C45=\"\",\"\",Solutions!C45))","v":""},{"$f":"IF($A45=\"\",\"\",IF(Solutions!D45=\"\",\"\",Solutions!D45))","v":""},{"$f":"IF($A45=\"\",\"\",IF(Solutions!E45=\"\",\"\",Solutions!E45))","v":""},{"$f":"IF($A45=\"\",\"\",IF(Solutions!F45=\"\",\"\",Solutions!F45))","v":""},{"$f":"IF(A45=\"v\",Solutions!G45,IF($I$3=TRUE,IF(A43=\"v\",Solutions!G45,\"\"),\"\"))","v":""},{"$f":"IF($A45=\"\",\"\",IF(Solutions!H45=\"\",\"\",Solutions!H45))","v":""},{"$f":"IF($A45=\"\",\"\",IF(Solutions!I45=\"\",\"\",Solutions!I45))","v":""}]
[null,{"$f":"IF(Solutions!B46=\"\",\"\",Solutions!B46)","v":""},{"$f":"IF($A46=\"\",\"\",IF(Solutions!C46=\"\",\"\",Solutions!C46))","v":""},{"$f":"IF($A46=\"\",\"\",IF(Solutions!D46=\"\",\"\",Solutions!D46))","v":""},{"$f":"IF($A46=\"\",\"\",IF(Solutions!E46=\"\",\"\",Solutions!E46))","v":""},{"$f":"IF($A46=\"\",\"\",IF(Solutions!F46=\"\",\"\",Solutions!F46))","v":""},{"$f":"IF(A46=\"v\",Solutions!G46,IF($I$3=TRUE,IF(A44=\"v\",Solutions!G46,\"\"),\"\"))","v":""},{"$f":"IF($A46=\"\",\"\",IF(Solutions!H46=\"\",\"\",Solutions!H46))","v":""},{"$f":"IF($A46=\"\",\"\",IF(Solutions!I46=\"\",\"\",Solutions!I46))","v":""}]
[null,{"$f":"IF(Solutions!B47=\"\",\"\",Solutions!B47)","v":""},{"$f":"IF($A47=\"\",\"\",IF(Solutions!C47=\"\",\"\",Solutions!C47))","v":""},{"$f":"IF($A47=\"\",\"\",IF(Solutions!D47=\"\",\"\",Solutions!D47))","v":""},{"$f":"IF($A47=\"\",\"\",IF(Solutions!E47=\"\",\"\",Solutions!E47))","v":""},{"$f":"IF($A47=\"\",\"\",IF(Solutions!F47=\"\",\"\",Solutions!F47))","v":""},{"$f":"IF(A47=\"v\",Solutions!G47,IF($I$3=TRUE,IF(A45=\"v\",Solutions!G47,\"\"),\"\"))","v":""},{"$f":"IF($A47=\"\",\"\",IF(Solutions!H47=\"\",\"\",Solutions!H47))","v":""},{"$f":"IF($A47=\"\",\"\",IF(Solutions!I47=\"\",\"\",Solutions!I47))","v":""}]
[null,{"$f":"IF(Solutions!B48=\"\",\"\",Solutions!B48)","v":""},{"$f":"IF($A48=\"\",\"\",IF(Solutions!C48=\"\",\"\",Solutions!C48))","v":""},{"$f":"IF($A48=\"\",\"\",IF(Solutions!D48=\"\",\"\",Solutions!D48))","v":""},{"$f":"IF($A48=\"\",\"\",IF(Solutions!E48=\"\",\"\",Solutions!E48))","v":""},{"$f":"IF($A48=\"\",\"\",IF(Solutions!F48=\"\",\"\",Solutions!F48))","v":""},{"$f":"IF(A48=\"v\",Solutions!G48,IF($I$3=TRUE,IF(A46=\"v\",Solutions!G48,\"\"),\"\"))","v":""},{"$f":"IF($A48=\"\",\"\",IF(Solutions!H48=\"\",\"\",Solutions!H48))","v":""},{"$f":"IF($A48=\"\",\"\",IF(Solutions!I48=\"\",\"\",Solutions!I48))","v":""}]
[null,{"$f":"IF(Solutions!B49=\"\",\"\",Solutions!B49)","v":""},{"$f":"IF($A49=\"\",\"\",IF(Solutions!C49=\"\",\"\",Solutions!C49))","v":""},{"$f":"IF($A49=\"\",\"\",IF(Solutions!D49=\"\",\"\",Solutions!D49))","v":""},{"$f":"IF($A49=\"\",\"\",IF(Solutions!E49=\"\",\"\",Solutions!E49))","v":""},{"$f":"IF($A49=\"\",\"\",IF(Solutions!F49=\"\",\"\",Solutions!F49))","v":""},{"$f":"IF(A49=\"v\",Solutions!G49,IF($I$3=TRUE,IF(A47=\"v\",Solutions!G49,\"\"),\"\"))","v":""},{"$f":"IF($A49=\"\",\"\",IF(Solutions!H49=\"\",\"\",Solutions!H49))","v":""},{"$f":"IF($A49=\"\",\"\",IF(Solutions!I49=\"\",\"\",Solutions!I49))","v":""}]
[null,{"$f":"IF(Solutions!B50=\"\",\"\",Solutions!B50)","v":""},{"$f":"IF($A50=\"\",\"\",IF(Solutions!C50=\"\",\"\",Solutions!C50))","v":""},{"$f":"IF($A50=\"\",\"\",IF(Solutions!D50=\"\",\"\",Solutions!D50))","v":""},{"$f":"IF($A50=\"\",\"\",IF(Solutions!E50=\"\",\"\",Solutions!E50))","v":""},{"$f":"IF($A50=\"\",\"\",IF(Solutions!F50=\"\",\"\",Solutions!F50))","v":""},{"$f":"IF(A50=\"v\",Solutions!G50,IF($I$3=TRUE,IF(A48=\"v\",Solutions!G50,\"\"),\"\"))","v":""},{"$f":"IF($A50=\"\",\"\",IF(Solutions!H50=\"\",\"\",Solutions!H50))","v":""},{"$f":"IF($A50=\"\",\"\",IF(Solutions!I50=\"\",\"\",Solutions!I50))","v":""}]
[null,{"$f":"IF(Solutions!B51=\"\",\"\",Solutions!B51)","v":""},{"$f":"IF($A51=\"\",\"\",IF(Solutions!C51=\"\",\"\",Solutions!C51))","v":""},{"$f":"IF($A51=\"\",\"\",IF(Solutions!D51=\"\",\"\",Solutions!D51))","v":""},{"$f":"IF($A51=\"\",\"\",IF(Solutions!E51=\"\",\"\",Solutions!E51))","v":""},{"$f":"IF($A51=\"\",\"\",IF(Solutions!F51=\"\",\"\",Solutions!F51))","v":""},{"$f":"IF(A51=\"v\",Solutions!G51,IF($I$3=TRUE,IF(A49=\"v\",Solutions!G51,\"\"),\"\"))","v":""},{"$f":"IF($A51=\"\",\"\",IF(Solutions!H51=\"\",\"\",Solutions!H51))","v":""},{"$f":"IF($A51=\"\",\"\",IF(Solutions!I51=\"\",\"\",Solutions!I51))","v":""}]
[null,{"$f":"IF(Solutions!B52=\"\",\"\",Solutions!B52)","v":""},{"$f":"IF($A52=\"\",\"\",IF(Solutions!C52=\"\",\"\",Solutions!C52))","v":""},{"$f":"IF($A52=\"\",\"\",IF(Solutions!D52=\"\",\"\",Solutions!D52))","v":""},{"$f":"IF($A52=\"\",\"\",IF(Solutions!E52=\"\",\"\",Solutions!E52))","v":""},{"$f":"IF($A52=\"\",\"\",IF(Solutions!F52=\"\",\"\",Solutions!F52))","v":""},{"$f":"IF(A52=\"v\",Solutions!G52,IF($I$3=TRUE,IF(A50=\"v\",Solutions!G52,\"\"),\"\"))","v":""},{"$f":"IF($A52=\"\",\"\",IF(Solutions!H52=\"\",\"\",Solutions!H52))","v":""},{"$f":"IF($A52=\"\",\"\",IF(Solutions!I52=\"\",\"\",Solutions!I52))","v":""}]
[null,{"$f":"IF(Solutions!B53=\"\",\"\",Solutions!B53)","v":""},{"$f":"IF($A53=\"\",\"\",IF(Solutions!C53=\"\",\"\",Solutions!C53))","v":""},{"$f":"IF($A53=\"\",\"\",IF(Solutions!D53=\"\",\"\",Solutions!D53))","v":""},{"$f":"IF($A53=\"\",\"\",IF(Solutions!E53=\"\",\"\",Solutions!E53))","v":""},{"$f":"IF($A53=\"\",\"\",IF(Solutions!F53=\"\",\"\",Solutions!F53))","v":""},{"$f":"IF(A53=\"v\",Solutions!G53,IF($I$3=TRUE,IF(A51=\"v\",Solutions!G53,\"\"),\"\"))","v":""},{"$f":"IF($A53=\"\",\"\",IF(Solutions!H53=\"\",\"\",Solutions!H53))","v":""},{"$f":"IF($A53=\"\",\"\",IF(Solutions!I53=\"\",\"\",Solutions!I53))","v":""}]
[null,{"$f":"IF(Solutions!B54=\"\",\"\",Solutions!B54)","v":""},{"$f":"IF($A54=\"\",\"\",IF(Solutions!C54=\"\",\"\",Solutions!C54))","v":""},{"$f":"IF($A54=\"\",\"\",IF(Solutions!D54=\"\",\"\",Solutions!D54))","v":""},{"$f":"IF($A54=\"\",\"\",IF(Solutions!E54=\"\",\"\",Solutions!E54))","v":""},{"$f":"IF($A54=\"\",\"\",IF(Solutions!F54=\"\",\"\",Solutions!F54))","v":""},{"$f":"IF(A54=\"v\",Solutions!G54,IF($I$3=TRUE,IF(A52=\"v\",Solutions!G54,\"\"),\"\"))","v":""},{"$f":"IF($A54=\"\",\"\",IF(Solutions!H54=\"\",\"\",Solutions!H54))","v":""},{"$f":"IF($A54=\"\",\"\",IF(Solutions!I54=\"\",\"\",Solutions!I54))","v":""}]
[null,{"$f":"IF(Solutions!B55=\"\",\"\",Solutions!B55)","v":""},{"$f":"IF($A55=\"\",\"\",IF(Solutions!C55=\"\",\"\",Solutions!C55))","v":""},{"$f":"IF($A55=\"\",\"\",IF(Solutions!D55=\"\",\"\",Solutions!D55))","v":""},{"$f":"IF($A55=\"\",\"\",IF(Solutions!E55=\"\",\"\",Solutions!E55))","v":""},{"$f":"IF($A55=\"\",\"\",IF(Solutions!F55=\"\",\"\",Solutions!F55))","v":""},{"$f":"IF(A55=\"v\",Solutions!G55,IF($I$3=TRUE,IF(A53=\"v\",Solutions!G55,\"\"),\"\"))","v":""},{"$f":"IF($A55=\"\",\"\",IF(Solutions!H55=\"\",\"\",Solutions!H55))","v":""},{"$f":"IF($A55=\"\",\"\",IF(Solutions!I55=\"\",\"\",Solutions!I55))","v":""}]
[null,{"$f":"IF(Solutions!B56=\"\",\"\",Solutions!B56)","v":""},{"$f":"IF($A56=\"\",\"\",IF(Solutions!C56=\"\",\"\",Solutions!C56))","v":""},{"$f":"IF($A56=\"\",\"\",IF(Solutions!D56=\"\",\"\",Solutions!D56))","v":""},{"$f":"IF($A56=\"\",\"\",IF(Solutions!E56=\"\",\"\",Solutions!E56))","v":""},{"$f":"IF($A56=\"\",\"\",IF(Solutions!F56=\"\",\"\",Solutions!F56))","v":""},{"$f":"IF(A56=\"v\",Solutions!G56,IF($I$3=TRUE,IF(A54=\"v\",Solutions!G56,\"\"),\"\"))","v":""},{"$f":"IF($A56=\"\",\"\",IF(Solutions!H56=\"\",\"\",Solutions!H56))","v":""},{"$f":"IF($A56=\"\",\"\",IF(Solutions!I56=\"\",\"\",Solutions!I56))","v":""}]
[null,{"$f":"IF(Solutions!B57=\"\",\"\",Solutions!B57)","v":""},{"$f":"IF($A57=\"\",\"\",IF(Solutions!C57=\"\",\"\",Solutions!C57))","v":""},{"$f":"IF($A57=\"\",\"\",IF(Solutions!D57=\"\",\"\",Solutions!D57))","v":""},{"$f":"IF($A57=\"\",\"\",IF(Solutions!E57=\"\",\"\",Solutions!E57))","v":""},{"$f":"IF($A57=\"\",\"\",IF(Solutions!F57=\"\",\"\",Solutions!F57))","v":""},{"$f":"IF(A57=\"v\",Solutions!G57,IF($I$3=TRUE,IF(A55=\"v\",Solutions!G57,\"\"),\"\"))","v":""},{"$f":"IF($A57=\"\",\"\",IF(Solutions!H57=\"\",\"\",Solutions!H57))","v":""},{"$f":"IF($A57=\"\",\"\",IF(Solutions!I57=\"\",\"\",Solutions!I57))","v":""}]
[null,{"$f":"IF(Solutions!B58=\"\",\"\",Solutions!B58)","v":""},{"$f":"IF($A58=\"\",\"\",IF(Solutions!C58=\"\",\"\",Solutions!C58))","v":""},{"$f":"IF($A58=\"\",\"\",IF(Solutions!D58=\"\",\"\",Solutions!D58))","v":""},{"$f":"IF($A58=\"\",\"\",IF(Solutions!E58=\"\",\"\",Solutions!E58))","v":""},{"$f":"IF($A58=\"\",\"\",IF(Solutions!F58=\"\",\"\",Solutions!F58))","v":""},{"$f":"IF(A58=\"v\",Solutions!G58,IF($I$3=TRUE,IF(A56=\"v\",Solutions!G58,\"\"),\"\"))","v":""},{"$f":"IF($A58=\"\",\"\",IF(Solutions!H58=\"\",\"\",Solutions!H58))","v":""},{"$f":"IF($A58=\"\",\"\",IF(Solutions!I58=\"\",\"\",Solutions!I58))","v":""}]
[null,{"$f":"IF(Solutions!B59=\"\",\"\",Solutions!B59)","v":""},{"$f":"IF($A59=\"\",\"\",IF(Solutions!C59=\"\",\"\",Solutions!C59))","v":""},{"$f":"IF($A59=\"\",\"\",IF(Solutions!D59=\"\",\"\",Solutions!D59))","v":""},{"$f":"IF($A59=\"\",\"\",IF(Solutions!E59=\"\",\"\",Solutions!E59))","v":""},{"$f":"IF($A59=\"\",\"\",IF(Solutions!F59=\"\",\"\",Solutions!F59))","v":""},{"$f":"IF(A59=\"v\",Solutions!G59,IF($I$3=TRUE,IF(A57=\"v\",Solutions!G59,\"\"),\"\"))","v":""},{"$f":"IF($A59=\"\",\"\",IF(Solutions!H59=\"\",\"\",Solutions!H59))","v":""},{"$f":"IF($A59=\"\",\"\",IF(Solutions!I59=\"\",\"\",Solutions!I59))","v":""}]
[null,{"$f":"IF(Solutions!B60=\"\",\"\",Solutions!B60)","v":""},{"$f":"IF($A60=\"\",\"\",IF(Solutions!C60=\"\",\"\",Solutions!C60))","v":""},{"$f":"IF($A60=\"\",\"\",IF(Solutions!D60=\"\",\"\",Solutions!D60))","v":""},{"$f":"IF($A60=\"\",\"\",IF(Solutions!E60=\"\",\"\",Solutions!E60))","v":""},{"$f":"IF($A60=\"\",\"\",IF(Solutions!F60=\"\",\"\",Solutions!F60))","v":""},{"$f":"IF(A60=\"v\",Solutions!G60,IF($I$3=TRUE,IF(A58=\"v\",Solutions!G60,\"\"),\"\"))","v":""},{"$f":"IF($A60=\"\",\"\",IF(Solutions!H60=\"\",\"\",Solutions!H60))","v":""},{"$f":"IF($A60=\"\",\"\",IF(Solutions!I60=\"\",\"\",Solutions!I60))","v":""}]
[null,{"$f":"IF(Solutions!B61=\"\",\"\",Solutions!B61)","v":""},{"$f":"IF($A61=\"\",\"\",IF(Solutions!C61=\"\",\"\",Solutions!C61))","v":""},{"$f":"IF($A61=\"\",\"\",IF(Solutions!D61=\"\",\"\",Solutions!D61))","v":""},{"$f":"IF($A61=\"\",\"\",IF(Solutions!E61=\"\",\"\",Solutions!E61))","v":""},{"$f":"IF($A61=\"\",\"\",IF(Solutions!F61=\"\",\"\",Solutions!F61))","v":""},{"$f":"IF(A61=\"v\",Solutions!G61,IF($I$3=TRUE,IF(A59=\"v\",Solutions!G61,\"\"),\"\"))","v":""},{"$f":"IF($A61=\"\",\"\",IF(Solutions!H61=\"\",\"\",Solutions!H61))","v":""},{"$f":"IF($A61=\"\",\"\",IF(Solutions!I61=\"\",\"\",Solutions!I61))","v":""}]
[null,{"$f":"IF(Solutions!B62=\"\",\"\",Solutions!B62)","v":""},{"$f":"IF($A62=\"\",\"\",IF(Solutions!C62=\"\",\"\",Solutions!C62))","v":""},{"$f":"IF($A62=\"\",\"\",IF(Solutions!D62=\"\",\"\",Solutions!D62))","v":""},{"$f":"IF($A62=\"\",\"\",IF(Solutions!E62=\"\",\"\",Solutions!E62))","v":""},{"$f":"IF($A62=\"\",\"\",IF(Solutions!F62=\"\",\"\",Solutions!F62))","v":""},{"$f":"IF(A62=\"v\",Solutions!G62,IF($I$3=TRUE,IF(A60=\"v\",Solutions!G62,\"\"),\"\"))","v":""},{"$f":"IF($A62=\"\",\"\",IF(Solutions!H62=\"\",\"\",Solutions!H62))","v":""},{"$f":"IF($A62=\"\",\"\",IF(Solutions!I62=\"\",\"\",Solutions!I62))","v":""}]
[null,{"$f":"IF(Solutions!B63=\"\",\"\",Solutions!B63)","v":""},{"$f":"IF($A63=\"\",\"\",IF(Solutions!C63=\"\",\"\",Solutions!C63))","v":""},{"$f":"IF($A63=\"\",\"\",IF(Solutions!D63=\"\",\"\",Solutions!D63))","v":""},{"$f":"IF($A63=\"\",\"\",IF(Solutions!E63=\"\",\"\",Solutions!E63))","v":""},{"$f":"IF($A63=\"\",\"\",IF(Solutions!F63=\"\",\"\",Solutions!F63))","v":""},{"$f":"IF(A63=\"v\",Solutions!G63,IF($I$3=TRUE,IF(A61=\"v\",Solutions!G63,\"\"),\"\"))","v":""},{"$f":"IF($A63=\"\",\"\",IF(Solutions!H63=\"\",\"\",Solutions!H63))","v":""},{"$f":"IF($A63=\"\",\"\",IF(Solutions!I63=\"\",\"\",Solutions!I63))","v":""}]
[null,{"$f":"IF(Solutions!B64=\"\",\"\",Solutions!B64)","v":""},{"$f":"IF($A64=\"\",\"\",IF(Solutions!C64=\"\",\"\",Solutions!C64))","v":""},{"$f":"IF($A64=\"\",\"\",IF(Solutions!D64=\"\",\"\",Solutions!D64))","v":""},{"$f":"IF($A64=\"\",\"\",IF(Solutions!E64=\"\",\"\",Solutions!E64))","v":""},{"$f":"IF($A64=\"\",\"\",IF(Solutions!F64=\"\",\"\",Solutions!F64))","v":""},{"$f":"IF(A64=\"v\",Solutions!G64,IF($I$3=TRUE,IF(A62=\"v\",Solutions!G64,\"\"),\"\"))","v":""},{"$f":"IF($A64=\"\",\"\",IF(Solutions!H64=\"\",\"\",Solutions!H64))","v":""},{"$f":"IF($A64=\"\",\"\",IF(Solutions!I64=\"\",\"\",Solutions!I64))","v":""}]
[null,{"$f":"IF(Solutions!B65=\"\",\"\",Solutions!B65)","v":""},{"$f":"IF($A65=\"\",\"\",IF(Solutions!C65=\"\",\"\",Solutions!C65))","v":""},{"$f":"IF($A65=\"\",\"\",IF(Solutions!D65=\"\",\"\",Solutions!D65))","v":""},{"$f":"IF($A65=\"\",\"\",IF(Solutions!E65=\"\",\"\",Solutions!E65))","v":""},{"$f":"IF($A65=\"\",\"\",IF(Solutions!F65=\"\",\"\",Solutions!F65))","v":""},{"$f":"IF(A65=\"v\",Solutions!G65,IF($I$3=TRUE,IF(A63=\"v\",Solutions!G65,\"\"),\"\"))","v":""},{"$f":"IF($A65=\"\",\"\",IF(Solutions!H65=\"\",\"\",Solutions!H65))","v":""},{"$f":"IF($A65=\"\",\"\",IF(Solutions!I65=\"\",\"\",Solutions!I65))","v":""}]
[null,{"$f":"IF(Solutions!B66=\"\",\"\",Solutions!B66)","v":""},{"$f":"IF($A66=\"\",\"\",IF(Solutions!C66=\"\",\"\",Solutions!C66))","v":""},{"$f":"IF($A66=\"\",\"\",IF(Solutions!D66=\"\",\"\",Solutions!D66))","v":""},{"$f":"IF($A66=\"\",\"\",IF(Solutions!E66=\"\",\"\",Solutions!E66))","v":""},{"$f":"IF($A66=\"\",\"\",IF(Solutions!F66=\"\",\"\",Solutions!F66))","v":""},{"$f":"IF(A66=\"v\",Solutions!G66,IF($I$3=TRUE,IF(A64=\"v\",Solutions!G66,\"\"),\"\"))","v":""},{"$f":"IF($A66=\"\",\"\",IF(Solutions!H66=\"\",\"\",Solutions!H66))","v":""},{"$f":"IF($A66=\"\",\"\",IF(Solutions!I66=\"\",\"\",Solutions!I66))","v":""}]
[null,{"$f":"IF(Solutions!B67=\"\",\"\",Solutions!B67)","v":""},{"$f":"IF($A67=\"\",\"\",IF(Solutions!C67=\"\",\"\",Solutions!C67))","v":""},{"$f":"IF($A67=\"\",\"\",IF(Solutions!D67=\"\",\"\",Solutions!D67))","v":""},{"$f":"IF($A67=\"\",\"\",IF(Solutions!E67=\"\",\"\",Solutions!E67))","v":""},{"$f":"IF($A67=\"\",\"\",IF(Solutions!F67=\"\",\"\",Solutions!F67))","v":""},{"$f":"IF(A67=\"v\",Solutions!G67,IF($I$3=TRUE,IF(A65=\"v\",Solutions!G67,\"\"),\"\"))","v":""},{"$f":"IF($A67=\"\",\"\",IF(Solutions!H67=\"\",\"\",Solutions!H67))","v":""},{"$f":"IF($A67=\"\",\"\",IF(Solutions!I67=\"\",\"\",Solutions!I67))","v":""}]
[null,{"$f":"IF(Solutions!B68=\"\",\"\",Solutions!B68)","v":""},{"$f":"IF($A68=\"\",\"\",IF(Solutions!C68=\"\",\"\",Solutions!C68))","v":""},{"$f":"IF($A68=\"\",\"\",IF(Solutions!D68=\"\",\"\",Solutions!D68))","v":""},{"$f":"IF($A68=\"\",\"\",IF(Solutions!E68=\"\",\"\",Solutions!E68))","v":""},{"$f":"IF($A68=\"\",\"\",IF(Solutions!F68=\"\",\"\",Solutions!F68))","v":""},{"$f":"IF(A68=\"v\",Solutions!G68,IF($I$3=TRUE,IF(A66=\"v\",Solutions!G68,\"\"),\"\"))","v":""},{"$f":"IF($A68=\"\",\"\",IF(Solutions!H68=\"\",\"\",Solutions!H68))","v":""},{"$f":"IF($A68=\"\",\"\",IF(Solutions!I68=\"\",\"\",Solutions!I68))","v":""}]
[null,{"$f":"IF(Solutions!B69=\"\",\"\",Solutions!B69)","v":""},{"$f":"IF($A69=\"\",\"\",IF(Solutions!C69=\"\",\"\",Solutions!C69))","v":""},{"$f":"IF($A69=\"\",\"\",IF(Solutions!D69=\"\",\"\",Solutions!D69))","v":""},{"$f":"IF($A69=\"\",\"\",IF(Solutions!E69=\"\",\"\",Solutions!E69))","v":""},{"$f":"IF($A69=\"\",\"\",IF(Solutions!F69=\"\",\"\",Solutions!F69))","v":""},{"$f":"IF(A69=\"v\",Solutions!G69,IF($I$3=TRUE,IF(A67=\"v\",Solutions!G69,\"\"),\"\"))","v":""},{"$f":"IF($A69=\"\",\"\",IF(Solutions!H69=\"\",\"\",Solutions!H69))","v":""},{"$f":"IF($A69=\"\",\"\",IF(Solutions!I69=\"\",\"\",Solutions!I69))","v":""}]
[null,{"$f":"IF(Solutions!B70=\"\",\"\",Solutions!B70)","v":""},{"$f":"IF($A70=\"\",\"\",IF(Solutions!C70=\"\",\"\",Solutions!C70))","v":""},{"$f":"IF($A70=\"\",\"\",IF(Solutions!D70=\"\",\"\",Solutions!D70))","v":""},{"$f":"IF($A70=\"\",\"\",IF(Solutions!E70=\"\",\"\",Solutions!E70))","v":""},{"$f":"IF($A70=\"\",\"\",IF(Solutions!F70=\"\",\"\",Solutions!F70))","v":""},{"$f":"IF(A70=\"v\",Solutions!G70,IF($I$3=TRUE,IF(A68=\"v\",Solutions!G70,\"\"),\"\"))","v":""},{"$f":"IF($A70=\"\",\"\",IF(Solutions!H70=\"\",\"\",Solutions!H70))","v":""},{"$f":"IF($A70=\"\",\"\",IF(Solutions!I70=\"\",\"\",Solutions!I70))","v":""}]
[null,{"$f":"IF(Solutions!B71=\"\",\"\",Solutions!B71)","v":""},{"$f":"IF($A71=\"\",\"\",IF(Solutions!C71=\"\",\"\",Solutions!C71))","v":""},{"$f":"IF($A71=\"\",\"\",IF(Solutions!D71=\"\",\"\",Solutions!D71))","v":""},{"$f":"IF($A71=\"\",\"\",IF(Solutions!E71=\"\",\"\",Solutions!E71))","v":""},{"$f":"IF($A71=\"\",\"\",IF(Solutions!F71=\"\",\"\",Solutions!F71))","v":""},{"$f":"IF(A71=\"v\",Solutions!G71,IF($I$3=TRUE,IF(A69=\"v\",Solutions!G71,\"\"),\"\"))","v":""},{"$f":"IF($A71=\"\",\"\",IF(Solutions!H71=\"\",\"\",Solutions!H71))","v":""},{"$f":"IF($A71=\"\",\"\",IF(Solutions!I71=\"\",\"\",Solutions!I71))","v":""}]
[null,{"$f":"IF(Solutions!B72=\"\",\"\",Solutions!B72)","v":""},{"$f":"IF($A72=\"\",\"\",IF(Solutions!C72=\"\",\"\",Solutions!C72))","v":""},{"$f":"IF($A72=\"\",\"\",IF(Solutions!D72=\"\",\"\",Solutions!D72))","v":""},{"$f":"IF($A72=\"\",\"\",IF(Solutions!E72=\"\",\"\",Solutions!E72))","v":""},{"$f":"IF($A72=\"\",\"\",IF(Solutions!F72=\"\",\"\",Solutions!F72))","v":""},{"$f":"IF(A72=\"v\",Solutions!G72,IF($I$3=TRUE,IF(A70=\"v\",Solutions!G72,\"\"),\"\"))","v":""},{"$f":"IF($A72=\"\",\"\",IF(Solutions!H72=\"\",\"\",Solutions!H72))","v":""},{"$f":"IF($A72=\"\",\"\",IF(Solutions!I72=\"\",\"\",Solutions!I72))","v":""}]
[null,{"$f":"IF(Solutions!B73=\"\",\"\",Solutions!B73)","v":""},{"$f":"IF($A73=\"\",\"\",IF(Solutions!C73=\"\",\"\",Solutions!C73))","v":""},{"$f":"IF($A73=\"\",\"\",IF(Solutions!D73=\"\",\"\",Solutions!D73))","v":""},{"$f":"IF($A73=\"\",\"\",IF(Solutions!E73=\"\",\"\",Solutions!E73))","v":""},{"$f":"IF($A73=\"\",\"\",IF(Solutions!F73=\"\",\"\",Solutions!F73))","v":""},{"$f":"IF(A73=\"v\",Solutions!G73,IF($I$3=TRUE,IF(A71=\"v\",Solutions!G73,\"\"),\"\"))","v":""},{"$f":"IF($A73=\"\",\"\",IF(Solutions!H73=\"\",\"\",Solutions!H73))","v":""},{"$f":"IF($A73=\"\",\"\",IF(Solutions!I73=\"\",\"\",Solutions!I73))","v":""}]
[null,{"$f":"IF(Solutions!B74=\"\",\"\",Solutions!B74)","v":""},{"$f":"IF($A74=\"\",\"\",IF(Solutions!C74=\"\",\"\",Solutions!C74))","v":""},{"$f":"IF($A74=\"\",\"\",IF(Solutions!D74=\"\",\"\",Solutions!D74))","v":""},{"$f":"IF($A74=\"\",\"\",IF(Solutions!E74=\"\",\"\",Solutions!E74))","v":""},{"$f":"IF($A74=\"\",\"\",IF(Solutions!F74=\"\",\"\",Solutions!F74))","v":""},{"$f":"IF(A74=\"v\",Solutions!G74,IF($I$3=TRUE,IF(A72=\"v\",Solutions!G74,\"\"),\"\"))","v":""},{"$f":"IF($A74=\"\",\"\",IF(Solutions!H74=\"\",\"\",Solutions!H74))","v":""},{"$f":"IF($A74=\"\",\"\",IF(Solutions!I74=\"\",\"\",Solutions!I74))","v":""}]
[null,{"$f":"IF(Solutions!B75=\"\",\"\",Solutions!B75)","v":""},{"$f":"IF($A75=\"\",\"\",IF(Solutions!C75=\"\",\"\",Solutions!C75))","v":""},{"$f":"IF($A75=\"\",\"\",IF(Solutions!D75=\"\",\"\",Solutions!D75))","v":""},{"$f":"IF($A75=\"\",\"\",IF(Solutions!E75=\"\",\"\",Solutions!E75))","v":""},{"$f":"IF($A75=\"\",\"\",IF(Solutions!F75=\"\",\"\",Solutions!F75))","v":""},{"$f":"IF(A75=\"v\",Solutions!G75,IF($I$3=TRUE,IF(A73=\"v\",Solutions!G75,\"\"),\"\"))","v":""},{"$f":"IF($A75=\"\",\"\",IF(Solutions!H75=\"\",\"\",Solutions!H75))","v":""},{"$f":"IF($A75=\"\",\"\",IF(Solutions!I75=\"\",\"\",Solutions!I75))","v":""}]
[null,{"$f":"IF(Solutions!B76=\"\",\"\",Solutions!B76)","v":""},{"$f":"IF($A76=\"\",\"\",IF(Solutions!C76=\"\",\"\",Solutions!C76))","v":""},{"$f":"IF($A76=\"\",\"\",IF(Solutions!D76=\"\",\"\",Solutions!D76))","v":""},{"$f":"IF($A76=\"\",\"\",IF(Solutions!E76=\"\",\"\",Solutions!E76))","v":""},{"$f":"IF($A76=\"\",\"\",IF(Solutions!F76=\"\",\"\",Solutions!F76))","v":""},{"$f":"IF(A76=\"v\",Solutions!G76,IF($I$3=TRUE,IF(A74=\"v\",Solutions!G76,\"\"),\"\"))","v":""},{"$f":"IF($A76=\"\",\"\",IF(Solutions!H76=\"\",\"\",Solutions!H76))","v":""},{"$f":"IF($A76=\"\",\"\",IF(Solutions!I76=\"\",\"\",Solutions!I76))","v":""}]
[null,{"$f":"IF(Solutions!B77=\"\",\"\",Solutions!B77)","v":""},{"$f":"IF($A77=\"\",\"\",IF(Solutions!C77=\"\",\"\",Solutions!C77))","v":""},{"$f":"IF($A77=\"\",\"\",IF(Solutions!D77=\"\",\"\",Solutions!D77))","v":""},{"$f":"IF($A77=\"\",\"\",IF(Solutions!E77=\"\",\"\",Solutions!E77))","v":""},{"$f":"IF($A77=\"\",\"\",IF(Solutions!F77=\"\",\"\",Solutions!F77))","v":""},{"$f":"IF(A77=\"v\",Solutions!G77,IF($I$3=TRUE,IF(A75=\"v\",Solutions!G77,\"\"),\"\"))","v":""},{"$f":"IF($A77=\"\",\"\",IF(Solutions!H77=\"\",\"\",Solutions!H77))","v":""},{"$f":"IF($A77=\"\",\"\",IF(Solutions!I77=\"\",\"\",Solutions!I77))","v":""}]
[null,{"$f":"IF(Solutions!B78=\"\",\"\",Solutions!B78)","v":""},{"$f":"IF($A78=\"\",\"\",IF(Solutions!C78=\"\",\"\",Solutions!C78))","v":""},{"$f":"IF($A78=\"\",\"\",IF(Solutions!D78=\"\",\"\",Solutions!D78))","v":""},{"$f":"IF($A78=\"\",\"\",IF(Solutions!E78=\"\",\"\",Solutions!E78))","v":""},{"$f":"IF($A78=\"\",\"\",IF(Solutions!F78=\"\",\"\",Solutions!F78))","v":""},{"$f":"IF(A78=\"v\",Solutions!G78,IF($I$3=TRUE,IF(A76=\"v\",Solutions!G78,\"\"),\"\"))","v":""},{"$f":"IF($A78=\"\",\"\",IF(Solutions!H78=\"\",\"\",Solutions!H78))","v":""},{"$f":"IF($A78=\"\",\"\",IF(Solutions!I78=\"\",\"\",Solutions!I78))","v":""}]
[null,{"$f":"IF(Solutions!B79=\"\",\"\",Solutions!B79)","v":""},{"$f":"IF($A79=\"\",\"\",IF(Solutions!C79=\"\",\"\",Solutions!C79))","v":""},{"$f":"IF($A79=\"\",\"\",IF(Solutions!D79=\"\",\"\",Solutions!D79))","v":""},{"$f":"IF($A79=\"\",\"\",IF(Solutions!E79=\"\",\"\",Solutions!E79))","v":""},{"$f":"IF($A79=\"\",\"\",IF(Solutions!F79=\"\",\"\",Solutions!F79))","v":""},{"$f":"IF(A79=\"v\",Solutions!G79,IF($I$3=TRUE,IF(A77=\"v\",Solutions!G79,\"\"),\"\"))","v":""},{"$f":"IF($A79=\"\",\"\",IF(Solutions!H79=\"\",\"\",Solutions!H79))","v":""},{"$f":"IF($A79=\"\",\"\",IF(Solutions!I79=\"\",\"\",Solutions!I79))","v":""}]
[null,{"$f":"IF(Solutions!B80=\"\",\"\",Solutions!B80)","v":""},{"$f":"IF($A80=\"\",\"\",IF(Solutions!C80=\"\",\"\",Solutions!C80))","v":""},{"$f":"IF($A80=\"\",\"\",IF(Solutions!D80=\"\",\"\",Solutions!D80))","v":""},{"$f":"IF($A80=\"\",\"\",IF(Solutions!E80=\"\",\"\",Solutions!E80))","v":""},{"$f":"IF($A80=\"\",\"\",IF(Solutions!F80=\"\",\"\",Solutions!F80))","v":""},{"$f":"IF(A80=\"v\",Solutions!G80,IF($I$3=TRUE,IF(A78=\"v\",Solutions!G80,\"\"),\"\"))","v":""},{"$f":"IF($A80=\"\",\"\",IF(Solutions!H80=\"\",\"\",Solutions!H80))","v":""},{"$f":"IF($A80=\"\",\"\",IF(Solutions!I80=\"\",\"\",Solutions!I80))","v":""}]
[null,{"$f":"IF(Solutions!B81=\"\",\"\",Solutions!B81)","v":""},{"$f":"IF($A81=\"\",\"\",IF(Solutions!C81=\"\",\"\",Solutions!C81))","v":""},{"$f":"IF($A81=\"\",\"\",IF(Solutions!D81=\"\",\"\",Solutions!D81))","v":""},{"$f":"IF($A81=\"\",\"\",IF(Solutions!E81=\"\",\"\",Solutions!E81))","v":""},{"$f":"IF($A81=\"\",\"\",IF(Solutions!F81=\"\",\"\",Solutions!F81))","v":""},{"$f":"IF(A81=\"v\",Solutions!G81,IF($I$3=TRUE,IF(A79=\"v\",Solutions!G81,\"\"),\"\"))","v":""},{"$f":"IF($A81=\"\",\"\",IF(Solutions!H81=\"\",\"\",Solutions!H81))","v":""},{"$f":"IF($A81=\"\",\"\",IF(Solutions!I81=\"\",\"\",Solutions!I81))","v":""}]
[null,{"$f":"IF(Solutions!B82=\"\",\"\",Solutions!B82)","v":""},{"$f":"IF($A82=\"\",\"\",IF(Solutions!C82=\"\",\"\",Solutions!C82))","v":""},{"$f":"IF($A82=\"\",\"\",IF(Solutions!D82=\"\",\"\",Solutions!D82))","v":""},{"$f":"IF($A82=\"\",\"\",IF(Solutions!E82=\"\",\"\",Solutions!E82))","v":""},{"$f":"IF($A82=\"\",\"\",IF(Solutions!F82=\"\",\"\",Solutions!F82))","v":""},{"$f":"IF(A82=\"v\",Solutions!G82,IF($I$3=TRUE,IF(A80=\"v\",Solutions!G82,\"\"),\"\"))","v":""},{"$f":"IF($A82=\"\",\"\",IF(Solutions!H82=\"\",\"\",Solutions!H82))","v":""},{"$f":"IF($A82=\"\",\"\",IF(Solutions!I82=\"\",\"\",Solutions!I82))","v":""}]
[null,{"$f":"IF(Solutions!B83=\"\",\"\",Solutions!B83)","v":""},{"$f":"IF($A83=\"\",\"\",IF(Solutions!C83=\"\",\"\",Solutions!C83))","v":""},{"$f":"IF($A83=\"\",\"\",IF(Solutions!D83=\"\",\"\",Solutions!D83))","v":""},{"$f":"IF($A83=\"\",\"\",IF(Solutions!E83=\"\",\"\",Solutions!E83))","v":""},{"$f":"IF($A83=\"\",\"\",IF(Solutions!F83=\"\",\"\",Solutions!F83))","v":""},{"$f":"IF(A83=\"v\",Solutions!G83,IF($I$3=TRUE,IF(A81=\"v\",Solutions!G83,\"\"),\"\"))","v":""},{"$f":"IF($A83=\"\",\"\",IF(Solutions!H83=\"\",\"\",Solutions!H83))","v":""},{"$f":"IF($A83=\"\",\"\",IF(Solutions!I83=\"\",\"\",Solutions!I83))","v":""}]
[null,{"$f":"IF(Solutions!B84=\"\",\"\",Solutions!B84)","v":""},{"$f":"IF($A84=\"\",\"\",IF(Solutions!C84=\"\",\"\",Solutions!C84))","v":""},{"$f":"IF($A84=\"\",\"\",IF(Solutions!D84=\"\",\"\",Solutions!D84))","v":""},{"$f":"IF($A84=\"\",\"\",IF(Solutions!E84=\"\",\"\",Solutions!E84))","v":""},{"$f":"IF($A84=\"\",\"\",IF(Solutions!F84=\"\",\"\",Solutions!F84))","v":""},{"$f":"IF(A84=\"v\",Solutions!G84,IF($I$3=TRUE,IF(A82=\"v\",Solutions!G84,\"\"),\"\"))","v":""},{"$f":"IF($A84=\"\",\"\",IF(Solutions!H84=\"\",\"\",Solutions!H84))","v":""},{"$f":"IF($A84=\"\",\"\",IF(Solutions!I84=\"\",\"\",Solutions!I84))","v":""}]
[null,{"$f":"IF(Solutions!B85=\"\",\"\",Solutions!B85)","v":""},{"$f":"IF($A85=\"\",\"\",IF(Solutions!C85=\"\",\"\",Solutions!C85))","v":""},{"$f":"IF($A85=\"\",\"\",IF(Solutions!D85=\"\",\"\",Solutions!D85))","v":""},{"$f":"IF($A85=\"\",\"\",IF(Solutions!E85=\"\",\"\",Solutions!E85))","v":""},{"$f":"IF($A85=\"\",\"\",IF(Solutions!F85=\"\",\"\",Solutions!F85))","v":""},{"$f":"IF(A85=\"v\",Solutions!G85,IF($I$3=TRUE,IF(A83=\"v\",Solutions!G85,\"\"),\"\"))","v":""},{"$f":"IF($A85=\"\",\"\",IF(Solutions!H85=\"\",\"\",Solutions!H85))","v":""},{"$f":"IF($A85=\"\",\"\",IF(Solutions!I85=\"\",\"\",Solutions!I85))","v":""}]
[null,{"$f":"IF(Solutions!B86=\"\",\"\",Solutions!B86)","v":""},{"$f":"IF($A86=\"\",\"\",IF(Solutions!C86=\"\",\"\",Solutions!C86))","v":""},{"$f":"IF($A86=\"\",\"\",IF(Solutions!D86=\"\",\"\",Solutions!D86))","v":""},{"$f":"IF($A86=\"\",\"\",IF(Solutions!E86=\"\",\"\",Solutions!E86))","v":""},{"$f":"IF($A86=\"\",\"\",IF(Solutions!F86=\"\",\"\",Solutions!F86))","v":""},{"$f":"IF(A86=\"v\",Solutions!G86,IF($I$3=TRUE,IF(A84=\"v\",Solutions!G86,\"\"),\"\"))","v":""},{"$f":"IF($A86=\"\",\"\",IF(Solutions!H86=\"\",\"\",Solutions!H86))","v":""},{"$f":"IF($A86=\"\",\"\",IF(Solutions!I86=\"\",\"\",Solutions!I86))","v":""}]
[null,{"$f":"IF(Solutions!B87=\"\",\"\",Solutions!B87)","v":""},{"$f":"IF($A87=\"\",\"\",IF(Solutions!C87=\"\",\"\",Solutions!C87))","v":""},{"$f":"IF($A87=\"\",\"\",IF(Solutions!D87=\"\",\"\",Solutions!D87))","v":""},{"$f":"IF($A87=\"\",\"\",IF(Solutions!E87=\"\",\"\",Solutions!E87))","v":""},{"$f":"IF($A87=\"\",\"\",IF(Solutions!F87=\"\",\"\",Solutions!F87))","v":""},{"$f":"IF(A87=\"v\",Solutions!G87,IF($I$3=TRUE,IF(A85=\"v\",Solutions!G87,\"\"),\"\"))","v":""},{"$f":"IF($A87=\"\",\"\",IF(Solutions!H87=\"\",\"\",Solutions!H87))","v":""},{"$f":"IF($A87=\"\",\"\",IF(Solutions!I87=\"\",\"\",Solutions!I87))","v":""}]
[null,{"$f":"IF(Solutions!B88=\"\",\"\",Solutions!B88)","v":""},{"$f":"IF($A88=\"\",\"\",IF(Solutions!C88=\"\",\"\",Solutions!C88))","v":""},{"$f":"IF($A88=\"\",\"\",IF(Solutions!D88=\"\",\"\",Solutions!D88))","v":""},{"$f":"IF($A88=\"\",\"\",IF(Solutions!E88=\"\",\"\",Solutions!E88))","v":""},{"$f":"IF($A88=\"\",\"\",IF(Solutions!F88=\"\",\"\",Solutions!F88))","v":""},{"$f":"IF(A88=\"v\",Solutions!G88,IF($I$3=TRUE,IF(A86=\"v\",Solutions!G88,\"\"),\"\"))","v":""},{"$f":"IF($A88=\"\",\"\",IF(Solutions!H88=\"\",\"\",Solutions!H88))","v":""},{"$f":"IF($A88=\"\",\"\",IF(Solutions!I88=\"\",\"\",Solutions!I88))","v":""}]
[null,{"$f":"IF(Solutions!B89=\"\",\"\",Solutions!B89)","v":""},{"$f":"IF($A89=\"\",\"\",IF(Solutions!C89=\"\",\"\",Solutions!C89))","v":""},{"$f":"IF($A89=\"\",\"\",IF(Solutions!D89=\"\",\"\",Solutions!D89))","v":""},{"$f":"IF($A89=\"\",\"\",IF(Solutions!E89=\"\",\"\",Solutions!E89))","v":""},{"$f":"IF($A89=\"\",\"\",IF(Solutions!F89=\"\",\"\",Solutions!F89))","v":""},{"$f":"IF(A89=\"v\",Solutions!G89,IF($I$3=TRUE,IF(A87=\"v\",Solutions!G89,\"\"),\"\"))","v":""},{"$f":"IF($A89=\"\",\"\",IF(Solutions!H89=\"\",\"\",Solutions!H89))","v":""},{"$f":"IF($A89=\"\",\"\",IF(Solutions!I89=\"\",\"\",Solutions!I89))","v":""}]
[null,{"$f":"IF(Solutions!B90=\"\",\"\",Solutions!B90)","v":""},{"$f":"IF($A90=\"\",\"\",IF(Solutions!C90=\"\",\"\",Solutions!C90))","v":""},{"$f":"IF($A90=\"\",\"\",IF(Solutions!D90=\"\",\"\",Solutions!D90))","v":""},{"$f":"IF($A90=\"\",\"\",IF(Solutions!E90=\"\",\"\",Solutions!E90))","v":""},{"$f":"IF($A90=\"\",\"\",IF(Solutions!F90=\"\",\"\",Solutions!F90))","v":""},{"$f":"IF(A90=\"v\",Solutions!G90,IF($I$3=TRUE,IF(A88=\"v\",Solutions!G90,\"\"),\"\"))","v":""},{"$f":"IF($A90=\"\",\"\",IF(Solutions!H90=\"\",\"\",Solutions!H90))","v":""},{"$f":"IF($A90=\"\",\"\",IF(Solutions!I90=\"\",\"\",Solutions!I90))","v":""}]
[null,{"$f":"IF(Solutions!B91=\"\",\"\",Solutions!B91)","v":""},{"$f":"IF($A91=\"\",\"\",IF(Solutions!C91=\"\",\"\",Solutions!C91))","v":""},{"$f":"IF($A91=\"\",\"\",IF(Solutions!D91=\"\",\"\",Solutions!D91))","v":""},{"$f":"IF($A91=\"\",\"\",IF(Solutions!E91=\"\",\"\",Solutions!E91))","v":""},{"$f":"IF($A91=\"\",\"\",IF(Solutions!F91=\"\",\"\",Solutions!F91))","v":""},{"$f":"IF(A91=\"v\",Solutions!G91,IF($I$3=TRUE,IF(A89=\"v\",Solutions!G91,\"\"),\"\"))","v":""},{"$f":"IF($A91=\"\",\"\",IF(Solutions!H91=\"\",\"\",Solutions!H91))","v":""},{"$f":"IF($A91=\"\",\"\",IF(Solutions!I91=\"\",\"\",Solutions!I91))","v":""}]
[null,{"$f":"IF(Solutions!B92=\"\",\"\",Solutions!B92)","v":""},{"$f":"IF($A92=\"\",\"\",IF(Solutions!C92=\"\",\"\",Solutions!C92))","v":""},{"$f":"IF($A92=\"\",\"\",IF(Solutions!D92=\"\",\"\",Solutions!D92))","v":""},{"$f":"IF($A92=\"\",\"\",IF(Solutions!E92=\"\",\"\",Solutions!E92))","v":""},{"$f":"IF($A92=\"\",\"\",IF(Solutions!F92=\"\",\"\",Solutions!F92))","v":""},{"$f":"IF(A92=\"v\",Solutions!G92,IF($I$3=TRUE,IF(A90=\"v\",Solutions!G92,\"\"),\"\"))","v":""},{"$f":"IF($A92=\"\",\"\",IF(Solutions!H92=\"\",\"\",Solutions!H92))","v":""},{"$f":"IF($A92=\"\",\"\",IF(Solutions!I92=\"\",\"\",Solutions!I92))","v":""}]
[null,{"$f":"IF(Solutions!B93=\"\",\"\",Solutions!B93)","v":""},{"$f":"IF($A93=\"\",\"\",IF(Solutions!C93=\"\",\"\",Solutions!C93))","v":""},{"$f":"IF($A93=\"\",\"\",IF(Solutions!D93=\"\",\"\",Solutions!D93))","v":""},{"$f":"IF($A93=\"\",\"\",IF(Solutions!E93=\"\",\"\",Solutions!E93))","v":""},{"$f":"IF($A93=\"\",\"\",IF(Solutions!F93=\"\",\"\",Solutions!F93))","v":""},{"$f":"IF(A93=\"v\",Solutions!G93,IF($I$3=TRUE,IF(A91=\"v\",Solutions!G93,\"\"),\"\"))","v":""},{"$f":"IF($A93=\"\",\"\",IF(Solutions!H93=\"\",\"\",Solutions!H93))","v":""},{"$f":"IF($A93=\"\",\"\",IF(Solutions!I93=\"\",\"\",Solutions!I93))","v":""}]
[null,{"$f":"IF(Solutions!B94=\"\",\"\",Solutions!B94)","v":""},{"$f":"IF($A94=\"\",\"\",IF(Solutions!C94=\"\",\"\",Solutions!C94))","v":""},{"$f":"IF($A94=\"\",\"\",IF(Solutions!D94=\"\",\"\",Solutions!D94))","v":""},{"$f":"IF($A94=\"\",\"\",IF(Solutions!E94=\"\",\"\",Solutions!E94))","v":""},{"$f":"IF($A94=\"\",\"\",IF(Solutions!F94=\"\",\"\",Solutions!F94))","v":""},{"$f":"IF(A94=\"v\",Solutions!G94,IF($I$3=TRUE,IF(A92=\"v\",Solutions!G94,\"\"),\"\"))","v":""},{"$f":"IF($A94=\"\",\"\",IF(Solutions!H94=\"\",\"\",Solutions!H94))","v":""},{"$f":"IF($A94=\"\",\"\",IF(Solutions!I94=\"\",\"\",Solutions!I94))","v":""}]
[null,{"$f":"IF(Solutions!B95=\"\",\"\",Solutions!B95)","v":""},{"$f":"IF($A95=\"\",\"\",IF(Solutions!C95=\"\",\"\",Solutions!C95))","v":""},{"$f":"IF($A95=\"\",\"\",IF(Solutions!D95=\"\",\"\",Solutions!D95))","v":""},{"$f":"IF($A95=\"\",\"\",IF(Solutions!E95=\"\",\"\",Solutions!E95))","v":""},{"$f":"IF($A95=\"\",\"\",IF(Solutions!F95=\"\",\"\",Solutions!F95))","v":""},{"$f":"IF(A95=\"v\",Solutions!G95,IF($I$3=TRUE,IF(A93=\"v\",Solutions!G95,\"\"),\"\"))","v":""},{"$f":"IF($A95=\"\",\"\",IF(Solutions!H95=\"\",\"\",Solutions!H95))","v":""},{"$f":"IF($A95=\"\",\"\",IF(Solutions!I95=\"\",\"\",Solutions!I95))","v":""}]
[null,{"$f":"IF(Solutions!B96=\"\",\"\",Solutions!B96)","v":""},{"$f":"IF($A96=\"\",\"\",IF(Solutions!C96=\"\",\"\",Solutions!C96))","v":""},{"$f":"IF($A96=\"\",\"\",IF(Solutions!D96=\"\",\"\",Solutions!D96))","v":""},{"$f":"IF($A96=\"\",\"\",IF(Solutions!E96=\"\",\"\",Solutions!E96))","v":""},{"$f":"IF($A96=\"\",\"\",IF(Solutions!F96=\"\",\"\",Solutions!F96))","v":""},{"$f":"IF(A96=\"v\",Solutions!G96,IF($I$3=TRUE,IF(A94=\"v\",Solutions!G96,\"\"),\"\"))","v":""},{"$f":"IF($A96=\"\",\"\",IF(Solutions!H96=\"\",\"\",Solutions!H96))","v":""},{"$f":"IF($A96=\"\",\"\",IF(Solutions!I96=\"\",\"\",Solutions!I96))","v":""}]
[null,{"$f":"IF(Solutions!B97=\"\",\"\",Solutions!B97)","v":""},{"$f":"IF($A97=\"\",\"\",IF(Solutions!C97=\"\",\"\",Solutions!C97))","v":""},{"$f":"IF($A97=\"\",\"\",IF(Solutions!D97=\"\",\"\",Solutions!D97))","v":""},{"$f":"IF($A97=\"\",\"\",IF(Solutions!E97=\"\",\"\",Solutions!E97))","v":""},{"$f":"IF($A97=\"\",\"\",IF(Solutions!F97=\"\",\"\",Solutions!F97))","v":""},{"$f":"IF(A97=\"v\",Solutions!G97,IF($I$3=TRUE,IF(A95=\"v\",Solutions!G97,\"\"),\"\"))","v":""},{"$f":"IF($A97=\"\",\"\",IF(Solutions!H97=\"\",\"\",Solutions!H97))","v":""},{"$f":"IF($A97=\"\",\"\",IF(Solutions!I97=\"\",\"\",Solutions!I97))","v":""}]
[null,{"$f":"IF(Solutions!B98=\"\",\"\",Solutions!B98)","v":""},{"$f":"IF($A98=\"\",\"\",IF(Solutions!C98=\"\",\"\",Solutions!C98))","v":""},{"$f":"IF($A98=\"\",\"\",IF(Solutions!D98=\"\",\"\",Solutions!D98))","v":""},{"$f":"IF($A98=\"\",\"\",IF(Solutions!E98=\"\",\"\",Solutions!E98))","v":""},{"$f":"IF($A98=\"\",\"\",IF(Solutions!F98=\"\",\"\",Solutions!F98))","v":""},{"$f":"IF(A98=\"v\",Solutions!G98,IF($I$3=TRUE,IF(A96=\"v\",Solutions!G98,\"\"),\"\"))","v":""},{"$f":"IF($A98=\"\",\"\",IF(Solutions!H98=\"\",\"\",Solutions!H98))","v":""},{"$f":"IF($A98=\"\",\"\",IF(Solutions!I98=\"\",\"\",Solutions!I98))","v":""}]
[null,{"$f":"IF(Solutions!B99=\"\",\"\",Solutions!B99)","v":""},{"$f":"IF($A99=\"\",\"\",IF(Solutions!C99=\"\",\"\",Solutions!C99))","v":""},{"$f":"IF($A99=\"\",\"\",IF(Solutions!D99=\"\",\"\",Solutions!D99))","v":""},{"$f":"IF($A99=\"\",\"\",IF(Solutions!E99=\"\",\"\",Solutions!E99))","v":""},{"$f":"IF($A99=\"\",\"\",IF(Solutions!F99=\"\",\"\",Solutions!F99))","v":""},{"$f":"IF(A99=\"v\",Solutions!G99,IF($I$3=TRUE,IF(A97=\"v\",Solutions!G99,\"\"),\"\"))","v":""},{"$f":"IF($A99=\"\",\"\",IF(Solutions!H99=\"\",\"\",Solutions!H99))","v":""},{"$f":"IF($A99=\"\",\"\",IF(Solutions!I99=\"\",\"\",Solutions!I99))","v":""}]
[null,{"$f":"IF(Solutions!B100=\"\",\"\",Solutions!B100)","v":""},{"$f":"IF($A100=\"\",\"\",IF(Solutions!C100=\"\",\"\",Solutions!C100))","v":""},{"$f":"IF($A100=\"\",\"\",IF(Solutions!D100=\"\",\"\",Solutions!D100))","v":""},{"$f":"IF($A100=\"\",\"\",IF(Solutions!E100=\"\",\"\",Solutions!E100))","v":""},{"$f":"IF($A100=\"\",\"\",IF(Solutions!F100=\"\",\"\",Solutions!F100))","v":""},{"$f":"IF(A100=\"v\",Solutions!G100,IF($I$3=TRUE,IF(A98=\"v\",Solutions!G100,\"\"),\"\"))","v":""},{"$f":"IF($A100=\"\",\"\",IF(Solutions!H100=\"\",\"\",Solutions!H100))","v":""},{"$f":"IF($A100=\"\",\"\",IF(Solutions!I100=\"\",\"\",Solutions!I100))","v":""}]
[null,{"$f":"IF(Solutions!B101=\"\",\"\",Solutions!B101)","v":""},{"$f":"IF($A101=\"\",\"\",IF(Solutions!C101=\"\",\"\",Solutions!C101))","v":""},{"$f":"IF($A101=\"\",\"\",IF(Solutions!D101=\"\",\"\",Solutions!D101))","v":""},{"$f":"IF($A101=\"\",\"\",IF(Solutions!E101=\"\",\"\",Solutions!E101))","v":""},{"$f":"IF($A101=\"\",\"\",IF(Solutions!F101=\"\",\"\",Solutions!F101))","v":""},{"$f":"IF(A101=\"v\",Solutions!G101,IF($I$3=TRUE,IF(A99=\"v\",Solutions!G101,\"\"),\"\"))","v":""},{"$f":"IF($A101=\"\",\"\",IF(Solutions!H101=\"\",\"\",Solutions!H101))","v":""},{"$f":"IF($A101=\"\",\"\",IF(Solutions!I101=\"\",\"\",Solutions!I101))","v":""}]
[null,{"$f":"IF(Solutions!B102=\"\",\"\",Solutions!B102)","v":""},{"$f":"IF($A102=\"\",\"\",IF(Solutions!C102=\"\",\"\",Solutions!C102))","v":""},{"$f":"IF($A102=\"\",\"\",IF(Solutions!D102=\"\",\"\",Solutions!D102))","v":""},{"$f":"IF($A102=\"\",\"\",IF(Solutions!E102=\"\",\"\",Solutions!E102))","v":""},{"$f":"IF($A102=\"\",\"\",IF(Solutions!F102=\"\",\"\",Solutions!F102))","v":""},{"$f":"IF(A102=\"v\",Solutions!G102,IF($I$3=TRUE,IF(A100=\"v\",Solutions!G102,\"\"),\"\"))","v":""},{"$f":"IF($A102=\"\",\"\",IF(Solutions!H102=\"\",\"\",Solutions!H102))","v":""},{"$f":"IF($A102=\"\",\"\",IF(Solutions!I102=\"\",\"\",Solutions!I102))","v":""}]
[null,{"$f":"IF(Solutions!B103=\"\",\"\",Solutions!B103)","v":""},{"$f":"IF($A103=\"\",\"\",IF(Solutions!C103=\"\",\"\",Solutions!C103))","v":""},{"$f":"IF($A103=\"\",\"\",IF(Solutions!D103=\"\",\"\",Solutions!D103))","v":""},{"$f":"IF($A103=\"\",\"\",IF(Solutions!E103=\"\",\"\",Solutions!E103))","v":""},{"$f":"IF($A103=\"\",\"\",IF(Solutions!F103=\"\",\"\",Solutions!F103))","v":""},{"$f":"IF(A103=\"v\",Solutions!G103,IF($I$3=TRUE,IF(A101=\"v\",Solutions!G103,\"\"),\"\"))","v":""},{"$f":"IF($A103=\"\",\"\",IF(Solutions!H103=\"\",\"\",Solutions!H103))","v":""},{"$f":"IF($A103=\"\",\"\",IF(Solutions!I103=\"\",\"\",Solutions!I103))","v":""}]
[null,{"$f":"IF(Solutions!B104=\"\",\"\",Solutions!B104)","v":""},{"$f":"IF($A104=\"\",\"\",IF(Solutions!C104=\"\",\"\",Solutions!C104))","v":""},{"$f":"IF($A104=\"\",\"\",IF(Solutions!D104=\"\",\"\",Solutions!D104))","v":""},{"$f":"IF($A104=\"\",\"\",IF(Solutions!E104=\"\",\"\",Solutions!E104))","v":""},{"$f":"IF($A104=\"\",\"\",IF(Solutions!F104=\"\",\"\",Solutions!F104))","v":""},{"$f":"IF(A104=\"v\",Solutions!G104,IF($I$3=TRUE,IF(A102=\"v\",Solutions!G104,\"\"),\"\"))","v":""},{"$f":"IF($A104=\"\",\"\",IF(Solutions!H104=\"\",\"\",Solutions!H104))","v":""},{"$f":"IF($A104=\"\",\"\",IF(Solutions!I104=\"\",\"\",Solutions!I104))","v":""}]
[null,{"$f":"IF(Solutions!B105=\"\",\"\",Solutions!B105)","v":""},{"$f":"IF($A105=\"\",\"\",IF(Solutions!C105=\"\",\"\",Solutions!C105))","v":""},{"$f":"IF($A105=\"\",\"\",IF(Solutions!D105=\"\",\"\",Solutions!D105))","v":""},{"$f":"IF($A105=\"\",\"\",IF(Solutions!E105=\"\",\"\",Solutions!E105))","v":""},{"$f":"IF($A105=\"\",\"\",IF(Solutions!F105=\"\",\"\",Solutions!F105))","v":""},{"$f":"IF(A105=\"v\",Solutions!G105,IF($I$3=TRUE,IF(A103=\"v\",Solutions!G105,\"\"),\"\"))","v":""},{"$f":"IF($A105=\"\",\"\",IF(Solutions!H105=\"\",\"\",Solutions!H105))","v":""},{"$f":"IF($A105=\"\",\"\",IF(Solutions!I105=\"\",\"\",Solutions!I105))","v":""}]
[null,{"$f":"IF(Solutions!B106=\"\",\"\",Solutions!B106)","v":""},{"$f":"IF($A106=\"\",\"\",IF(Solutions!C106=\"\",\"\",Solutions!C106))","v":""},{"$f":"IF($A106=\"\",\"\",IF(Solutions!D106=\"\",\"\",Solutions!D106))","v":""},{"$f":"IF($A106=\"\",\"\",IF(Solutions!E106=\"\",\"\",Solutions!E106))","v":""},{"$f":"IF($A106=\"\",\"\",IF(Solutions!F106=\"\",\"\",Solutions!F106))","v":""},{"$f":"IF(A106=\"v\",Solutions!G106,IF($I$3=TRUE,IF(A104=\"v\",Solutions!G106,\"\"),\"\"))","v":""},{"$f":"IF($A106=\"\",\"\",IF(Solutions!H106=\"\",\"\",Solutions!H106))","v":""},{"$f":"IF($A106=\"\",\"\",IF(Solutions!I106=\"\",\"\",Solutions!I106))","v":""}]

{"sheet":"Solutions","index":1,"n_rows":106,"n_cols":15,"rows_kept":106,"merged":[[3,1,4,1],[3,2,3,5],[3,6,4,6],[3,7,3,8],[4,2,4,3],[4,4,4,5]]}
[null,null,{"$f":"IF(SUM(H6:I6)=0,\"Saisie semi-automatique des comptes : \",\"\")","v":"Saisie semi-automatique des comptes : "}]
[null,null,{"$f":"IF(SUM(H6:I6)=0,\"Entrer le no du compte dans la colonne ad'hoc (C ou E), au clavier ou avec le formulaire (Plan comptable) accessible par un clic sur la bande grise tout à gauche.\",\"\")","v":"Entrer le no du compte dans la colonne ad'hoc (C ou E), au clavier ou avec le formulaire (Plan comptable) accessible par un clic sur la bande grise tout à gauche."},{"$nulls":5},2,{"$nulls":5},"lignes/masque"]
[null,"Exercice : ",{"$nulls":6},120,null,null,{"$f":"101-COUNTIF(L6:L106,\"\")","v":0}]
[null,"No","Comptes à",{"$nulls":3},"Libellé","Sommes à"]
[null,null,"débiter",null,"créditer",null,null,"débiter","créditer"]
[null,1,null,{"$f":"IF(C6>0,VLOOKUP(C6,'Plan comptable'!$B$2:$C$123,2),\"\")","v":""},null,{"$f":"IF(E6>0,VLOOKUP(E6,'Plan comptable'!$B$2:$C$123,2),\"\")","v":""},null,null,{"$f":"H6","v":{"v":0,"d":"0.00"}},{"$f":"IF($L6=\"\",\"\",IF(C6=\"\",\"\",LOOKUP(C6,Miniplan,'Plan comptable'!$A$2:$A$78)))","v":""},{"$f":"IF($L6=\"\",\"\",IF(E6=\"\",\"\",LOOKUP(E6,Miniplan,'Plan comptable'!$A$2:$A$78)))","v":""},{"$f":"IF(SUM(H6:I6)=0,\"\",IF(H6=\"\",I6,H6))","v":""}]
[{"$nulls":3},{"$f":"IF(C7>0,VLOOKUP(C7,'Plan comptable'!$B$2:$C$123,2),\"\")","v":""},null,{"$f":"IF(E7>0,VLOOKUP(E7,'Plan comptable'!$B$2:$C$123,2),\"\")","v":""},null,null,{"$f":"H7","v":{"v":0,"d":"0.00"}},{"$f":"IF($L7=\"\",\"\",IF(C7=\"\",\"\",LOOKUP(C7,Miniplan,'Plan comptable'!$A$2:$A$78)))","v":""},{"$f":"IF($L7=\"\",\"\",IF(E7=\"\",\"\",LOOKUP(E7,Miniplan,'Plan comptable'!$A$2:$A$78)))","v":""},{"$f":"IF(SUM(H7:I7)=0,\"\",IF(H7=\"\",I7,H7))","v":""}]
[{"$nulls":3},{"$f":"IF(C8>0,VLOOKUP(C8,'Plan comptable'!$B$2:$C$123,2),\"\")","v":""},null,{"$f":"IF(E8>0,VLOOKUP(E8,'Plan comptable'!$B$2:$C$123,2),\"\")","v":""},null,null,{"v":0,"d":"0.00"},{"$f":"IF($L8=\"\",\"\",IF(C8=\"\",\"\",LOOKUP(C8,Miniplan,'Plan comptable'!$A$2:$A$78)))","v":""},{"$f":"IF($L8=\"\",\"\",IF(E8=\"\",\"\",LOOKUP(E8,Miniplan,'Plan comptable'!$A$2:$A$78)))","v":""},""]
[{"$nulls":3},{"$f":"IF(C9>0,VLOOKUP(C9,'Plan comptable'!$B$2:$C$123,2),\"\")","v":""},null,{"$f":"IF(E9>0,VLOOKUP(E9,'Plan comptable'!$B$2:$C$123,2),\"\")","v":""},null,null,{"v":0,"d":"0.00"},{"$f":"IF($L9=\"\",\"\",IF(C9=\"\",\"\",LOOKUP(C9,Miniplan,'Plan comptable'!$A$2:$A$78)))","v":""},{"$f":"IF($L9=\"\",\"\",IF(E9=\"\",\"\",LOOKUP(E9,Miniplan,'Plan comptable'!$A$2:$A$78)))","v":""},""]
[{"$nulls":3},{"$f":"IF(C10>0,VLOOKUP(C10,'Plan comptable'!$B$2:$C$123,2),\"\")","v":""},null,{"$f":"IF(E10>0,VLOOKUP(E10,'Plan comptable'!$B$2:$C$123,2),\"\")","v":""},null,null,{"v":0,"d":"0.00"},{"$f":"IF($L10=\"\",\"\",IF(C10=\"\",\"\",LOOKUP(C10,Miniplan,'Plan comptable'!$A$2:$A$78)))","v":""},{"$f":"IF($L10=\"\",\"\",IF(E10=\"\",\"\",LOOKUP(E10,Miniplan,'Plan comptable'!$A$2:$A$78)))","v":""},""]
[{"$nulls":3},{"$f":"IF(C11>0,VLOOKUP(C11,'Plan comptable'!$B$2:$C$123,2),\"\")","v":""},null,{"$f":"IF(E11>0,VLOOKUP(E11,'Plan comptable'!$B$2:$C$123,2),\"\")","v":""},null,null,{"v":0,"d":"0.00"},{"$f":"IF($L11=\"\",\"\",IF(C11=\"\",\"\",LOOKUP(C11,Miniplan,'Plan comptable'!$A$2:$A$78)))","v":""},{"$f":"IF($L11=\"\",\"\",IF(E11=\"\",\"\",LOOKUP(E11,Miniplan,'Plan comptable'!$A$2:$A$78)))","v":""},""]
[{"$nulls":3},{"$f":"IF(C12>0,VLOOKUP(C12,'Plan comptable'!$B$2:$C$123,2),\"\")","v":""},null,{"$f":"IF(E12>0,VLOOKUP(E12,'Plan comptable'!$B$2:$C$123,2),\"\")","v":""},null,null,{"v":0,"d":"0.00"},{"$f":"IF($L12=\"\",\"\",IF(C12=\"\",\"\",LOOKUP(C12,Miniplan,'Plan comptable'!$A$2:$A$78)))","v":""},{"$f":"IF($L12=\"\",\"\",IF(E12=\"\",\"\",LOOKUP(E12,Miniplan,'Plan comptable'!$A$2:$A$78)))","v":""},""]
[{"$nulls":3},{"$f":"IF(C13>0,VLOOKUP(C13,'Plan comptable'!$B$2:$C$123,2),\"\")","v":""},null,{"$f":"IF(E13>0,VLOOKUP(E13,'Plan comptable'!$B$2:$C$123,2),\"\")","v":""},null,null,{"v":0,"d":"0.00"},{"$f":"IF($L13=\"\",\"\",IF(C13=\"\",\"\",LOOKUP(C13,Miniplan,'Plan comptable'!$A$2:$A$78)))","v":""},{"$f":"IF($L13=\"\",\"\",IF(E13=\"\",\"\",LOOKUP(E13,Miniplan,'Plan comptable'!$A$2:$A$78)))","v":""},""]
[{"$nulls":3},{"$f":"IF(C14>0,VLOOKUP(C14,'Plan comptable'!$B$2:$C$123,2),\"\")","v":""},null,{"$f":"IF(E14>0,VLOOKUP(E14,'Plan comptable'!$B$2:$C$123,2),\"\")","v":""},null,null,{"v":0,"d":"0.00"},{"$f":"IF($L14=\"\",\"\",IF(C14=\"\",\"\",LOOKUP(C14,Miniplan,'Plan comptable'!$A$2:$A$78)))","v":""},{"$f":"IF($L14=\"\",\"\",IF(E14=\"\",\"\",LOOKUP(E14,Miniplan,'Plan comptable'!$A$2:$A$78)))","v":""},""]
[{"$nulls":3},{"$f":"IF(C15>0,VLOOKUP(C15,'Plan comptable'!$B$2:$C$123,2),\"\")","v":""},null,{"$f":"IF(E15>0,VLOOKUP(E15,'Plan comptable'!$B$2:$C$123,2),\"\")","v":""},null,null,{"v":0,"d":"0.00"},{"$f":"IF($L15=\"\",\"\",IF(C15=\"\",\"\",LOOKUP(C15,Miniplan,'Plan comptable'!$A$2:$A$78)))","v":""},{"$f":"IF($L15=\"\",\"\",IF(E15=\"\",\"\",LOOKUP(E15,Miniplan,'Plan comptable'!$A$2:$A$78)))","v":""},""]
[{"$nulls":3},{"$f":"IF(C16>0,VLOOKUP(C16,'Plan comptable'!$B$2:$C$123,2),\"\")","v":""},null,{"$f":"IF(E16>0,VLOOKUP(E16,'Plan comptable'!$B$2:$C$123,2),\"\")","v":""},null,null,{"v":0,"d":"0.00"},{"$f":"IF($L16=\"\",\"\",IF(C16=\"\",\"\",LOOKUP(C16,Miniplan,'Plan comptable'!$A$2:$A$78)))","v":""},{"$f":"IF($L16=\"\",\"\",IF(E16=\"\",\"\",LOOKUP(E16,Miniplan,'Plan comptable'!$A$2:$A$78)))","v":""},""]
[{"$nulls":3},{"$f":"IF(C17>0,VLOOKUP(C17,'Plan comptable'!$B$2:$C$123,2),\"\")","v":""},null,{"$f":"IF(E17>0,VLOOKUP(E17,'Plan comptable'!$B$2:$C$123,2),\"\")","v":""},null,null,{"v":0,"d":"0.00"},{"$f":"IF($L17=\"\",\"\",IF(C17=\"\",\"\",LOOKUP(C17,Miniplan,'Plan comptable'!$A$2:$A$78)))","v":""},{"$f":"IF($L17=\"\",\"\",IF(E17=\"\",\"\",LOOKUP(E17,Miniplan,'Plan comptable'!$A$2:$A$78)))","v":""},""]
[{"$nulls":3},{"$f":"IF(C18>0,VLOOKUP(C18,'Plan comptable'!$B$2:$C$123,2),\"\")","v":""},null,{"$f":"IF(E18>0,VLOOKUP(E18,'Plan comptable'!$B$2:$C$123,2),\"\")","v":""},null,null,{"v":0,"d":"0.00"},{"$f":"IF($L18=\"\",\"\",IF(C18=\"\",\"\",LOOKUP(C18,Miniplan,'Plan comptable'!$A$2:$A$78)))","v":""},{"$f":"IF($L18=\"\",\"\",IF(E18=\"\",\"\",LOOKUP(E18,Miniplan,'Plan comptable'!$A$2:$A$78)))","v":""},""]
[{"$nulls":3},{"$f":"IF(C19>0,VLOOKUP(C19,'Plan comptable'!$B$2:$C$123,2),\"\")","v":""},null,{"$f":"IF(E19>0,VLOOKUP(E19,'Plan comptable'!$B$2:$C$123,2),\"\")","v":""},null,null,{"v":0,"d":"0.00"},{"$f":"IF($L19=\"\",\"\",IF(C19=\"\",\"\",LOOKUP(C19,Miniplan,'Plan comptable'!$A$2:$A$78)))","v":""},{"$f":"IF($L19=\"\",\"\",IF(E19=\"\",\"\",LOOKUP(E19,Miniplan,'Plan comptable'!$A$2:$A$78)))","v":""},""]
[{"$nulls":3},{"$f":"IF(C20>0,VLOOKUP(C20,'Plan comptable'!$B$2:$C$123,2),\"\")","v":""},null,{"$f":"IF(E20>0,VLOOKUP(E20,'Plan comptable'!$B$2:$C$123,2),\"\")","v":""},null,null,{"v":0,"d":"0.00"},{"$f":"IF($L20=\"\",\"\",IF(C20=\"\",\"\",LOOKUP(C20,Miniplan,'Plan comptable'!$A$2:$A$78)))","v":""},{"$f":"IF($L20=\"\",\"\",IF(E20=\"\",\"\",LOOKUP(E20,Miniplan,'Plan comptable'!$A$2:$A$78)))","v":""},""]
[{"$nulls":3},{"$f":"IF(C21>0,VLOOKUP(C21,'Plan comptable'!$B$2:$C$123,2),\"\")","v":""},null,{"$f":"IF(E21>0,VLOOKUP(E21,'Plan comptable'!$B$2:$C$123,2),\"\")","v":""},null,null,{"v":0,"d":"0.00"},{"$f":"IF($L21=\"\",\"\",IF(C21=\"\",\"\",LOOKUP(C21,Miniplan,'Plan comptable'!$A$2:$A$78)))","v":""},{"$f":"IF($L21=\"\",\"\",IF(E21=\"\",\"\",LOOKUP(E21,Miniplan,'Plan comptable'!$A$2:$A$78)))","v":""},""]
[{"$nulls":3},{"$f":"IF(C22>0,VLOOKUP(C22,'Plan comptable'!$B$2:$C$123,2),\"\")","v":""},null,{"$f":"IF(E22>0,VLOOKUP(E22,'Plan comptable'!$B$2:$C$123,2),\"\")","v":""},null,null,{"v":0,"d":"0.00"},{"$f":"IF($L22=\"\",\"\",IF(C22=\"\",\"\",LOOKUP(C22,Miniplan,'Plan comptable'!$A$2:$A$78)))","v":""},{"$f":"IF($L22=\"\",\"\",IF(E22=\"\",\"\",LOOKUP(E22,Miniplan,'Plan comptable'!$A$2:$A$78)))","v":""},""]
[{"$nulls":3},{"$f":"IF(C23>0,VLOOKUP(C23,'Plan comptable'!$B$2:$C$123,2),\"\")","v":""},null,{"$f":"IF(E23>0,VLOOKUP(E23,'Plan comptable'!$B$2:$C$123,2),\"\")","v":""},null,null,{"v":0,"d":"0.00"},{"$f":"IF($L23=\"\",\"\",IF(C23=\"\",\"\",LOOKUP(C23,Miniplan,'Plan comptable'!$A$2:$A$78)))","v":""},{"$f":"IF($L23=\"\",\"\",IF(E23=\"\",\"\",LOOKUP(E23,Miniplan,'Plan comptable'!$A$2:$A$78)))","v":""},""]
[{"$nulls":3},{"$f":"IF(C24>0,VLOOKUP(C24,'Plan comptable'!$B$2:$C$123,2),\"\")","v":""},null,{"$f":"IF(E24>0,VLOOKUP(E24,'Plan comptable'!$B$2:$C$123,2),\"\")","v":""},null,null,{"$f":"H24","v":{"v":0,"d":"0.00"}},{"$f":"IF($L24=\"\",\"\",IF(C24=\"\",\"\",LOOKUP(C24,Miniplan,'Plan comptable'!$A$2:$A$78)))","v":""},{"$f":"IF($L24=\"\",\"\",IF(E24=\"\",\"\",LOOKUP(E24,Miniplan,'Plan comptable'!$A$2:$A$78)))","v":""},""]
[{"$nulls":3},{"$f":"IF(C25>0,VLOOKUP(C25,'Plan comptable'!$B$2:$C$123,2),\"\")","v":""},null,{"$f":"IF(E25>0,VLOOKUP(E25,'Plan comptable'!$B$2:$C$123,2),\"\")","v":""},null,null,{"v":0,"d":"0.00"},{"$f":"IF($L25=\"\",\"\",IF(C25=\"\",\"\",LOOKUP(C25,Miniplan,'Plan comptable'!$A$2:$A$78)))","v":""},{"$f":"IF($L25=\"\",\"\",IF(E25=\"\",\"\",LOOKUP(E25,Miniplan,'Plan comptable'!$A$2:$A$78)))","v":""},""]
[{"$nulls":3},{"$f":"IF(C26>0,VLOOKUP(C26,'Plan comptable'!$B$2:$C$123,2),\"\")","v":""},null,{"$f":"IF(E26>0,VLOOKUP(E26,'Plan comptable'!$B$2:$C$123,2),\"\")","v":""},null,null,{"v":0,"d":"0.00"},{"$f":"IF($L26=\"\",\"\",IF(C26=\"\",\"\",LOOKUP(C26,Miniplan,'Plan comptable'!$A$2:$A$78)))","v":""},{"$f":"IF($L26=\"\",\"\",IF(E26=\"\",\"\",LOOKUP(E26,Miniplan,'Plan comptable'!$A$2:$A$78)))","v":""},""]
[{"$nulls":3},{"$f":"IF(C27>0,VLOOKUP(C27,'Plan comptable'!$B$2:$C$123,2),\"\")","v":""},null,{"$f":"IF(E27>0,VLOOKUP(E27,'Plan comptable'!$B$2:$C$123,2),\"\")","v":""},null,null,{"v":0,"d":"0.00"},{"$f":"IF($L27=\"\",\"\",IF(C27=\"\",\"\",LOOKUP(C27,Miniplan,'Plan comptable'!$A$2:$A$78)))","v":""},{"$f":"IF($L27=\"\",\"\",IF(E27=\"\",\"\",LOOKUP(E27,Miniplan,'Plan comptable'!$A$2:$A$78)))","v":""},""]
[{"$nulls":3},{"$f":"IF(C28>0,VLOOKUP(C28,'Plan comptable'!$B$2:$C$123,2),\"\")","v":""},null,{"$f":"IF(E28>0,VLOOKUP(E28,'Plan comptable'!$B$2:$C$123,2),\"\")","v":""},null,null,{"v":0,"d":"0.00"},{"$f":"IF($L28=\"\",\"\",IF(C28=\"\",\"\",LOOKUP(C28,Miniplan,'Plan comptable'!$A$2:$A$78)))","v":""},{"$f":"IF($L28=\"\",\"\",IF(E28=\"\",\"\",LOOKUP(E28,Miniplan,'Plan comptable'!$A$2:$A$78)))","v":""},""]
[{"$nulls":3},{"$f":"IF(C29>0,VLOOKUP(C29,'Plan comptable'!$B$2:$C$123,2),\"\")","v":""},null,{"$f":"IF(E29>0,VLOOKUP(E29,'Plan comptable'!$B$2:$C$123,2),\"\")","v":""},null,null,{"v":0,"d":"0.00"},{"$f":"IF($L29=\"\",\"\",IF(C29=\"\",\"\",LOOKUP(C29,Miniplan,'Plan comptable'!$A$2:$A$78)))","v":""},{"$f":"IF($L29=\"\",\"\",IF(E29=\"\",\"\",LOOKUP(E29,Miniplan,'Plan comptable'!$A$2:$A$78)))","v":""},""]
[{"$nulls":3},{"$f":"IF(C30>0,VLOOKUP(C30,'Plan comptable'!$B$2:$C$123,2),\"\")","v":""},null,{"$f":"IF(E30>0,VLOOKUP(E30,'Plan comptable'!$B$2:$C$123,2),\"\")","v":""},null,null,{"v":0,"d":"0.00"},{"$f":"IF($L30=\"\",\"\",IF(C30=\"\",\"\",LOOKUP(C30,Miniplan,'Plan comptable'!$A$2:$A$78)))","v":""},{"$f":"IF($L30=\"\",\"\",IF(E30=\"\",\"\",LOOKUP(E30,Miniplan,'Plan comptable'!$A$2:$A$78)))","v":""},""]
[{"$nulls":3},{"$f":"IF(C31>0,VLOOKUP(C31,'Plan comptable'!$B$2:$C$123,2),\"\")","v":""},null,{"$f":"IF(E31>0,VLOOKUP(E31,'Plan comptable'!$B$2:$C$123,2),\"\")","v":""},null,null,{"v":0,"d":"0.00"},{"$f":"IF($L31=\"\",\"\",IF(C31=\"\",\"\",LOOKUP(C31,Miniplan,'Plan comptable'!$A$2:$A$78)))","v":""},{"$f":"IF($L31=\"\",\"\",IF(E31=\"\",\"\",LOOKUP(E31,Miniplan,'Plan comptable'!$A$2:$A$78)))","v":""},""]
[{"$nulls":3},{"$f":"IF(C32>0,VLOOKUP(C32,'Plan comptable'!$B$2:$C$123,2),\"\")","v":""},null,{"$f":"IF(E32>0,VLOOKUP(E32,'Plan comptable'!$B$2:$C$123,2),\"\")","v":""},null,null,{"v":0,"d":"0.00"},{"$f":"IF($L32=\"\",\"\",IF(C32=\"\",\"\",LOOKUP(C32,Miniplan,'Plan comptable'!$A$2:$A$78)))","v":""},{"$f":"IF($L32=\"\",\"\",IF(E32=\"\",\"\",LOOKUP(E32,Miniplan,'Plan comptable'!$A$2:$A$78)))","v":""},""]
[{"$nulls":3},{"$f":"IF(C33>0,VLOOKUP(C33,'Plan comptable'!$B$2:$C$123,2),\"\")","v":""},null,{"$f":"IF(E33>0,VLOOKUP(E33,'Plan comptable'!$B$2:$C$123,2),\"\")","v":""},null,null,{"v":0,"d":"0.00"},{"$f":"IF($L33=\"\",\"\",IF(C33=\"\",\"\",LOOKUP(C33,Miniplan,'Plan comptable'!$A$2:$A$78)))","v":""},{"$f":"IF($L33=\"\",\"\",IF(E33=\"\",\"\",LOOKUP(E33,Miniplan,'Plan comptable'!$A$2:$A$78)))","v":""},""]
[{"$nulls":3},{"$f":"IF(C34>0,VLOOKUP(C34,'Plan comptable'!$B$2:$C$123,2),\"\")","v":""},null,{"$f":"IF(E34>0,VLOOKUP(E34,'Plan comptable'!$B$2:$C$123,2),\"\")","v":""},null,null,{"v":0,"d":"0.00"},{"$f":"IF($L34=\"\",\"\",IF(C34=\"\",\"\",LOOKUP(C34,Miniplan,'Plan comptable'!$A$2:$A$78)))","v":""},{"$f":"IF($L34=\"\",\"\",IF(E34=\"\",\"\",LOOKUP(E34,Miniplan,'Plan comptable'!$A$2:$A$78)))","v":""},""]
[{"$nulls":3},{"$f":"IF(C35>0,VLOOKUP(C35,'Plan comptable'!$B$2:$C$123,2),\"\")","v":""},null,{"$f":"IF(E35>0,VLOOKUP(E35,'Plan comptable'!$B$2:$C$123,2),\"\")","v":""},null,null,{"v":0,"d":"0.00"},{"$f":"IF($L35=\"\",\"\",IF(C35=\"\",\"\",LOOKUP(C35,Miniplan,'Plan comptable'!$A$2:$A$78)))","v":""},{"$f":"IF($L35=\"\",\"\",IF(E35=\"\",\"\",LOOKUP(E35,Miniplan,'Plan comptable'!$A$2:$A$78)))","v":""},""]
[{"$nulls":3},{"$f":"IF(C36>0,VLOOKUP(C36,'Plan comptable'!$B$2:$C$123,2),\"\")","v":""},null,{"$f":"IF(E36>0,VLOOKUP(E36,'Plan comptable'!$B$2:$C$123,2),\"\")","v":""},null,null,{"v":0,"d":"0.00"},{"$f":"IF($L36=\"\",\"\",IF(C36=\"\",\"\",LOOKUP(C36,Miniplan,'Plan comptable'!$A$2:$A$78)))","v":""},{"$f":"IF($L36=\"\",\"\",IF(E36=\"\",\"\",LOOKUP(E36,Miniplan,'Plan comptable'!$A$2:$A$78)))","v":""},""]
[{"$nulls":3},{"$f":"IF(C37>0,VLOOKUP(C37,'Plan comptable'!$B$2:$C$123,2),\"\")","v":""},null,{"$f":"IF(E37>0,VLOOKUP(E37,'Plan comptable'!$B$2:$C$123,2),\"\")","v":""},null,null,{"v":0,"d":"0.00"},{"$f":"IF($L37=\"\",\"\",IF(C37=\"\",\"\",LOOKUP(C37,Miniplan,'Plan comptable'!$A$2:$A$78)))","v":""},{"$f":"IF($L37=\"\",\"\",IF(E37=\"\",\"\",LOOKUP(E37,Miniplan,'Plan comptable'!$A$2:$A$78)))","v":""},""]
[{"$nulls":3},{"$f":"IF(C38>0,VLOOKUP(C38,'Plan comptable'!$B$2:$C$123,2),\"\")","v":""},null,{"$f":"IF(E38>0,VLOOKUP(E38,'Plan comptable'!$B$2:$C$123,2),\"\")","v":""},null,null,{"v":0,"d":"0.00"},{"$f":"IF($L38=\"\",\"\",IF(C38=\"\",\"\",LOOKUP(C38,Miniplan,'Plan comptable'!$A$2:$A$78)))","v":""},{"$f":"IF($L38=\"\",\"\",IF(E38=\"\",\"\",LOOKUP(E38,Miniplan,'Plan comptable'!$A$2:$A$78)))","v":""},""]
[{"$nulls":3},{"$f":"IF(C39>0,VLOOKUP(C39,'Plan comptable'!$B$2:$C$123,2),\"\")","v":""},null,{"$f":"IF(E39>0,VLOOKUP(E39,'Plan comptable'!$B$2:$C$123,2),\"\")","v":""},null,null,{"v":0,"d":"0.00"},{"$f":"IF($L39=\"\",\"\",IF(C39=\"\",\"\",LOOKUP(C39,Miniplan,'Plan comptable'!$A$2:$A$78)))","v":""},{"$f":"IF($L39=\"\",\"\",IF(E39=\"\",\"\",LOOKUP(E39,Miniplan,'Plan comptable'!$A$2:$A$78)))","v":""},""]
[{"$nulls":3},{"$f":"IF(C40>0,VLOOKUP(C40,'Plan comptable'!$B$2:$C$123,2),\"\")","v":""},null,{"$f":"IF(E40>0,VLOOKUP(E40,'Plan comptable'!$B$2:$C$123,2),\"\")","v":""},null,null,{"v":0,"d":"0.00"},{"$f":"IF($L40=\"\",\"\",IF(C40=\"\",\"\",LOOKUP(C40,Miniplan,'Plan comptable'!$A$2:$A$78)))","v":""},{"$f":"IF($L40=\"\",\"\",IF(E40=\"\",\"\",LOOKUP(E40,Miniplan,'Plan comptable'!$A$2:$A$78)))","v":""},""]
[{"$nulls":3},{"$f":"IF(C41>0,VLOOKUP(C41,'Plan comptable'!$B$2:$C$123,2),\"\")","v":""},null,{"$f":"IF(E41>0,VLOOKUP(E41,'Plan comptable'!$B$2:$C$123,2),\"\")","v":""},null,null,{"v":0,"d":"0.00"},{"$f":"IF($L41=\"\",\"\",IF(C41=\"\",\"\",LOOKUP(C41,Miniplan,'Plan comptable'!$A$2:$A$78)))","v":""},{"$f":"IF($L41=\"\",\"\",IF(E41=\"\",\"\",LOOKUP(E41,Miniplan,'Plan comptable'!$A$2:$A$78)))","v":""},""]
[{"$nulls":3},{"$f":"IF(C42>0,VLOOKUP(C42,'Plan comptable'!$B$2:$C$123,2),\"\")","v":""},null,{"$f":"IF(E42>0,VLOOKUP(E42,'Plan comptable'!$B$2:$C$123,2),\"\")","v":""},null,null,{"v":0,"d":"0.00"},{"$f":"IF($L42=\"\",\"\",IF(C42=\"\",\"\",LOOKUP(C42,Miniplan,'Plan comptable'!$A$2:$A$78)))","v":""},{"$f":"IF($L42=\"\",\"\",IF(E42=\"\",\"\",LOOKUP(E42,Miniplan,'Plan comptable'!$A$2:$A$78)))","v":""},""]
[{"$nulls":3},{"$f":"IF(C43>0,VLOOKUP(C43,'Plan comptable'!$B$2:$C$123,2),\"\")","v":""},null,{"$f":"IF(E43>0,VLOOKUP(E43,'Plan comptable'!$B$2:$C$123,2),\"\")","v":""},null,null,{"v":0,"d":"0.00"},{"$f":"IF($L43=\"\",\"\",IF(C43=\"\",\"\",LOOKUP(C43,Miniplan,'Plan comptable'!$A$2:$A$78)))","v":""},{"$f":"IF($L43=\"\",\"\",IF(E43=\"\",\"\",LOOKUP(E43,Miniplan,'Plan comptable'!$A$2:$A$78)))","v":""},""]
[{"$nulls":3},{"$f":"IF(C44>0,VLOOKUP(C44,'Plan comptable'!$B$2:$C$123,2),\"\")","v":""},null,{"$f":"IF(E44>0,VLOOKUP(E44,'Plan comptable'!$B$2:$C$123,2),\"\")","v":""},null,null,{"$f":"H44","v":{"v":0,"d":"0.00"}},{"$f":"IF($L44=\"\",\"\",IF(C44=\"\",\"\",LOOKUP(C44,Miniplan,'Plan comptable'!$A$2:$A$78)))","v":""},{"$f":"IF($L44=\"\",\"\",IF(E44=\"\",\"\",LOOKUP(E44,Miniplan,'Plan comptable'!$A$2:$A$78)))","v":""},""]
[{"$nulls":3},{"$f":"IF(C45>0,VLOOKUP(C45,'Plan comptable'!$B$2:$C$123,2),\"\")","v":""},null,{"$f":"IF(E45>0,VLOOKUP(E45,'Plan comptable'!$B$2:$C$123,2),\"\")","v":""},null,null,{"v":0,"d":"0.00"},{"$f":"IF($L45=\"\",\"\",IF(C45=\"\",\"\",LOOKUP(C45,Miniplan,'Plan comptable'!$A$2:$A$78)))","v":""},{"$f":"IF($L45=\"\",\"\",IF(E45=\"\",\"\",LOOKUP(E45,Miniplan,'Plan comptable'!$A$2:$A$78)))","v":""},""]
[{"$nulls":3},{"$f":"IF(C46>0,VLOOKUP(C46,'Plan comptable'!$B$2:$C$123,2),\"\")","v":""},null,{"$f":"IF(E46>0,VLOOKUP(E46,'Plan comptable'!$B$2:$C$123,2),\"\")","v":""},null,null,{"v":0,"d":"0.00"},{"$f":"IF($L46=\"\",\"\",IF(C46=\"\",\"\",LOOKUP(C46,Miniplan,'Plan comptable'!$A$2:$A$78)))","v":""},{"$f":"IF($L46=\"\",\"\",IF(E46=\"\",\"\",LOOKUP(E46,Miniplan,'Plan comptable'!$A$2:$A$78)))","v":""},""]
[{"$nulls":3},{"$f":"IF(C47>0,VLOOKUP(C47,'Plan comptable'!$B$2:$C$123,2),\"\")","v":""},null,{"$f":"IF(E47>0,VLOOKUP(E47,'Plan comptable'!$B$2:$C$123,2),\"\")","v":""},null,null,{"v":0,"d":"0.00"},{"$f":"IF($L47=\"\",\"\",IF(C47=\"\",\"\",LOOKUP(C47,Miniplan,'Plan comptable'!$A$2:$A$78)))","v":""},{"$f":"IF($L47=\"\",\"\",IF(E47=\"\",\"\",LOOKUP(E47,Miniplan,'Plan comptable'!$A$2:$A$78)))","v":""},""]
[{"$nulls":3},{"$f":"IF(C48>0,VLOOKUP(C48,'Plan comptable'!$B$2:$C$123,2),\"\")","v":""},null,{"$f":"IF(E48>0,VLOOKUP(E48,'Plan comptable'!$B$2:$C$123,2),\"\")","v":""},null,null,{"v":0,"d":"0.00"},{"$f":"IF($L48=\"\",\"\",IF(C48=\"\",\"\",LOOKUP(C48,Miniplan,'Plan comptable'!$A$2:$A$78)))","v":""},{"$f":"IF($L48=\"\",\"\",IF(E48=\"\",\"\",LOOKUP(E48,Miniplan,'Plan comptable'!$A$2:$A$78)))","v":""},""]
[{"$nulls":3},{"$f":"IF(C49>0,VLOOKUP(C49,'Plan comptable'!$B$2:$C$123,2),\"\")","v":""},null,{"$f":"IF(E49>0,VLOOKUP(E49,'Plan comptable'!$B$2:$C$123,2),\"\")","v":""},null,null,{"v":0,"d":"0.00"},{"$f":"IF($L49=\"\",\"\",IF(C49=\"\",\"\",LOOKUP(C49,Miniplan,'Plan comptable'!$A$2:$A$78)))","v":""},{"$f":"IF($L49=\"\",\"\",IF(E49=\"\",\"\",LOOKUP(E49,Miniplan,'Plan comptable'!$A$2:$A$78)))","v":""},""]
[{"$nulls":3},{"$f":"IF(C50>0,VLOOKUP(C50,'Plan comptable'!$B$2:$C$123,2),\"\")","v":""},null,{"$f":"IF(E50>0,VLOOKUP(E50,'Plan comptable'!$B$2:$C$123,2),\"\")","v":""},null,null,{"v":0,"d":"0.00"},{"$f":"IF($L50=\"\",\"\",IF(C50=\"\",\"\",LOOKUP(C50,Miniplan,'Plan comptable'!$A$2:$A$78)))","v":""},{"$f":"IF($L50=\"\",\"\",IF(E50=\"\",\"\",LOOKUP(E50,Miniplan,'Plan comptable'!$A$2:$A$78)))","v":""},""]
[{"$nulls":3},{"$f":"IF(C51>0,VLOOKUP(C51,'Plan comptable'!$B$2:$C$123,2),\"\")","v":""},null,{"$f":"IF(E51>0,VLOOKUP(E51,'Plan comptable'!$B$2:$C$123,2),\"\")","v":""},null,null,{"v":0,"d":"0.00"},{"$f":"IF($L51=\"\",\"\",IF(C51=\"\",\"\",LOOKUP(C51,Miniplan,'Plan comptable'!$A$2:$A$78)))","v":""},{"$f":"IF($L51=\"\",\"\",IF(E51=\"\",\"\",LOOKUP(E51,Miniplan,'Plan comptable'!$A$2:$A$78)))","v":""},""]
[{"$nulls":3},{"$f":"IF(C52>0,VLOOKUP(C52,'Plan comptable'!$B$2:$C$123,2),\"\")","v":""},null,{"$f":"IF(E52>0,VLOOKUP(E52,'Plan comptable'!$B$2:$C$123,2),\"\")","v":""},null,null,{"v":0,"d":"0.00"},{"$f":"IF($L52=\"\",\"\",IF(C52=\"\",\"\",LOOKUP(C52,Miniplan,'Plan comptable'!$A$2:$A$78)))","v":""},{"$f":"IF($L52=\"\",\"\",IF(E52=\"\",\"\",LOOKUP(E52,Miniplan,'Plan comptable'!$A$2:$A$78)))","v":""},""]
[{"$nulls":3},{"$f":"IF(C53>0,VLOOKUP(C53,'Plan comptable'!$B$2:$C$123,2),\"\")","v":""},null,{"$f":"IF(E53>0,VLOOKUP(E53,'Plan comptable'!$B$2:$C$123,2),\"\")","v":""},null,null,{"v":0,"d":"0.00"},{"$f":"IF($L53=\"\",\"\",IF(C53=\"\",\"\",LOOKUP(C53,Miniplan,'Plan comptable'!$A$2:$A$78)))","v":""},{"$f":"IF($L53=\"\",\"\",IF(E53=\"\",\"\",LOOKUP(E53,Miniplan,'Plan comptable'!$A$2:$A$78)))","v":""},""]
[{"$nulls":3},{"$f":"IF(C54>0,VLOOKUP(C54,'Plan comptable'!$B$2:$C$123,2),\"\")","v":""},null,{"$f":"IF(E54>0,VLOOKUP(E54,'Plan comptable'!$B$2:$C$123,2),\"\")","v":""},null,null,{"v":0,"d":"0.00"},{"$f":"IF($L54=\"\",\"\",IF(C54=\"\",\"\",LOOKUP(C54,Miniplan,'Plan comptable'!$A$2:$A$78)))","v":""},{"$f":"IF($L54=\"\",\"\",IF(E54=\"\",\"\",LOOKUP(E54,Miniplan,'Plan comptable'!$A$2:$A$78)))","v":""},""]
[{"$nulls":3},{"$f":"IF(C55>0,VLOOKUP(C55,'Plan comptable'!$B$2:$C$123,2),\"\")","v":""},null,{"$f":"IF(E55>0,VLOOKUP(E55,'Plan comptable'!$B$2:$C$123,2),\"\")","v":""},null,null,{"v":0,"d":"0.00"},{"$f":"IF($L55=\"\",\"\",IF(C55=\"\",\"\",LOOKUP(C55,Miniplan,'Plan comptable'!$A$2:$A$78)))","v":""},{"$f":"IF($L55=\"\",\"\",IF(E55=\"\",\"\",LOOKUP(E55,Miniplan,'Plan comptable'!$A$2:$A$78)))","v":""},""]
[{"$nulls":3},{"$f":"IF(C56>0,VLOOKUP(C56,'Plan comptable'!$B$2:$C$123,2),\"\")","v":""},null,{"$f":"IF(E56>0,VLOOKUP(E56,'Plan comptable'!$B$2:$C$123,2),\"\")","v":""},null,null,{"v":0,"d":"0.00"},{"$f":"IF($L56=\"\",\"\",IF(C56=\"\",\"\",LOOKUP(C56,Miniplan,'Plan comptable'!$A$2:$A$78)))","v":""},{"$f":"IF($L56=\"\",\"\",IF(E56=\"\",\"\",LOOKUP(E56,Miniplan,'Plan comptable'!$A$2:$A$78)))","v":""},""]
[{"$nulls":3},{"$f":"IF(C57>0,VLOOKUP(C57,'Plan comptable'!$B$2:$C$123,2),\"\")","v":""},null,{"$f":"IF(E57>0,VLOOKUP(E57,'Plan comptable'!$B$2:$C$123,2),\"\")","v":""},null,null,{"v":0,"d":"0.00"},{"$f":"IF($L57=\"\",\"\",IF(C57=\"\",\"\",LOOKUP(C57,Miniplan,'Plan comptable'!$A$2:$A$78)))","v":""},{"$f":"IF($L57=\"\",\"\",IF(E57=\"\",\"\",LOOKUP(E57,Miniplan,'Plan comptable'!$A$2:$A$78)))","v":""},""]
[{"$nulls":3},{"$f":"IF(C58>0,VLOOKUP(C58,'Plan comptable'!$B$2:$C$123,2),\"\")","v":""},null,{"$f":"IF(E58>0,VLOOKUP(E58,'Plan comptable'!$B$2:$C$123,2),\"\")","v":""},null,null,{"v":0,"d":"0.00"},{"$f":"IF($L58=\"\",\"\",IF(C58=\"\",\"\",LOOKUP(C58,Miniplan,'Plan comptable'!$A$2:$A$78)))","v":""},{"$f":"IF($L58=\"\",\"\",IF(E58=\"\",\"\",LOOKUP(E58,Miniplan,'Plan comptable'!$A$2:$A$78)))","v":""},""]
[{"$nulls":3},{"$f":"IF(C59>0,VLOOKUP(C59,'Plan comptable'!$B$2:$C$123,2),\"\")","v":""},null,{"$f":"IF(E59>0,VLOOKUP(E59,'Plan comptable'!$B$2:$C$123,2),\"\")","v":""},null,null,{"v":0,"d":"0.00"},{"$f":"IF($L59=\"\",\"\",IF(C59=\"\",\"\",LOOKUP(C59,Miniplan,'Plan comptable'!$A$2:$A$78)))","v":""},{"$f":"IF($L59=\"\",\"\",IF(E59=\"\",\"\",LOOKUP(E59,Miniplan,'Plan comptable'!$A$2:$A$78)))","v":""},""]
[{"$nulls":3},{"$f":"IF(C60>0,VLOOKUP(C60,'Plan comptable'!$B$2:$C$123,2),\"\")","v":""},null,{"$f":"IF(E60>0,VLOOKUP(E60,'Plan comptable'!$B$2:$C$123,2),\"\")","v":""},null,null,{"v":0,"d":"0.00"},{"$f":"IF($L60=\"\",\"\",IF(C60=\"\",\"\",LOOKUP(C60,Miniplan,'Plan comptable'!$A$2:$A$78)))","v":""},{"$f":"IF($L60=\"\",\"\",IF(E60=\"\",\"\",LOOKUP(E60,Miniplan,'Plan comptable'!$A$2:$A$78)))","v":""},""]
[{"$nulls":3},{"$f":"IF(C61>0,VLOOKUP(C61,'Plan comptable'!$B$2:$C$123,2),\"\")","v":""},null,{"$f":"IF(E61>0,VLOOKUP(E61,'Plan comptable'!$B$2:$C$123,2),\"\")","v":""},null,null,{"v":0,"d":"0.00"},{"$f":"IF($L61=\"\",\"\",IF(C61=\"\",\"\",LOOKUP(C61,Miniplan,'Plan comptable'!$A$2:$A$78)))","v":""},{"$f":"IF($L61=\"\",\"\",IF(E61=\"\",\"\",LOOKUP(E61,Miniplan,'Plan comptable'!$A$2:$A$78)))","v":""},""]
[{"$nulls":3},{"$f":"IF(C62>0,VLOOKUP(C62,'Plan comptable'!$B$2:$C$123,2),\"\")","v":""},null,{"$f":"IF(E62>0,VLOOKUP(E62,'Plan comptable'!$B$2:$C$123,2),\"\")","v":""},null,null,{"v":0,"d":"0.00"},{"$f":"IF($L62=\"\",\"\",IF(C62=\"\",\"\",LOOKUP(C62,Miniplan,'Plan comptable'!$A$2:$A$78)))","v":""},{"$f":"IF($L62=\"\",\"\",IF(E62=\"\",\"\",LOOKUP(E62,Miniplan,'Plan comptable'!$A$2:$A$78)))","v":""},""]
[{"$nulls":3},{"$f":"IF(C63>0,VLOOKUP(C63,'Plan comptable'!$B$2:$C$123,2),\"\")","v":""},null,{"$f":"IF(E63>0,VLOOKUP(E63,'Plan comptable'!$B$2:$C$123,2),\"\")","v":""},null,null,{"v":0,"d":"0.00"},{"$f":"IF($L63=\"\",\"\",IF(C63=\"\",\"\",LOOKUP(C63,Miniplan,'Plan comptable'!$A$2:$A$78)))","v":""},{"$f":"IF($L63=\"\",\"\",IF(E63=\"\",\"\",LOOKUP(E63,Miniplan,'Plan comptable'!$A$2:$A$78)))","v":""},""]
[{"$nulls":3},{"$f":"IF(C64>0,VLOOKUP(C64,'Plan comptable'!$B$2:$C$123,2),\"\")","v":""},null,{"$f":"IF(E64>0,VLOOKUP(E64,'Plan comptable'!$B$2:$C$123,2),\"\")","v":""},null,null,{"v":0,"d":"0.00"},{"$f":"IF($L64=\"\",\"\",IF(C64=\"\",\"\",LOOKUP(C64,Miniplan,'Plan comptable'!$A$2:$A$78)))","v":""},{"$f":"IF($L64=\"\",\"\",IF(E64=\"\",\"\",LOOKUP(E64,Miniplan,'Plan comptable'!$A$2:$A$78)))","v":""},""]
[{"$nulls":3},{"$f":"IF(C65>0,VLOOKUP(C65,'Plan comptable'!$B$2:$C$123,2),\"\")","v":""},null,{"$f":"IF(E65>0,VLOOKUP(E65,'Plan comptable'!$B$2:$C$123,2),\"\")","v":""},null,null,{"v":0,"d":"0.00"},{"$f":"IF($L65=\"\",\"\",IF(C65=\"\",\"\",LOOKUP(C65,Miniplan,'Plan comptable'!$A$2:$A$78)))","v":""},{"$f":"IF($L65=\"\",\"\",IF(E65=\"\",\"\",LOOKUP(E65,Miniplan,'Plan comptable'!$A$2:$A$78)))","v":""},""]
[{"$nulls":3},{"$f":"IF(C66>0,VLOOKUP(C66,'Plan comptable'!$B$2:$C$123,2),\"\")","v":""},null,{"$f":"IF(E66>0,VLOOKUP(E66,'Plan comptable'!$B$2:$C$123,2),\"\")","v":""},null,null,{"v":0,"d":"0.00"},{"$f":"IF($L66=\"\",\"\",IF(C66=\"\",\"\",LOOKUP(C66,Miniplan,'Plan comptable'!$A$2:$A$78)))","v":""},{"$f":"IF($L66=\"\",\"\",IF(E66=\"\",\"\",LOOKUP(E66,Miniplan,'Plan comptable'!$A$2:$A$78)))","v":""},""]
[{"$nulls":3},{"$f":"IF(C67>0,VLOOKUP(C67,'Plan comptable'!$B$2:$C$123,2),\"\")","v":""},null,{"$f":"IF(E67>0,VLOOKUP(E67,'Plan comptable'!$B$2:$C$123,2),\"\")","v":""},null,null,{"v":0,"d":"0.00"},{"$f":"IF($L67=\"\",\"\",IF(C67=\"\",\"\",LOOKUP(C67,Miniplan,'Plan comptable'!$A$2:$A$78)))","v":""},{"$f":"IF($L67=\"\",\"\",IF(E67=\"\",\"\",LOOKUP(E67,Miniplan,'Plan comptable'!$A$2:$A$78)))","v":""},""]
[{"$nulls":3},{"$f":"IF(C68>0,VLOOKUP(C68,'Plan comptable'!$B$2:$C$123,2),\"\")","v":""},null,{"$f":"IF(E68>0,VLOOKUP(E68,'Plan comptable'!$B$2:$C$123,2),\"\")","v":""},null,null,{"v":0,"d":"0.00"},{"$f":"IF($L68=\"\",\"\",IF(C68=\"\",\"\",LOOKUP(C68,Miniplan,'Plan comptable'!$A$2:$A$78)))","v":""},{"$f":"IF($L68=\"\",\"\",IF(E68=\"\",\"\",LOOKUP(E68,Miniplan,'Plan comptable'!$A$2:$A$78)))","v":""},""]
[{"$nulls":3},{"$f":"IF(C69>0,VLOOKUP(C69,'Plan comptable'!$B$2:$C$123,2),\"\")","v":""},null,{"$f":"IF(E69>0,VLOOKUP(E69,'Plan comptable'!$B$2:$C$123,2),\"\")","v":""},null,null,{"v":0,"d":"0.00"},{"$f":"IF($L69=\"\",\"\",IF(C69=\"\",\"\",LOOKUP(C69,Miniplan,'Plan comptable'!$A$2:$A$78)))","v":""},{"$f":"IF($L69=\"\",\"\",IF(E69=\"\",\"\",LOOKUP(E69,Miniplan,'Plan comptable'!$A$2:$A$78)))","v":""},""]
[{"$nulls":3},{"$f":"IF(C70>0,VLOOKUP(C70,'Plan comptable'!$B$2:$C$123,2),\"\")","v":""},null,{"$f":"IF(E70>0,VLOOKUP(E70,'Plan comptable'!$B$2:$C$123,2),\"\")","v":""},null,null,{"v":0,"d":"0.00"},{"$f":"IF($L70=\"\",\"\",IF(C70=\"\",\"\",LOOKUP(C70,Miniplan,'Plan comptable'!$A$2:$A$78)))","v":""},{"$f":"IF($L70=\"\",\"\",IF(E70=\"\",\"\",LOOKUP(E70,Miniplan,'Plan comptable'!$A$2:$A$78)))","v":""},""]
[{"$nulls":3},{"$f":"IF(C71>0,VLOOKUP(C71,'Plan comptable'!$B$2:$C$123,2),\"\")","v":""},null,{"$f":"IF(E71>0,VLOOKUP(E71,'Plan comptable'!$B$2:$C$123,2),\"\")","v":""},null,null,{"v":0,"d":"0.00"},{"$f":"IF($L71=\"\",\"\",IF(C71=\"\",\"\",LOOKUP(C71,Miniplan,'Plan comptable'!$A$2:$A$78)))","v":""},{"$f":"IF($L71=\"\",\"\",IF(E71=\"\",\"\",LOOKUP(E71,Miniplan,'Plan comptable'!$A$2:$A$78)))","v":""},{"$f":"IF(SUM(H71:I71)=0,\"\",IF(H71=\"\",I71,H71))","v":""}]
[{"$nulls":3},{"$f":"IF(C72>0,VLOOKUP(C72,'Plan comptable'!$B$2:$C$123,2),\"\")","v":""},null,{"$f":"IF(E72>0,VLOOKUP(E72,'Plan comptable'!$B$2:$C$123,2),\"\")","v":""},null,null,{"$f":"H72","v":{"v":0,"d":"0.00"}},{"$f":"IF($L72=\"\",\"\",IF(C72=\"\",\"\",LOOKUP(C72,Miniplan,'Plan comptable'!$A$2:$A$78)))","v":""},{"$f":"IF($L72=\"\",\"\",IF(E72=\"\",\"\",LOOKUP(E72,Miniplan,'Plan comptable'!$A$2:$A$78)))","v":""},""]
[{"$nulls":3},{"$f":"IF(C73>0,VLOOKUP(C73,'Plan comptable'!$B$2:$C$123,2),\"\")","v":""},null,{"$f":"IF(E73>0,VLOOKUP(E73,'Plan comptable'!$B$2:$C$123,2),\"\")","v":""},null,null,{"v":0,"d":"0.00"},{"$f":"IF($L73=\"\",\"\",IF(C73=\"\",\"\",LOOKUP(C73,Miniplan,'Plan comptable'!$A$2:$A$78)))","v":""},{"$f":"IF($L73=\"\",\"\",IF(E73=\"\",\"\",LOOKUP(E73,Miniplan,'Plan comptable'!$A$2:$A$78)))","v":""},""]
[{"$nulls":3},{"$f":"IF(C74>0,VLOOKUP(C74,'Plan comptable'!$B$2:$C$123,2),\"\")","v":""},null,{"$f":"IF(E74>0,VLOOKUP(E74,'Plan comptable'!$B$2:$C$123,2),\"\")","v":""},null,null,{"v":0,"d":"0.00"},{"$f":"IF($L74=\"\",\"\",IF(C74=\"\",\"\",LOOKUP(C74,Miniplan,'Plan comptable'!$A$2:$A$78)))","v":""},{"$f":"IF($L74=\"\",\"\",IF(E74=\"\",\"\",LOOKUP(E74,Miniplan,'Plan comptable'!$A$2:$A$78)))","v":""},""]
[{"$nulls":3},{"$f":"IF(C75>0,VLOOKUP(C75,'Plan comptable'!$B$2:$C$123,2),\"\")","v":""},null,{"$f":"IF(E75>0,VLOOKUP(E75,'Plan comptable'!$B$2:$C$123,2),\"\")","v":""},null,null,{"v":0,"d":"0.00"},{"$f":"IF($L75=\"\",\"\",IF(C75=\"\",\"\",LOOKUP(C75,Miniplan,'Plan comptable'!$A$2:$A$78)))","v":""},{"$f":"IF($L75=\"\",\"\",IF(E75=\"\",\"\",LOOKUP(E75,Miniplan,'Plan comptable'!$A$2:$A$78)))","v":""},""]
[{"$nulls":3},{"$f":"IF(C76>0,VLOOKUP(C76,'Plan comptable'!$B$2:$C$123,2),\"\")","v":""},null,{"$f":"IF(E76>0,VLOOKUP(E76,'Plan comptable'!$B$2:$C$123,2),\"\")","v":""},null,null,{"v":0,"d":"0.00"},{"$f":"IF($L76=\"\",\"\",IF(C76=\"\",\"\",LOOKUP(C76,Miniplan,'Plan comptable'!$A$2:$A$78)))","v":""},{"$f":"IF($L76=\"\",\"\",IF(E76=\"\",\"\",LOOKUP(E76,Miniplan,'Plan comptable'!$A$2:$A$78)))","v":""},""]
[{"$nulls":3},{"$f":"IF(C77>0,VLOOKUP(C77,'Plan comptable'!$B$2:$C$123,2),\"\")","v":""},null,{"$f":"IF(E77>0,VLOOKUP(E77,'Plan comptable'!$B$2:$C$123,2),\"\")","v":""},null,null,{"v":0,"d":"0.00"},{"$f":"IF($L77=\"\",\"\",IF(C77=\"\",\"\",LOOKUP(C77,Miniplan,'Plan comptable'!$A$2:$A$78)))","v":""},{"$f":"IF($L77=\"\",\"\",IF(E77=\"\",\"\",LOOKUP(E77,Miniplan,'Plan comptable'!$A$2:$A$78)))","v":""},""]
[{"$nulls":3},{"$f":"IF(C78>0,VLOOKUP(C78,'Plan comptable'!$B$2:$C$123,2),\"\")","v":""},null,{"$f":"IF(E78>0,VLOOKUP(E78,'Plan comptable'!$B$2:$C$123,2),\"\")","v":""},null,null,{"v":0,"d":"0.00"},{"$f":"IF($L78=\"\",\"\",IF(C78=\"\",\"\",LOOKUP(C78,Miniplan,'Plan comptable'!$A$2:$A$78)))","v":""},{"$f":"IF($L78=\"\",\"\",IF(E78=\"\",\"\",LOOKUP(E78,Miniplan,'Plan comptable'!$A$2:$A$78)))","v":""},""]
[{"$nulls":3},{"$f":"IF(C79>0,VLOOKUP(C79,'Plan comptable'!$B$2:$C$123,2),\"\")","v":""},null,{"$f":"IF(E79>0,VLOOKUP(E79,'Plan comptable'!$B$2:$C$123,2),\"\")","v":""},null,null,{"v":0,"d":"0.00"},{"$f":"IF($L79=\"\",\"\",IF(C79=\"\",\"\",LOOKUP(C79,Miniplan,'Plan comptable'!$A$2:$A$78)))","v":""},{"$f":"IF($L79=\"\",\"\",IF(E79=\"\",\"\",LOOKUP(E79,Miniplan,'Plan comptable'!$A$2:$A$78)))","v":""},""]
[{"$nulls":3},{"$f":"IF(C80>0,VLOOKUP(C80,'Plan comptable'!$B$2:$C$123,2),\"\")","v":""},null,{"$f":"IF(E80>0,VLOOKUP(E80,'Plan comptable'!$B$2:$C$123,2),\"\")","v":""},null,null,{"v":0,"d":"0.00"},{"$f":"IF($L80=\"\",\"\",IF(C80=\"\",\"\",LOOKUP(C80,Miniplan,'Plan comptable'!$A$2:$A$78)))","v":""},{"$f":"IF($L80=\"\",\"\",IF(E80=\"\",\"\",LOOKUP(E80,Miniplan,'Plan comptable'!$A$2:$A$78)))","v":""},""]
[{"$nulls":3},{"$f":"IF(C81>0,VLOOKUP(C81,'Plan comptable'!$B$2:$C$123,2),\"\")","v":""},null,{"$f":"IF(E81>0,VLOOKUP(E81,'Plan comptable'!$B$2:$C$123,2),\"\")","v":""},null,null,{"v":0,"d":"0.00"},{"$f":"IF($L81=\"\",\"\",IF(C81=\"\",\"\",LOOKUP(C81,Miniplan,'Plan comptable'!$A$2:$A$78)))","v":""},{"$f":"IF($L81=\"\",\"\",IF(E81=\"\",\"\",LOOKUP(E81,Miniplan,'Plan comptable'!$A$2:$A$78)))","v":""},""]
[{"$nulls":3},{"$f":"IF(C82>0,VLOOKUP(C82,'Plan comptable'!$B$2:$C$123,2),\"\")","v":""},null,{"$f":"IF(E82>0,VLOOKUP(E82,'Plan comptable'!$B$2:$C$123,2),\"\")","v":""},null,null,{"v":0,"d":"0.00"},{"$f":"IF($L82=\"\",\"\",IF(C82=\"\",\"\",LOOKUP(C82,Miniplan,'Plan comptable'!$A$2:$A$78)))","v":""},{"$f":"IF($L82=\"\",\"\",IF(E82=\"\",\"\",LOOKUP(E82,Miniplan,'Plan comptable'!$A$2:$A$78)))","v":""},""]
[{"$nulls":3},{"$f":"IF(C83>0,VLOOKUP(C83,'Plan comptable'!$B$2:$C$123,2),\"\")","v":""},null,{"$f":"IF(E83>0,VLOOKUP(E83,'Plan comptable'!$B$2:$C$123,2),\"\")","v":""},null,null,{"v":0,"d":"0.00"},{"$f":"IF($L83=\"\",\"\",IF(C83=\"\",\"\",LOOKUP(C83,Miniplan,'Plan comptable'!$A$2:$A$78)))","v":""},{"$f":"IF($L83=\"\",\"\",IF(E83=\"\",\"\",LOOKUP(E83,Miniplan,'Plan comptable'!$A$2:$A$78)))","v":""},""]
[{"$nulls":3},{"$f":"IF(C84>0,VLOOKUP(C84,'Plan comptable'!$B$2:$C$123,2),\"\")","v":""},null,{"$f":"IF(E84>0,VLOOKUP(E84,'Plan comptable'!$B$2:$C$123,2),\"\")","v":""},null,null,{"v":0,"d":"0.00"},{"$f":"IF($L84=\"\",\"\",IF(C84=\"\",\"\",LOOKUP(C84,Miniplan,'Plan comptable'!$A$2:$A$78)))","v":""},{"$f":"IF($L84=\"\",\"\",IF(E84=\"\",\"\",LOOKUP(E84,Miniplan,'Plan comptable'!$A$2:$A$78)))","v":""},""]
[{"$nulls":3},{"$f":"IF(C85>0,VLOOKUP(C85,'Plan comptable'!$B$2:$C$123,2),\"\")","v":""},null,{"$f":"IF(E85>0,VLOOKUP(E85,'Plan comptable'!$B$2:$C$123,2),\"\")","v":""},null,null,{"v":0,"d":"0.00"},{"$f":"IF($L85=\"\",\"\",IF(C85=\"\",\"\",LOOKUP(C85,Miniplan,'Plan comptable'!$A$2:$A$78)))","v":""},{"$f":"IF($L85=\"\",\"\",IF(E85=\"\",\"\",LOOKUP(E85,Miniplan,'Plan comptable'!$A$2:$A$78)))","v":""},""]
[{"$nulls":3},{"$f":"IF(C86>0,VLOOKUP(C86,'Plan comptable'!$B$2:$C$123,2),\"\")","v":""},null,{"$f":"IF(E86>0,VLOOKUP(E86,'Plan comptable'!$B$2:$C$123,2),\"\")","v":""},null,null,{"v":0,"d":"0.00"},{"$f":"IF($L86=\"\",\"\",IF(C86=\"\",\"\",LOOKUP(C86,Miniplan,'Plan comptable'!$A$2:$A$78)))","v":""},{"$f":"IF($L86=\"\",\"\",IF(E86=\"\",\"\",LOOKUP(E86,Miniplan,'Plan comptable'!$A$2:$A$78)))","v":""},""]
[{"$nulls":3},{"$f":"IF(C87>0,VLOOKUP(C87,'Plan comptable'!$B$2:$C$123,2),\"\")","v":""},null,{"$f":"IF(E87>0,VLOOKUP(E87,'Plan comptable'!$B$2:$C$123,2),\"\")","v":""},null,null,{"v":0,"d":"0.00"},{"$f":"IF($L87=\"\",\"\",IF(C87=\"\",\"\",LOOKUP(C87,Miniplan,'Plan comptable'!$A$2:$A$78)))","v":""},{"$f":"IF($L87=\"\",\"\",IF(E87=\"\",\"\",LOOKUP(E87,Miniplan,'Plan comptable'!$A$2:$A$78)))","v":""},""]
[{"$nulls":3},{"$f":"IF(C88>0,VLOOKUP(C88,'Plan comptable'!$B$2:$C$123,2),\"\")","v":""},null,{"$f":"IF(E88>0,VLOOKUP(E88,'Plan comptable'!$B$2:$C$123,2),\"\")","v":""},null,null,{"v":0,"d":"0.00"},{"$f":"IF($L88=\"\",\"\",IF(C88=\"\",\"\",LOOKUP(C88,Miniplan,'Plan comptable'!$A$2:$A$78)))","v":""},{"$f":"IF($L88=\"\",\"\",IF(E88=\"\",\"\",LOOKUP(E88,Miniplan,'Plan comptable'!$A$2:$A$78)))","v":""},""]
[{"$nulls":3},{"$f":"IF(C89>0,VLOOKUP(C89,'Plan comptable'!$B$2:$C$123,2),\"\")","v":""},null,{"$f":"IF(E89>0,VLOOKUP(E89,'Plan comptable'!$B$2:$C$123,2),\"\")","v":""},null,null,{"v":0,"d":"0.00"},{"$f":"IF($L89=\"\",\"\",IF(C89=\"\",\"\",LOOKUP(C89,Miniplan,'Plan comptable'!$A$2:$A$78)))","v":""},{"$f":"IF($L89=\"\",\"\",IF(E89=\"\",\"\",LOOKUP(E89,Miniplan,'Plan comptable'!$A$2:$A$78)))","v":""},""]
[{"$nulls":3},{"$f":"IF(C90>0,VLOOKUP(C90,'Plan comptable'!$B$2:$C$123,2),\"\")","v":""},null,{"$f":"IF(E90>0,VLOOKUP(E90,'Plan comptable'!$B$2:$C$123,2),\"\")","v":""},null,null,{"v":0,"d":"0.00"},{"$f":"IF($L90=\"\",\"\",IF(C90=\"\",\"\",LOOKUP(C90,Miniplan,'Plan comptable'!$A$2:$A$78)))","v":""},{"$f":"IF($L90=\"\",\"\",IF(E90=\"\",\"\",LOOKUP(E90,Miniplan,'Plan comptable'!$A$2:$A$78)))","v":""},""]
[{"$nulls":3},{"$f":"IF(C91>0,VLOOKUP(C91,'Plan comptable'!$B$2:$C$123,2),\"\")","v":""},null,{"$f":"IF(E91>0,VLOOKUP(E91,'Plan comptable'!$B$2:$C$123,2),\"\")","v":""},null,null,{"v":0,"d":"0.00"},{"$f":"IF($L91=\"\",\"\",IF(C91=\"\",\"\",LOOKUP(C91,Miniplan,'Plan comptable'!$A$2:$A$78)))","v":""},{"$f":"IF($L91=\"\",\"\",IF(E91=\"\",\"\",LOOKUP(E91,Miniplan,'Plan comptable'!$A$2:$A$78)))","v":""},""]
[{"$nulls":3},{"$f":"IF(C92>0,VLOOKUP(C92,'Plan comptable'!$B$2:$C$123,2),\"\")","v":""},null,{"$f":"IF(E92>0,VLOOKUP(E92,'Plan comptable'!$B$2:$C$123,2),\"\")","v":""},null,null,{"v":0,"d":"0.00"},{"$f":"IF($L92=\"\",\"\",IF(C92=\"\",\"\",LOOKUP(C92,Miniplan,'Plan comptable'!$A$2:$A$78)))","v":""},{"$f":"IF($L92=\"\",\"\",IF(E92=\"\",\"\",LOOKUP(E92,Miniplan,'Plan comptable'!$A$2:$A$78)))","v":""},""]
[{"$nulls":3},{"$f":"IF(C93>0,VLOOKUP(C93,'Plan comptable'!$B$2:$C$123,2),\"\")","v":""},null,{"$f":"IF(E93>0,VLOOKUP(E93,'Plan comptable'!$B$2:$C$123,2),\"\")","v":""},null,null,{"v":0,"d":"0.00"},{"$f":"IF($L93=\"\",\"\",IF(C93=\"\",\"\",LOOKUP(C93,Miniplan,'Plan comptable'!$A$2:$A$78)))","v":""},{"$f":"IF($L93=\"\",\"\",IF(E93=\"\",\"\",LOOKUP(E93,Miniplan,'Plan comptable'!$A$2:$A$78)))","v":""},""]
[{"$nulls":3},{"$f":"IF(C94>0,VLOOKUP(C94,'Plan comptable'!$B$2:$C$123,2),\"\")","v":""},null,{"$f":"IF(E94>0,VLOOKUP(E94,'Plan comptable'!$B$2:$C$123,2),\"\")","v":""},null,null,{"v":0,"d":"0.00"},{"$f":"IF($L94=\"\",\"\",IF(C94=\"\",\"\",LOOKUP(C94,Miniplan,'Plan comptable'!$A$2:$A$78)))","v":""},{"$f":"IF($L94=\"\",\"\",IF(E94=\"\",\"\",LOOKUP(E94,Miniplan,'Plan comptable'!$A$2:$A$78)))","v":""},""]
[{"$nulls":3},{"$f":"IF(C95>0,VLOOKUP(C95,'Plan comptable'!$B$2:$C$123,2),\"\")","v":""},null,{"$f":"IF(E95>0,VLOOKUP(E95,'Plan comptable'!$B$2:$C$123,2),\"\")","v":""},null,null,{"v":0,"d":"0.00"},{"$f":"IF($L95=\"\",\"\",IF(C95=\"\",\"\",LOOKUP(C95,Miniplan,'Plan comptable'!$A$2:$A$78)))","v":""},{"$f":"IF($L95=\"\",\"\",IF(E95=\"\",\"\",LOOKUP(E95,Miniplan,'Plan comptable'!$A$2:$A$78)))","v":""},""]
[{"$nulls":3},{"$f":"IF(C96>0,VLOOKUP(C96,'Plan comptable'!$B$2:$C$123,2),\"\")","v":""},null,{"$f":"IF(E96>0,VLOOKUP(E96,'Plan comptable'!$B$2:$C$123,2),\"\")","v":""},null,null,{"v":0,"d":"0.00"},{"$f":"IF($L96=\"\",\"\",IF(C96=\"\",\"\",LOOKUP(C96,Miniplan,'Plan comptable'!$A$2:$A$78)))","v":""},{"$f":"IF($L96=\"\",\"\",IF(E96=\"\",\"\",LOOKUP(E96,Miniplan,'Plan comptable'!$A$2:$A$78)))","v":""},""]
[{"$nulls":3},{"$f":"IF(C97>0,VLOOKUP(C97,'Plan comptable'!$B$2:$C$123,2),\"\")","v":""},null,{"$f":"IF(E97>0,VLOOKUP(E97,'Plan comptable'!$B$2:$C$123,2),\"\")","v":""},null,null,{"v":0,"d":"0.00"},{"$f":"IF($L97=\"\",\"\",IF(C97=\"\",\"\",LOOKUP(C97,Miniplan,'Plan comptable'!$A$2:$A$78)))","v":""},{"$f":"IF($L97=\"\",\"\",IF(E97=\"\",\"\",LOOKUP(E97,Miniplan,'Plan comptable'!$A$2:$A$78)))","v":""},""]
[{"$nulls":3},{"$f":"IF(C98>0,VLOOKUP(C98,'Plan comptable'!$B$2:$C$123,2),\"\")","v":""},null,{"$f":"IF(E98>0,VLOOKUP(E98,'Plan comptable'!$B$2:$C$123,2),\"\")","v":""},null,null,{"v":0,"d":"0.00"},{"$f":"IF($L98=\"\",\"\",IF(C98=\"\",\"\",LOOKUP(C98,Miniplan,'Plan comptable'!$A$2:$A$78)))","v":""},{"$f":"IF($L98=\"\",\"\",IF(E98=\"\",\"\",LOOKUP(E98,Miniplan,'Plan comptable'!$A$2:$A$78)))","v":""},""]
[{"$nulls":3},{"$f":"IF(C99>0,VLOOKUP(C99,'Plan comptable'!$B$2:$C$123,2),\"\")","v":""},null,{"$f":"IF(E99>0,VLOOKUP(E99,'Plan comptable'!$B$2:$C$123,2),\"\")","v":""},null,null,{"v":0,"d":"0.00"},{"$f":"IF($L99=\"\",\"\",IF(C99=\"\",\"\",LOOKUP(C99,Miniplan,'Plan comptable'!$A$2:$A$78)))","v":""},{"$f":"IF($L99=\"\",\"\",IF(E99=\"\",\"\",LOOKUP(E99,Miniplan,'Plan comptable'!$A$2:$A$78)))","v":""},""]
[{"$nulls":3},{"$f":"IF(C100>0,VLOOKUP(C100,'Plan comptable'!$B$2:$C$123,2),\"\")","v":""},null,{"$f":"IF(E100>0,VLOOKUP(E100,'Plan comptable'!$B$2:$C$123,2),\"\")","v":""},null,null,{"v":0,"d":"0.00"},{"$f":"IF($L100=\"\",\"\",IF(C100=\"\",\"\",LOOKUP(C100,Miniplan,'Plan comptable'!$A$2:$A$78)))","v":""},{"$f":"IF($L100=\"\",\"\",IF(E100=\"\",\"\",LOOKUP(E100,Miniplan,'Plan comptable'!$A$2:$A$78)))","v":""},""]
[{"$nulls":3},{"$f":"IF(C101>0,VLOOKUP(C101,'Plan comptable'!$B$2:$C$123,2),\"\")","v":""},null,{"$f":"IF(E101>0,VLOOKUP(E101,'Plan comptable'!$B$2:$C$123,2),\"\")","v":""},null,null,{"v":0,"d":"0.00"},{"$f":"IF($L101=\"\",\"\",IF(C101=\"\",\"\",LOOKUP(C101,Miniplan,'Plan comptable'!$A$2:$A$78)))","v":""},{"$f":"IF($L101=\"\",\"\",IF(E101=\"\",\"\",LOOKUP(E101,Miniplan,'Plan comptable'!$A$2:$A$78)))","v":""},""]
[{"$nulls":3},{"$f":"IF(C102>0,VLOOKUP(C102,'Plan comptable'!$B$2:$C$123,2),\"\")","v":""},null,{"$f":"IF(E102>0,VLOOKUP(E102,'Plan comptable'!$B$2:$C$123,2),\"\")","v":""},null,null,{"v":0,"d":"0.00"},{"$f":"IF($L102=\"\",\"\",IF(C102=\"\",\"\",LOOKUP(C102,Miniplan,'Plan comptable'!$A$2:$A$78)))","v":""},{"$f":"IF($L102=\"\",\"\",IF(E102=\"\",\"\",LOOKUP(E102,Miniplan,'Plan comptable'!$A$2:$A$78)))","v":""},""]
[{"$nulls":3},{"$f":"IF(C103>0,VLOOKUP(C103,'Plan comptable'!$B$2:$C$123,2),\"\")","v":""},null,{"$f":"IF(E103>0,VLOOKUP(E103,'Plan comptable'!$B$2:$C$123,2),\"\")","v":""},null,null,{"v":0,"d":"0.00"},{"$f":"IF($L103=\"\",\"\",IF(C103=\"\",\"\",LOOKUP(C103,Miniplan,'Plan comptable'!$A$2:$A$78)))","v":""},{"$f":"IF($L103=\"\",\"\",IF(E103=\"\",\"\",LOOKUP(E103,Miniplan,'Plan comptable'!$A$2:$A$78)))","v":""},""]
[{"$nulls":3},{"$f":"IF(C104>0,VLOOKUP(C104,'Plan comptable'!$B$2:$C$123,2),\"\")","v":""},null,{"$f":"IF(E104>0,VLOOKUP(E104,'Plan comptable'!$B$2:$C$123,2),\"\")","v":""},null,null,{"v":0,"d":"0.00"},{"$f":"IF($L104=\"\",\"\",IF(C104=\"\",\"\",LOOKUP(C104,Miniplan,'Plan comptable'!$A$2:$A$78)))","v":""},{"$f":"IF($L104=\"\",\"\",IF(E104=\"\",\"\",LOOKUP(E104,Miniplan,'Plan comptable'!$A$2:$A$78)))","v":""},""]
[{"$nulls":3},{"$f":"IF(C105>0,VLOOKUP(C105,'Plan comptable'!$B$2:$C$123,2),\"\")","v":""},null,{"$f":"IF(E105>0,VLOOKUP(E105,'Plan comptable'!$B$2:$C$123,2),\"\")","v":""},{"$nulls":3},{"$f":"IF($L105=\"\",\"\",IF(C105=\"\",\"\",LOOKUP(C105,Miniplan,'Plan comptable'!$A$2:$A$78)))","v":""},{"$f":"IF($L105=\"\",\"\",IF(E105=\"\",\"\",LOOKUP(E105,Miniplan,'Plan comptable'!$A$2:$A$78)))","v":""},""]
[{"$nulls":3},{"$f":"IF(C106>0,VLOOKUP(C106,'Plan comptable'!$B$2:$C$123,2),\"\")","v":""},null,{"$f":"IF(E106>0,VLOOKUP(E106,'Plan comptable'!$B$2:$C$123,2),\"\")","v":""},null,null,{"$f":"H106","v":{"v":0,"d":"0.00"}},{"$f":"IF($L106=\"\",\"\",IF(C106=\"\",\"\",LOOKUP(C106,Miniplan,'Plan comptable'!$A$2:$A$78)))","v":""},{"$f":"IF($L106=\"\",\"\",IF(E106=\"\",\"\",LOOKUP(E106,Miniplan,'Plan comptable'!$A$2:$A$78)))","v":""},""]

{"sheet":"Un compte","index":2,"n_rows":100,"n_cols":36,"rows_kept":100,"merged":[[5,1,5,7],[6,2,6,3],[6,4,6,5],[6,11,7,16],[6,26,7,29],[6,32,7,35],[8,26,8,27],[8,28,8,29],[8,32,8,33],[8,34,8,35]]}
[]
[]
[]
[]
[{"$nulls":11},6,25,4,null,null,true]
[]
[{"$nulls":11},{"$f":"VLOOKUP(M5,Plan,3)","v":"Dettes LPP"},{"$nulls":7},"Plan comptable",{"$nulls":6},"Résultat",{"$nulls":5},"Bilan"]
[{"$nulls":8},{"$f":"IF($H8=\"\",\"\",LOOKUP(C8,$T$8:$T$26,$S$8:$S$26))","v":""},{"$f":"IF($H8=\"\",\"\",LOOKUP(E8,$T$8:$T$26,$S$8:$S$26))","v":""},{"$nulls":8},{"$f":"'Plan comptable'!A2","v":1},{"$f":"'Plan comptable'!B2","v":1000},{"$f":"'Plan comptable'!C2","v":"Caisse"}]
[{"$nulls":8},"","",null,"No","C/partie","Libellé","Débit","Crédit","Solde",null,{"$f":"'Plan comptable'!A3","v":2},{"$f":"'Plan comptable'!B3","v":1010},{"$f":"'Plan comptable'!C3","v":"Poste"},{"$nulls":5},"Charges",null,"Produits",{"$nulls":3},"Actif",null,"Passif"]
[{"$nulls":8},"","",{"$nulls":8},{"$f":"'Plan comptable'!A4","v":3},{"$f":"'Plan comptable'!B4","v":1020},{"$f":"'Plan comptable'!C4","v":"Banque"}]
[{"$nulls":8},"","",{"$nulls":8},{"$f":"'Plan comptable'!A5","v":4},{"$f":"'Plan comptable'!B5","v":1040},{"$f":"'Plan comptable'!C5","v":"Effets à recevoir"}]
[{"$nulls":8},"","",{"$nulls":8},{"$f":"'Plan comptable'!A6","v":5},{"$f":"'Plan comptable'!B6","v":1060},{"$f":"'Plan comptable'!C6","v":"Titres"}]
[{"$nulls":8},"","",{"$nulls":8},{"$f":"'Plan comptable'!A7","v":6},{"$f":"'Plan comptable'!B7","v":1100},{"$f":"'Plan comptable'!C7","v":"Créances clients"}]
[{"$nulls":8},"","",{"$nulls":8},{"$f":"'Plan comptable'!A8","v":7},{"$f":"'Plan comptable'!B8","v":1108},{"$f":"'Plan comptable'!C8","v":"Créances douteuses"}]
[{"$nulls":8},"","",{"$nulls":8},{"$f":"'Plan comptable'!A9","v":8},{"$f":"'Plan comptable'!B9","v":1109},{"$f":"'Plan comptable'!C9","v":"Provision s/créances"}]
[{"$nulls":8},"","",{"$nulls":8},{"$f":"'Plan comptable'!A10","v":9},{"$f":"'Plan comptable'!B10","v":1170},{"$f":"'Plan comptable'!C10","v":"IP préalable s/mar."}]
[{"$nulls":8},"","",{"$nulls":8},{"$f":"'Plan comptable'!A11","v":10},{"$f":"'Plan comptable'!B11","v":1171},{"$f":"'Plan comptable'!C11","v":"IP préalable s/inv."}]
[{"$nulls":8},"","",{"$nulls":8},{"$f":"'Plan comptable'!A12","v":11},{"$f":"'Plan comptable'!B12","v":1200},{"$f":"'Plan comptable'!C12","v":"Stock marchandises"}]
[{"$nulls":8},"","",{"$nulls":8},{"$f":"'Plan comptable'!A13","v":12},{"$f":"'Plan comptable'!B13","v":1300},{"$f":"'Plan comptable'!C13","v":"Actifs transitoires"}]
[{"$nulls":8},"","",{"$nulls":8},{"$f":"'Plan comptable'!A14","v":13},{"$f":"'Plan comptable'!B14","v":1301},{"$f":"'Plan comptable'!C14","v":"Ch. payées d'av."}]
[{"$nulls":8},"","",{"$nulls":8},{"$f":"'Plan comptable'!A15","v":14},{"$f":"'Plan comptable'!B15","v":1302},{"$f":"'Plan comptable'!C15","v":"Prod. à recevoir"}]
[{"$nulls":8},"","",{"$nulls":8},{"$f":"'Plan comptable'!A16","v":15},{"$f":"'Plan comptable'!B16","v":1500},{"$f":"'Plan comptable'!C16","v":"Machines"}]
[{"$nulls":8},"","",{"$nulls":8},{"$f":"'Plan comptable'!A17","v":16},{"$f":"'Plan comptable'!B17","v":1501},{"$f":"'Plan comptable'!C17","v":"Informatique"}]
[{"$nulls":8},"","",{"$nulls":8},{"$f":"'Plan comptable'!A18","v":17},{"$f":"'Plan comptable'!B18","v":1510},{"$f":"'Plan comptable'!C18","v":"Mobilier"}]
[{"$nulls":8},"","",{"$nulls":8},{"$f":"'Plan comptable'!A19","v":18},{"$f":"'Plan comptable'!B19","v":1530},{"$f":"'Plan comptable'!C19","v":"Véhicules"}]
[{"$nulls":8},"","",{"$nulls":8},{"$f":"'Plan comptable'!A20","v":19},{"$f":"'Plan comptable'!B20","v":1600},{"$f":"'Plan comptable'!C20","v":"Immeuble"},{"$nulls":4},{"$f":"AB26-AD26","v":{"v":0,"d":"0.00"}},{"$f":"IF(AB26=0,\"\",\"Perte\")","v":""},{"$f":"IF(AB10+AD10=0,0,IF(SUM(AB10:AB25)>SUM(AD10:AD25),0,SUM(AD10:AD25)-SUM(AB10:AB25)))","v":{"v":0,"d":"0.00"}},{"$f":"IF(AD26=0,\"\",\"Bénéfice\")","v":""},{"$f":"IF(AB10+AD10=0,0,IF(SUM(AD10:AD25)>SUM(AB10:AB25),0,SUM(AB10:AB25)-SUM(AD10:AD25)))","v":{"v":0,"d":"0.00"}},null,{"$f":"AH26-AJ26","v":{"v":0,"d":"0.00"}},{"$f":"IF(AH26=0,\"\",\"Bénéfice\")","v":""},{"$f":"IF(AH10+AJ10=0,0,IF(SUM(AH10:AH25)>SUM(AJ10:AJ25),0,SUM(AJ10:AJ25)-SUM(AH10:AH25)))","v":{"v":0,"d":"0.00"}},{"$f":"IF(AJ26=0,\"\",\"Perte\")","v":""},{"$f":"IF(AH10+AJ10=0,0,IF(SUM(AJ10:AJ25)>SUM(AH10:AH25),0,SUM(AH10:AH25)-SUM(AJ10:AJ25)))","v":{"v":0,"d":"0.00"}}]
[{"$nulls":8},"","",{"$nulls":8},{"$f":"'Plan comptable'!A21","v":20},{"$f":"'Plan comptable'!B21","v":1770},{"$f":"'Plan comptable'!C21","v":"Fonds de commerce"},{"$nulls":6},{"$f":"IF(AB10+AD10=0,\"\",SUM(AB10:AB26))","v":""},null,{"$f":"IF(AB10+AD10=0,\"\",SUM(AD10:AD26))","v":""},{"$nulls":3},{"$f":"IF(AH10+AJ10=0,\"\",SUM(AH10:AH26))","v":""},null,{"$f":"IF(AH10+AJ10=0,\"\",SUM(AJ10:AJ26))","v":""}]
[{"$nulls":8},"","",{"$nulls":8},{"$f":"'Plan comptable'!A22","v":21},{"$f":"'Plan comptable'!B22","v":" "},{"$f":"'Plan comptable'!C22","v":" "}]
[{"$nulls":8},"","",{"$nulls":8},{"$f":"'Plan comptable'!A23","v":22},{"$f":"'Plan comptable'!B23","v":2000},{"$f":"'Plan comptable'!C23","v":"Dettes fournisseurs"}]
[{"$nulls":8},"","",{"$nulls":8},{"$f":"'Plan comptable'!A24","v":23},{"$f":"'Plan comptable'!B24","v":2010},{"$f":"'Plan comptable'!C24","v":"Autres dettes"}]
[{"$nulls":8},"","",{"$nulls":8},{"$f":"'Plan comptable'!A25","v":24},{"$f":"'Plan comptable'!B25","v":2170},{"$f":"'Plan comptable'!C25","v":"Dettes AVS"}]
[{"$nulls":8},"","",{"$nulls":8},{"$f":"'Plan comptable'!A26","v":25},{"$f":"'Plan comptable'!B26","v":2175},{"$f":"'Plan comptable'!C26","v":"Dettes LPP"}]
[{"$nulls":8},"","",{"$nulls":8},{"$f":"'Plan comptable'!A27","v":26},{"$f":"'Plan comptable'!B27","v":2180},{"$f":"'Plan comptable'!C27","v":"Dettes Caisse AF"}]
[{"$nulls":8},"","",{"$nulls":8},{"$f":"'Plan comptable'!A28","v":27},{"$f":"'Plan comptable'!B28","v":2200},{"$f":"'Plan comptable'!C28","v":"TVA due"}]
[{"$nulls":8},"","",{"$nulls":8},{"$f":"'Plan comptable'!A29","v":28},{"$f":"'Plan comptable'!B29","v":2300},{"$f":"'Plan comptable'!C29","v":"Passifs transitoires"}]
[{"$nulls":8},"","",{"$nulls":8},{"$f":"'Plan comptable'!A30","v":29},{"$f":"'Plan comptable'!B30","v":2301},{"$f":"'Plan comptable'!C30","v":"Ch. à payer"}]
[{"$nulls":8},"","",{"$nulls":8},{"$f":"'Plan comptable'!A31","v":30},{"$f":"'Plan comptable'!B31","v":2302},{"$f":"'Plan comptable'!C31","v":"Prod. reçus d'av."}]
[{"$nulls":8},"","",{"$nulls":8},{"$f":"'Plan comptable'!A32","v":31},{"$f":"'Plan comptable'!B32","v":2440},{"$f":"'Plan comptable'!C32","v":"Dettes hypothécaires"}]
[{"$nulls":8},"","",{"$nulls":8},{"$f":"'Plan comptable'!A33","v":32},{"$f":"'Plan comptable'!B33","v":2500},{"$f":"'Plan comptable'!C33","v":"Emprunt"}]
[{"$nulls":8},{"$f":"IF($H40=\"\",\"\",LOOKUP(C40,$T$8:$T$26,$S$8:$S$26))","v":""},{"$f":"IF($H40=\"\",\"\",LOOKUP(E40,$T$8:$T$26,$S$8:$S$26))","v":""},{"$nulls":8},{"$f":"'Plan comptable'!A34","v":33},{"$f":"'Plan comptable'!B34","v":2800},{"$f":"'Plan comptable'!C34","v":"Capital"}]
[{"$nulls":8},"","",{"$nulls":8},{"$f":"'Plan comptable'!A35","v":34},{"$f":"'Plan comptable'!B35","v":2850},{"$f":"'Plan comptable'!C35","v":"Privé"}]
[{"$nulls":8},"","",{"$nulls":8},{"$f":"'Plan comptable'!A36","v":35},{"$f":"'Plan comptable'!B36","v":" "},{"$f":"'Plan comptable'!C36","v":" "}]
[{"$nulls":8},"","",{"$nulls":8},{"$f":"'Plan comptable'!A37","v":36},{"$f":"'Plan comptable'!B37","v":" "},{"$f":"'Plan comptable'!C37","v":" "}]
[{"$nulls":8},"","",{"$nulls":8},{"$f":"'Plan comptable'!A38","v":37},{"$f":"'Plan comptable'!B38","v":3200},{"$f":"'Plan comptable'!C38","v":"Ventes"}]
[{"$nulls":8},"","",{"$nulls":8},{"$f":"'Plan comptable'!A39","v":38},{"$f":"'Plan comptable'!B39","v":3290},{"$f":"'Plan comptable'!C39","v":"Déductions accord."}]
[{"$nulls":8},"","",{"$nulls":8},{"$f":"'Plan comptable'!A40","v":39},{"$f":"'Plan comptable'!B40","v":3293},{"$f":"'Plan comptable'!C40","v":"Commissions"}]
[{"$nulls":8},"","",{"$nulls":8},{"$f":"'Plan comptable'!A41","v":40},{"$f":"'Plan comptable'!B41","v":3295},{"$f":"'Plan comptable'!C41","v":"Pertes s/créances"}]
[{"$nulls":8},"","",{"$nulls":8},{"$f":"'Plan comptable'!A42","v":41},{"$f":"'Plan comptable'!B42","v":3600},{"$f":"'Plan comptable'!C42","v":"Honoraires"}]
[{"$nulls":8},"","",{"$nulls":8},{"$f":"'Plan comptable'!A43","v":42},{"$f":"'Plan comptable'!B43","v":3700},{"$f":"'Plan comptable'!C43","v":"Prestations propres"}]
[{"$nulls":8},"","",{"$nulls":8},{"$f":"'Plan comptable'!A44","v":43},{"$f":"'Plan comptable'!B44","v":3907},{"$f":"'Plan comptable'!C44","v":"Frets et ports"}]
[{"$nulls":8},"","",{"$nulls":8},{"$f":"'Plan comptable'!A45","v":44},{"$f":"'Plan comptable'!B45","v":" "},{"$f":"'Plan comptable'!C45","v":" "}]
[{"$nulls":8},"","",{"$nulls":8},{"$f":"'Plan comptable'!A46","v":45},{"$f":"'Plan comptable'!B46","v":" "},{"$f":"'Plan comptable'!C46","v":" "}]
[{"$nulls":8},"","",{"$nulls":8},{"$f":"'Plan comptable'!A47","v":46},{"$f":"'Plan comptable'!B47","v":4200},{"$f":"'Plan comptable'!C47","v":"Achats march."}]
[{"$nulls":8},"","",{"$nulls":8},{"$f":"'Plan comptable'!A48","v":47},{"$f":"'Plan comptable'!B48","v":4270},{"$f":"'Plan comptable'!C48","v":"Frais d'achats"}]
[{"$nulls":8},"","",{"$nulls":8},{"$f":"'Plan comptable'!A49","v":48},{"$f":"'Plan comptable'!B49","v":4280},{"$f":"'Plan comptable'!C49","v":"Variations de stocks"}]
[{"$nulls":8},"","",{"$nulls":8},{"$f":"'Plan comptable'!A50","v":49},{"$f":"'Plan comptable'!B50","v":4290},{"$f":"'Plan comptable'!C50","v":"Déductions obtenues"}]
[{"$nulls":8},"","",{"$nulls":8},{"$f":"'Plan comptable'!A51","v":50},{"$f":"'Plan comptable'!B51","v":" "},{"$f":"'Plan comptable'!C51","v":" "}]
[{"$nulls":8},"","",{"$nulls":8},{"$f":"'Plan comptable'!A52","v":51},{"$f":"'Plan comptable'!B52","v":" "},{"$f":"'Plan comptable'!C52","v":" "}]
[{"$nulls":8},"","",{"$nulls":8},{"$f":"'Plan comptable'!A53","v":52},{"$f":"'Plan comptable'!B53","v":5200},{"$f":"'Plan comptable'!C53","v":"Salaires"}]
[{"$nulls":8},"","",{"$nulls":8},{"$f":"'Plan comptable'!A54","v":53},{"$f":"'Plan comptable'!B54","v":5270},{"$f":"'Plan comptable'!C54","v":"Charges sociales"}]
[{"$nulls":8},"","",{"$nulls":8},{"$f":"'Plan comptable'!A55","v":54},{"$f":"'Plan comptable'!B55","v":0},{"$f":"'Plan comptable'!C55","v":0}]
[{"$nulls":8},"","",{"$nulls":8},{"$f":"'Plan comptable'!A56","v":55},{"$f":"'Plan comptable'!B56","v":" "},{"$f":"'Plan comptable'!C56","v":" "}]
[{"$nulls":8},"","",{"$nulls":8},{"$f":"'Plan comptable'!A57","v":56},{"$f":"'Plan comptable'!B57","v":6000},{"$f":"'Plan comptable'!C57","v":"Loyer"}]
[{"$nulls":8},"","",{"$nulls":8},{"$f":"'Plan comptable'!A58","v":57},{"$f":"'Plan comptable'!B58","v":6100},{"$f":"'Plan comptable'!C58","v":"Entretien & répar."}]
[{"$nulls":8},"","",{"$nulls":8},{"$f":"'Plan comptable'!A59","v":58},{"$f":"'Plan comptable'!B59","v":6200},{"$f":"'Plan comptable'!C59","v":"Frais de véhicules"}]
[{"$nulls":8},"","",{"$nulls":8},{"$f":"'Plan comptable'!A60","v":59},{"$f":"'Plan comptable'!B60","v":6300},{"$f":"'Plan comptable'!C60","v":"Assurances"}]
[{"$nulls":8},"","",{"$nulls":8},{"$f":"'Plan comptable'!A61","v":60},{"$f":"'Plan comptable'!B61","v":6400},{"$f":"'Plan comptable'!C61","v":"Electricité"}]
[{"$nulls":8},"","",{"$nulls":8},{"$f":"'Plan comptable'!A62","v":61},{"$f":"'Plan comptable'!B62","v":6500},{"$f":"'Plan comptable'!C62","v":"Frais administration"}]
[{"$nulls":8},"","",{"$nulls":8},{"$f":"'Plan comptable'!A63","v":62},{"$f":"'Plan comptable'!B63","v":6510},{"$f":"'Plan comptable'!C63","v":"Téléphones"}]
[{"$nulls":8},"","",{"$nulls":8},{"$f":"'Plan comptable'!A64","v":63},{"$f":"'Plan comptable'!B64","v":6570},{"$f":"'Plan comptable'!C64","v":"Frais informatique"}]
[{"$nulls":8},"","",{"$nulls":8},{"$f":"'Plan comptable'!A65","v":64},{"$f":"'Plan comptable'!B65","v":6600},{"$f":"'Plan comptable'!C65","v":"Publicité"}]
[{"$nulls":8},{"$f":"IF($H72=\"\",\"\",LOOKUP(C72,$T$8:$T$26,$S$8:$S$26))","v":""},{"$f":"IF($H72=\"\",\"\",LOOKUP(E72,$T$8:$T$26,$S$8:$S$26))","v":""},{"$nulls":8},{"$f":"'Plan comptable'!A66","v":65},{"$f":"'Plan comptable'!B66","v":6700},{"$f":"'Plan comptable'!C66","v":"ACE"}]
[{"$nulls":8},"","",{"$nulls":8},{"$f":"'Plan comptable'!A67","v":66},{"$f":"'Plan comptable'!B67","v":6710},{"$f":"'Plan comptable'!C67","v":"Dif. de caisse"}]
[{"$nulls":8},"","",{"$nulls":8},{"$f":"'Plan comptable'!A68","v":67},{"$f":"'Plan comptable'!B68","v":6800},{"$f":"'Plan comptable'!C68","v":"Intérêts-charges"}]
[{"$nulls":8},"","",{"$nulls":8},{"$f":"'Plan comptable'!A69","v":68},{"$f":"'Plan comptable'!B69","v":6850},{"$f":"'Plan comptable'!C69","v":"Intérêts-produits"}]
[{"$nulls":8},"","",{"$nulls":8},{"$f":"'Plan comptable'!A70","v":69},{"$f":"'Plan comptable'!B70","v":6900},{"$f":"'Plan comptable'!C70","v":"Amortissements"}]
[{"$nulls":8},"","",{"$nulls":8},{"$f":"'Plan comptable'!A71","v":70},{"$f":"'Plan comptable'!B71","v":0},{"$f":"'Plan comptable'!C71","v":0}]
[{"$nulls":8},"","",{"$nulls":8},{"$f":"'Plan comptable'!A72","v":71},{"$f":"'Plan comptable'!B72","v":" "},{"$f":"'Plan comptable'!C72","v":" "}]
[{"$nulls":8},"","",{"$nulls":8},{"$f":"'Plan comptable'!A73","v":72},{"$f":"'Plan comptable'!B73","v":" "},{"$f":"'Plan comptable'!C73","v":" "}]
[{"$nulls":8},"","",{"$nulls":8},{"$f":"'Plan comptable'!A74","v":73},{"$f":"'Plan comptable'!B74","v":7400},{"$f":"'Plan comptable'!C74","v":"Prod. des titres"}]
[{"$nulls":8},"","",{"$nulls":8},{"$f":"'Plan comptable'!A75","v":74},{"$f":"'Plan comptable'!B75","v":7500},{"$f":"'Plan comptable'!C75","v":"Produits immeubles"}]
[{"$nulls":8},"","",{"$nulls":8},{"$f":"'Plan comptable'!A76","v":75},{"$f":"'Plan comptable'!B76","v":7510},{"$f":"'Plan comptable'!C76","v":"Charges immeubles"}]
[{"$nulls":8},"","",{"$nulls":8},{"$f":"'Plan comptable'!A77","v":76},{"$f":"'Plan comptable'!B77","v":8000},{"$f":"'Plan comptable'!C77","v":"Produits exception."}]
[{"$nulls":8},"","",{"$nulls":8},{"$f":"'Plan comptable'!A78","v":77},{"$f":"'Plan comptable'!B78","v":8010},{"$f":"'Plan comptable'!C78","v":"Charges exception."}]
[{"$nulls":8},"","",{"$nulls":8},{"$f":"'Plan comptable'!A79","v":78},{"$f":"'Plan comptable'!B79","v":8015},{"$f":"'Plan comptable'!C79","v":"Pertes s/créances"}]
[{"$nulls":8},"","",{"$nulls":8},{"$f":"'Plan comptable'!A80","v":79},{"$f":"'Plan comptable'!B80","v":9999},{"$f":"'Plan comptable'!C80","v":"Contrepartie"}]
[{"$nulls":8},"","",{"$nulls":8},{"$f":"'Plan comptable'!A81","v":80},{"$f":"'Plan comptable'!B81","v":0},{"$f":"'Plan comptable'!C81","v":0}]
[{"$nulls":8},"","",{"$nulls":9}," "]
[{"$nulls":8},"","",{"$nulls":9},"© Yvan Péguiron - HEP Lausanne - fév. 06"]
[{"$nulls":8},"","",{"$nulls":9}," "]
[{"$nulls":8},"","",{"$nulls":9}," "]
[{"$nulls":8},"",""]
[{"$nulls":8},"",""]
[{"$nulls":8},"",""]
[{"$nulls":8},"",""]
[{"$nulls":8},"",""]
[{"$nulls":8},"",""]
[{"$nulls":8},"",""]
[{"$nulls":8},"",""]
[{"$nulls":8},"",""]

{"sheet":"Plan comptable","index":3,"n_rows":88,"n_cols":5,"rows_kept":88}
[null,"Zone \"Plan\"",null,null,"Choisir un compte"]
[1,1000,"Caisse",null,{"$f":"B2&\"  \"&C2","v":"1000  Caisse"}]
[2,1010,"Poste",null,{"$f":"B3&\"  \"&C3","v":"1010  Poste"}]
[3,1020,"Banque",null,"1020  Banque"]
[4,1040,"Effets à recevoir",null,"1040  Effets à recevoir"]
[5,1060,"Titres",null,"1060  Titres"]
[6,1100,"Créances clients",null,"1100  Créances clients"]
[7,1108,"Créances douteuses",null,"1108  Créances douteuses"]
[8,1109,"Provision s/créances",null,"1109  Provision s/créances"]
[9,1170,"IP préalable s/mar.",null,{"$f":"B12&\"  \"&C12","v":"1200  Stock marchandises"}]
[10,1171,"IP préalable s/inv.",null,"1300  Actifs transitoires"]
[11,1200,"Stock marchandises",null,"1301  Ch. payées d'av."]
[12,1300,"Actifs transitoires",null,"1302  Prod. à recevoir"]
[13,1301,"Ch. payées d'av.",null,"1500  Machines"]
[14,1302,"Prod. à recevoir",null,"1501  Informatique"]
[15,1500,"Machines",null,"1510  Mobilier"]
[16,1501,"Informatique",null,"1530  Véhicules"]
[17,1510,"Mobilier",null,"1600  Immeuble"]
[18,1530,"Véhicules",null,"1770  Fonds de commerce"]
[19,1600,"Immeuble",null,{"$f":"#REF!&\"  \"&#REF!","v":{"$error":"#REF!"}}]
[20,1770,"Fonds de commerce",null,{"$f":"#REF!&\"  \"&#REF!","v":{"$error":"#REF!"}}]
[21," "," ",null,"    "]
[22,2000,"Dettes fournisseurs",null,"2000  Dettes fournisseurs"]
[23,2010,"Autres dettes",null,"2010  Autres dettes"]
[24,2170,"Dettes AVS",null,"2170  Dettes AVS"]
[25,2175,"Dettes LPP",null,"2175  Dettes LPP"]
[26,2180,"Dettes Caisse AF",null,"2180  Dettes Caisse AF"]
[27,2200,"TVA due",null,"2200  TVA due"]
[28,2300,"Passifs transitoires",null,"2300  Passifs transitoires"]
[29,2301,"Ch. à payer",null,"2301  Ch. à payer"]
[30,2302,"Prod. reçus d'av.",null,"2302  Prod. reçus d'av."]
[31,2440,"Dettes hypothécaires",null,"2440  Dettes hypothécaires"]
[32,2500,"Emprunt",null,"2500  Emprunt"]
[33,2800,"Capital",null,"2800  Capital"]
[34,2850,"Privé",null,"2850  Privé"]
[35," "," ",null,"    "]
[36," "," ",null,"    "]
[37,3200,"Ventes",null,"3200  Ventes"]
[38,3290,"Déductions accord.",null,"3290  Déductions accord."]
[39,3293,"Commissions",null,"3293  Commissions"]
[40,3295,"Pertes s/créances",null,"3295  Pertes s/créances"]
[41,3600,"Honoraires",null,"3600  Honoraires"]
[42,3700,"Prestations propres",null,"3700  Prestations propres"]
[43,3907,"Frets et ports",null,"3907  Frets et ports"]
[44," "," ",null,"    "]
[45," "," ",null,"    "]
[46,4200,"Achats march.",null,"4200  Achats march."]
[47,4270,"Frais d'achats",null,"4270  Frais d'achats"]
[48,4280,"Variations de stocks",null,"4280  Variations de stocks"]
[49,4290,"Déductions obtenues",null,"4290  Déductions obtenues"]
[50," "," ",null,"    "]
[51," "," ",null,"    "]
[52,5200,"Salaires",null,"5200  Salaires"]
[53,5270,"Charges sociales",null,"5270  Charges sociales"]
[54,{"$nulls":3},"  "]
[55," "," ",null,"    "]
[56,6000,"Loyer",null,"6000  Loyer"]
[57,6100,"Entretien & répar.",null,"6100  Entretien & répar."]
[58,6200,"Frais de véhicules",null,"6200  Frais de véhicules"]
[59,6300,"Assurances",null,"6300  Assurances"]
[60,6400,"Electricité",null,"6400  Electricité"]
[61,6500,"Frais administration",null,"6500  Frais administration"]
[62,6510,"Téléphones",null,"6510  Téléphones"]
[63,6570,"Frais informatique",null,"6570  Frais informatique"]
[64,6600,"Publicité",null,"6600  Publicité"]
[65,6700,"ACE",null,"6700  ACE"]
[66,6710,"Dif. de caisse",null,"6710  Dif. de caisse"]
[67,6800,"Intérêts-charges",null,"6800  Intérêts-charges"]
[68,6850,"Intérêts-produits",null,"6850  Intérêts-produits"]
[69,6900,"Amortissements",null,"6900  Amortissements"]
[70,{"$nulls":3},"  "]
[71," "," ",null,"    "]
[72," "," ",null,"    "]
[73,7400,"Prod. des titres",null,"7400  Prod. des titres"]
[74,7500,"Produits immeubles",null,"7500  Produits immeubles"]
[75,7510,"Charges immeubles",null,"7510  Charges immeubles"]
[76,8000,"Produits exception.",null,"8000  Produits exception."]
[77,8010,"Charges exception.",null,"8010  Charges exception."]
[78,8015,"Pertes s/créances",null,{"$f":"B79&\"  \"&C79","v":"8015  Pertes s/créances"}]
[79,9999,"Contrepartie",null,{"$f":"B80&\"  \"&C80","v":"9999  Contrepartie"}]
[80,{"$nulls":3},"      "]
[{"$nulls":4},{"$f":"B82&\"  \"&C82","v":"  "}]
[{"$nulls":4},{"$f":"B93&\"  \"&C93","v":"  "}]
[]
[]
[]
[{"$nulls":4},{"$f":"B94&\"  \"&C94","v":"  "}]
[{"$nulls":4},{"$f":"B95&\"  \"&C95","v":"  "}]

{"sheet":"Journal imprimable","index":4,"n_rows":106,"n_cols":9,"rows_kept":106,"merged":[[3,1,4,1],[3,2,3,5],[3,6,4,6],[3,7,3,8],[4,2,4,3],[4,4,4,5]]}
[]
[]
[null,{"$f":"Solutions!B3","v":"Exercice : "},{"$nulls":6},false]
[null,"No","Comptes à",{"$nulls":3},"Libellé","Sommes à"]
[null,null,"débiter",null,"créditer",null,null,"débiter","créditer"]
["v",{"$f":"IF(D6=\"\",\"\",'Pas à pas'!B6)","v":""},{"$f":"'Pas à pas'!C6","v":""},{"$f":"'Pas à pas'!D6","v":""},{"$f":"'Pas à pas'!E6","v":""},{"$f":"'Pas à pas'!F6","v":""},{"$f":"'Pas à pas'!G6","v":""},{"$f":"'Pas à pas'!H6","v":""},{"$f":"'Pas à pas'!I6","v":""}]
["v",{"$f":"IF(D7=\"\",\"\",'Pas à pas'!B7)","v":""},{"$f":"'Pas à pas'!C7","v":""},{"$f":"'Pas à pas'!D7","v":""},{"$f":"'Pas à pas'!E7","v":""},{"$f":"'Pas à pas'!F7","v":""},{"$f":"'Pas à pas'!G7","v":""},{"$f":"'Pas à pas'!H7","v":""},{"$f":"'Pas à pas'!I7","v":""}]
["v",{"$f":"IF(D8=\"\",\"\",'Pas à pas'!B8)","v":""},{"$f":"'Pas à pas'!C8","v":""},{"$f":"'Pas à pas'!D8","v":""},{"$f":"'Pas à pas'!E8","v":""},{"$f":"'Pas à pas'!F8","v":""},{"$f":"'Pas à pas'!G8","v":""},{"$f":"'Pas à pas'!H8","v":""},{"$f":"'Pas à pas'!I8","v":""}]
["v",{"$f":"IF(D9=\"\",\"\",'Pas à pas'!B9)","v":""},{"$f":"'Pas à pas'!C9","v":""},{"$f":"'Pas à pas'!D9","v":""},{"$f":"'Pas à pas'!E9","v":""},{"$f":"'Pas à pas'!F9","v":""},{"$f":"'Pas à pas'!G9","v":""},{"$f":"'Pas à pas'!H9","v":""},{"$f":"'Pas à pas'!I9","v":""}]
["v",{"$f":"IF(D10=\"\",\"\",'Pas à pas'!B10)","v":""},{"$f":"'Pas à pas'!C10","v":""},{"$f":"'Pas à pas'!D10","v":""},{"$f":"'Pas à pas'!E10","v":""},{"$f":"'Pas à pas'!F10","v":""},{"$f":"'Pas à pas'!G10","v":""},{"$f":"'Pas à pas'!H10","v":""},{"$f":"'Pas à pas'!I10","v":""}]
["v",{"$f":"IF(D11=\"\",\"\",'Pas à pas'!B11)","v":""},{"$f":"'Pas à pas'!C11","v":""},{"$f":"'Pas à pas'!D11","v":""},{"$f":"'Pas à pas'!E11","v":""},{"$f":"'Pas à pas'!F11","v":""},{"$f":"'Pas à pas'!G11","v":""},{"$f":"'Pas à pas'!H11","v":""},{"$f":"'Pas à pas'!I11","v":""}]
["v",{"$f":"IF(D12=\"\",\"\",'Pas à pas'!B12)","v":""},{"$f":"'Pas à pas'!C12","v":""},{"$f":"'Pas à pas'!D12","v":""},{"$f":"'Pas à pas'!E12","v":""},{"$f":"'Pas à pas'!F12","v":""},{"$f":"'Pas à pas'!G12","v":""},{"$f":"'Pas à pas'!H12","v":""},{"$f":"'Pas à pas'!I12","v":""}]
["v",{"$f":"IF(D13=\"\",\"\",'Pas à pas'!B13)","v":""},{"$f":"'Pas à pas'!C13","v":""},{"$f":"'Pas à pas'!D13","v":""},{"$f":"'Pas à pas'!E13","v":""},{"$f":"'Pas à pas'!F13","v":""},{"$f":"'Pas à pas'!G13","v":""},{"$f":"'Pas à pas'!H13","v":""},{"$f":"'Pas à pas'!I13","v":""}]
["v",{"$f":"IF(D14=\"\",\"\",'Pas à pas'!B14)","v":""},{"$f":"'Pas à pas'!C14","v":""},{"$f":"'Pas à pas'!D14","v":""},{"$f":"'Pas à pas'!E14","v":""},{"$f":"'Pas à pas'!F14","v":""},{"$f":"'Pas à pas'!G14","v":""},{"$f":"'Pas à pas'!H14","v":""},{"$f":"'Pas à pas'!I14","v":""}]
["v",{"$f":"IF(D15=\"\",\"\",'Pas à pas'!B15)","v":""},{"$f":"'Pas à pas'!C15","v":""},{"$f":"'Pas à pas'!D15","v":""},{"$f":"'Pas à pas'!E15","v":""},{"$f":"'Pas à pas'!F15","v":""},{"$f":"'Pas à pas'!G15","v":""},{"$f":"'Pas à pas'!H15","v":""},{"$f":"'Pas à pas'!I15","v":""}]
["v",{"$f":"IF(D16=\"\",\"\",'Pas à pas'!B16)","v":""},{"$f":"'Pas à pas'!C16","v":""},{"$f":"'Pas à pas'!D16","v":""},{"$f":"'Pas à pas'!E16","v":""},{"$f":"'Pas à pas'!F16","v":""},{"$f":"'Pas à pas'!G16","v":""},{"$f":"'Pas à pas'!H16","v":""},{"$f":"'Pas à pas'!I16","v":""}]
["v",{"$f":"IF(D17=\"\",\"\",'Pas à pas'!B17)","v":""},{"$f":"'Pas à pas'!C17","v":""},{"$f":"'Pas à pas'!D17","v":""},{"$f":"'Pas à pas'!E17","v":""},{"$f":"'Pas à pas'!F17","v":""},{"$f":"'Pas à pas'!G17","v":""},{"$f":"'Pas à pas'!H17","v":""},{"$f":"'Pas à pas'!I17","v":""}]
["v",{"$f":"IF(D18=\"\",\"\",'Pas à pas'!B18)","v":""},{"$f":"'Pas à pas'!C18","v":""},{"$f":"'Pas à pas'!D18","v":""},{"$f":"'Pas à pas'!E18","v":""},{"$f":"'Pas à pas'!F18","v":""},{"$f":"'Pas à pas'!G18","v":""},{"$f":"'Pas à pas'!H18","v":""},{"$f":"'Pas à pas'!I18","v":""}]
["v",{"$f":"IF(D19=\"\",\"\",'Pas à pas'!B19)","v":""},{"$f":"'Pas à pas'!C19","v":""},{"$f":"'Pas à pas'!D19","v":""},{"$f":"'Pas à pas'!E19","v":""},{"$f":"'Pas à pas'!F19","v":""},{"$f":"'Pas à pas'!G19","v":""},{"$f":"'Pas à pas'!H19","v":""},{"$f":"'Pas à pas'!I19","v":""}]
["v",{"$f":"IF(D20=\"\",\"\",'Pas à pas'!B20)","v":""},{"$f":"'Pas à pas'!C20","v":""},{"$f":"'Pas à pas'!D20","v":""},{"$f":"'Pas à pas'!E20","v":""},{"$f":"'Pas à pas'!F20","v":""},{"$f":"'Pas à pas'!G20","v":""},{"$f":"'Pas à pas'!H20","v":""},{"$f":"'Pas à pas'!I20","v":""}]
["v",{"$f":"IF(D21=\"\",\"\",'Pas à pas'!B21)","v":""},{"$f":"'Pas à pas'!C21","v":""},{"$f":"'Pas à pas'!D21","v":""},{"$f":"'Pas à pas'!E21","v":""},{"$f":"'Pas à pas'!F21","v":""},{"$f":"'Pas à pas'!G21","v":""},{"$f":"'Pas à pas'!H21","v":""},{"$f":"'Pas à pas'!I21","v":""}]
["v",{"$f":"IF(D22=\"\",\"\",'Pas à pas'!B22)","v":""},{"$f":"'Pas à pas'!C22","v":""},{"$f":"'Pas à pas'!D22","v":""},{"$f":"'Pas à pas'!E22","v":""},{"$f":"'Pas à pas'!F22","v":""},{"$f":"'Pas à pas'!G22","v":""},{"$f":"'Pas à pas'!H22","v":""},{"$f":"'Pas à pas'!I22","v":""}]
["v",{"$f":"IF(D23=\"\",\"\",'Pas à pas'!B23)","v":""},{"$f":"'Pas à pas'!C23","v":""},{"$f":"'Pas à pas'!D23","v":""},{"$f":"'Pas à pas'!E23","v":""},{"$f":"'Pas à pas'!F23","v":""},{"$f":"'Pas à pas'!G23","v":""},{"$f":"'Pas à pas'!H23","v":""},{"$f":"'Pas à pas'!I23","v":""}]
["v",{"$f":"IF(D24=\"\",\"\",'Pas à pas'!B24)","v":""},{"$f":"'Pas à pas'!C24","v":""},{"$f":"'Pas à pas'!D24","v":""},{"$f":"'Pas à pas'!E24","v":""},{"$f":"'Pas à pas'!F24","v":""},{"$f":"'Pas à pas'!G24","v":""},{"$f":"'Pas à pas'!H24","v":""},{"$f":"'Pas à pas'!I24","v":""}]
["v",{"$f":"IF(D25=\"\",\"\",'Pas à pas'!B25)","v":""},{"$f":"'Pas à pas'!C25","v":""},{"$f":"'Pas à pas'!D25","v":""},{"$f":"'Pas à pas'!E25","v":""},{"$f":"'Pas à pas'!F25","v":""},{"$f":"'Pas à pas'!G25","v":""},{"$f":"'Pas à pas'!H25","v":""},{"$f":"'Pas à pas'!I25","v":""}]
["v",{"$f":"IF(D26=\"\",\"\",'Pas à pas'!B26)","v":""},{"$f":"'Pas à pas'!C26","v":""},{"$f":"'Pas à pas'!D26","v":""},{"$f":"'Pas à pas'!E26","v":""},{"$f":"'Pas à pas'!F26","v":""},{"$f":"'Pas à pas'!G26","v":""},{"$f":"'Pas à pas'!H26","v":""},{"$f":"'Pas à pas'!I26","v":""}]
["v",{"$f":"IF(D27=\"\",\"\",'Pas à pas'!B27)","v":""},{"$f":"'Pas à pas'!C27","v":""},{"$f":"'Pas à pas'!D27","v":""},{"$f":"'Pas à pas'!E27","v":""},{"$f":"'Pas à pas'!F27","v":""},{"$f":"'Pas à pas'!G27","v":""},{"$f":"'Pas à pas'!H27","v":""},{"$f":"'Pas à pas'!I27","v":""}]
["v",{"$f":"IF(D28=\"\",\"\",'Pas à pas'!B28)","v":""},{"$f":"'Pas à pas'!C28","v":""},{"$f":"'Pas à pas'!D28","v":""},{"$f":"'Pas à pas'!E28","v":""},{"$f":"'Pas à pas'!F28","v":""},{"$f":"'Pas à pas'!G28","v":""},{"$f":"'Pas à pas'!H28","v":""},{"$f":"'Pas à pas'!I28","v":""}]
["v",{"$f":"IF(D29=\"\",\"\",'Pas à pas'!B29)","v":""},{"$f":"'Pas à pas'!C29","v":""},{"$f":"'Pas à pas'!D29","v":""},{"$f":"'Pas à pas'!E29","v":""},{"$f":"'Pas à pas'!F29","v":""},{"$f":"'Pas à pas'!G29","v":""},{"$f":"'Pas à pas'!H29","v":""},{"$f":"'Pas à pas'!I29","v":""}]
["v",{"$f":"IF(D30=\"\",\"\",'Pas à pas'!B30)","v":""},{"$f":"'Pas à pas'!C30","v":""},{"$f":"'Pas à pas'!D30","v":""},{"$f":"'Pas à pas'!E30","v":""},{"$f":"'Pas à pas'!F30","v":""},{"$f":"'Pas à pas'!G30","v":""},{"$f":"'Pas à pas'!H30","v":""},{"$f":"'Pas à pas'!I30","v":""}]
["v",{"$f":"IF(D31=\"\",\"\",'Pas à pas'!B31)","v":""},{"$f":"'Pas à pas'!C31","v":""},{"$f":"'Pas à pas'!D31","v":""},{"$f":"'Pas à pas'!E31","v":""},{"$f":"'Pas à pas'!F31","v":""},{"$f":"'Pas à pas'!G31","v":""},{"$f":"'Pas à pas'!H31","v":""},{"$f":"'Pas à pas'!I31","v":""}]
["v",{"$f":"IF(D32=\"\",\"\",'Pas à pas'!B32)","v":""},{"$f":"'Pas à pas'!C32","v":""},{"$f":"'Pas à pas'!D32","v":""},{"$f":"'Pas à pas'!E32","v":""},{"$f":"'Pas à pas'!F32","v":""},{"$f":"'Pas à pas'!G32","v":""},{"$f":"'Pas à pas'!H32","v":""},{"$f":"'Pas à pas'!I32","v":""}]
["v",{"$f":"IF(D33=\"\",\"\",'Pas à pas'!B33)","v":""},{"$f":"'Pas à pas'!C33","v":""},{"$f":"'Pas à pas'!D33","v":""},{"$f":"'Pas à pas'!E33","v":""},{"$f":"'Pas à pas'!F33","v":""},{"$f":"'Pas à pas'!G33","v":""},{"$f":"'Pas à pas'!H33","v":""},{"$f":"'Pas à pas'!I33","v":""}]
["v",{"$f":"IF(D34=\"\",\"\",'Pas à pas'!B34)","v":""},{"$f":"'Pas à pas'!C34","v":""},{"$f":"'Pas à pas'!D34","v":""},{"$f":"'Pas à pas'!E34","v":""},{"$f":"'Pas à pas'!F34","v":""},{"$f":"'Pas à pas'!G34","v":""},{"$f":"'Pas à pas'!H34","v":""},{"$f":"'Pas à pas'!I34","v":""}]
["v",{"$f":"IF(D35=\"\",\"\",'Pas à pas'!B35)","v":""},{"$f":"'Pas à pas'!C35","v":""},{"$f":"'Pas à pas'!D35","v":""},{"$f":"'Pas à pas'!E35","v":""},{"$f":"'Pas à pas'!F35","v":""},{"$f":"'Pas à pas'!G35","v":""},{"$f":"'Pas à pas'!H35","v":""},{"$f":"'Pas à pas'!I35","v":""}]
["v",{"$f":"IF(D36=\"\",\"\",'Pas à pas'!B36)","v":""},{"$f":"'Pas à pas'!C36","v":""},{"$f":"'Pas à pas'!D36","v":""},{"$f":"'Pas à pas'!E36","v":""},{"$f":"'Pas à pas'!F36","v":""},{"$f":"'Pas à pas'!G36","v":""},{"$f":"'Pas à pas'!H36","v":""},{"$f":"'Pas à pas'!I36","v":""}]
["v",{"$f":"IF(D37=\"\",\"\",'Pas à pas'!B37)","v":""},{"$f":"'Pas à pas'!C37","v":""},{"$f":"'Pas à pas'!D37","v":""},{"$f":"'Pas à pas'!E37","v":""},{"$f":"'Pas à pas'!F37","v":""},{"$f":"'Pas à pas'!G37","v":""},{"$f":"'Pas à pas'!H37","v":""},{"$f":"'Pas à pas'!I37","v":""}]
["v",{"$f":"IF(D38=\"\",\"\",'Pas à pas'!B38)","v":""},{"$f":"'Pas à pas'!C38","v":""},{"$f":"'Pas à pas'!D38","v":""},{"$f":"'Pas à pas'!E38","v":""},{"$f":"'Pas à pas'!F38","v":""},{"$f":"'Pas à pas'!G38","v":""},{"$f":"'Pas à pas'!H38","v":""},{"$f":"'Pas à pas'!I38","v":""}]
["v",{"$f":"IF(D39=\"\",\"\",'Pas à pas'!B39)","v":""},{"$f":"'Pas à pas'!C39","v":""},{"$f":"'Pas à pas'!D39","v":""},{"$f":"'Pas à pas'!E39","v":""},{"$f":"'Pas à pas'!F39","v":""},{"$f":"'Pas à pas'!G39","v":""},{"$f":"'Pas à pas'!H39","v":""},{"$f":"'Pas à pas'!I39","v":""}]
["v",{"$f":"IF(D40=\"\",\"\",'Pas à pas'!B40)","v":""},{"$f":"'Pas à pas'!C40","v":""},{"$f":"'Pas à pas'!D40","v":""},{"$f":"'Pas à pas'!E40","v":""},{"$f":"'Pas à pas'!F40","v":""},{"$f":"'Pas à pas'!G40","v":""},{"$f":"'Pas à pas'!H40","v":""},{"$f":"'Pas à pas'!I40","v":""}]
["v",{"$f":"IF(D41=\"\",\"\",'Pas à pas'!B41)","v":""},{"$f":"'Pas à pas'!C41","v":""},{"$f":"'Pas à pas'!D41","v":""},{"$f":"'Pas à pas'!E41","v":""},{"$f":"'Pas à pas'!F41","v":""},{"$f":"'Pas à pas'!G41","v":""},{"$f":"'Pas à pas'!H41","v":""},{"$f":"'Pas à pas'!I41","v":""}]
["v",{"$f":"IF(D42=\"\",\"\",'Pas à pas'!B42)","v":""},{"$f":"'Pas à pas'!C42","v":""},{"$f":"'Pas à pas'!D42","v":""},{"$f":"'Pas à pas'!E42","v":""},{"$f":"'Pas à pas'!F42","v":""},{"$f":"'Pas à pas'!G42","v":""},{"$f":"'Pas à pas'!H42","v":""},{"$f":"'Pas à pas'!I42","v":""}]
["v",{"$f":"IF(D43=\"\",\"\",'Pas à pas'!B43)","v":""},{"$f":"'Pas à pas'!C43","v":""},{"$f":"'Pas à pas'!D43","v":""},{"$f":"'Pas à pas'!E43","v":""},{"$f":"'Pas à pas'!F43","v":""},{"$f":"'Pas à pas'!G43","v":""},{"$f":"'Pas à pas'!H43","v":""},{"$f":"'Pas à pas'!I43","v":""}]
["v",{"$f":"IF(D44=\"\",\"\",'Pas à pas'!B44)","v":""},{"$f":"'Pas à pas'!C44","v":""},{"$f":"'Pas à pas'!D44","v":""},{"$f":"'Pas à pas'!E44","v":""},{"$f":"'Pas à pas'!F44","v":""},{"$f":"'Pas à pas'!G44","v":""},{"$f":"'Pas à pas'!H44","v":""},{"$f":"'Pas à pas'!I44","v":""}]
["v",{"$f":"IF(D45=\"\",\"\",'Pas à pas'!B45)","v":""},{"$f":"'Pas à pas'!C45","v":""},{"$f":"'Pas à pas'!D45","v":""},{"$f":"'Pas à pas'!E45","v":""},{"$f":"'Pas à pas'!F45","v":""},{"$f":"'Pas à pas'!G45","v":""},{"$f":"'Pas à pas'!H45","v":""},{"$f":"'Pas à pas'!I45","v":""}]
["v",{"$f":"IF(D46=\"\",\"\",'Pas à pas'!B46)","v":""},{"$f":"'Pas à pas'!C46","v":""},{"$f":"'Pas à pas'!D46","v":""},{"$f":"'Pas à pas'!E46","v":""},{"$f":"'Pas à pas'!F46","v":""},{"$f":"'Pas à pas'!G46","v":""},{"$f":"'Pas à pas'!H46","v":""},{"$f":"'Pas à pas'!I46","v":""}]
["v",{"$f":"IF(D47=\"\",\"\",'Pas à pas'!B47)","v":""},{"$f":"'Pas à pas'!C47","v":""},{"$f":"'Pas à pas'!D47","v":""},{"$f":"'Pas à pas'!E47","v":""},{"$f":"'Pas à pas'!F47","v":""},{"$f":"'Pas à pas'!G47","v":""},{"$f":"'Pas à pas'!H47","v":""},{"$f":"'Pas à pas'!I47","v":""}]
["v",{"$f":"IF(D48=\"\",\"\",'Pas à pas'!B48)","v":""},{"$f":"'Pas à pas'!C48","v":""},{"$f":"'Pas à pas'!D48","v":""},{"$f":"'Pas à pas'!E48","v":""},{"$f":"'Pas à pas'!F48","v":""},{"$f":"'Pas à pas'!G48","v":""},{"$f":"'Pas à pas'!H48","v":""},{"$f":"'Pas à pas'!I48","v":""}]
["v",{"$f":"IF(D49=\"\",\"\",'Pas à pas'!B49)","v":""},{"$f":"'Pas à pas'!C49","v":""},{"$f":"'Pas à pas'!D49","v":""},{"$f":"'Pas à pas'!E49","v":""},{"$f":"'Pas à pas'!F49","v":""},{"$f":"'Pas à pas'!G49","v":""},{"$f":"'Pas à pas'!H49","v":""},{"$f":"'Pas à pas'!I49","v":""}]
["v",{"$f":"IF(D50=\"\",\"\",'Pas à pas'!B50)","v":""},{"$f":"'Pas à pas'!C50","v":""},{"$f":"'Pas à pas'!D50","v":""},{"$f":"'Pas à pas'!E50","v":""},{"$f":"'Pas à pas'!F50","v":""},{"$f":"'Pas à pas'!G50","v":""},{"$f":"'Pas à pas'!H50","v":""},{"$f":"'Pas à pas'!I50","v":""}]
["v",{"$f":"IF(D51=\"\",\"\",'Pas à pas'!B51)","v":""},{"$f":"'Pas à pas'!C51","v":""},{"$f":"'Pas à pas'!D51","v":""},{"$f":"'Pas à pas'!E51","v":""},{"$f":"'Pas à pas'!F51","v":""},{"$f":"'Pas à pas'!G51","v":""},{"$f":"'Pas à pas'!H51","v":""},{"$f":"'Pas à pas'!I51","v":""}]
["v",{"$f":"IF(D52=\"\",\"\",'Pas à pas'!B52)","v":""},{"$f":"'Pas à pas'!C52","v":""},{"$f":"'Pas à pas'!D52","v":""},{"$f":"'Pas à pas'!E52","v":""},{"$f":"'Pas à pas'!F52","v":""},{"$f":"'Pas à pas'!G52","v":""},{"$f":"'Pas à pas'!H52","v":""},{"$f":"'Pas à pas'!I52","v":""}]
["v",{"$f":"IF(D53=\"\",\"\",'Pas à pas'!B53)","v":""},{"$f":"'Pas à pas'!C53","v":""},{"$f":"'Pas à pas'!D53","v":""},{"$f":"'Pas à pas'!E53","v":""},{"$f":"'Pas à pas'!F53","v":""},{"$f":"'Pas à pas'!G53","v":""},{"$f":"'Pas à pas'!H53","v":""},{"$f":"'Pas à pas'!I53","v":""}]
["v",{"$f":"IF(D54=\"\",\"\",'Pas à pas'!B54)","v":""},{"$f":"'Pas à pas'!C54","v":""},{"$f":"'Pas à pas'!D54","v":""},{"$f":"'Pas à pas'!E54","v":""},{"$f":"'Pas à pas'!F54","v":""},{"$f":"'Pas à pas'!G54","v":""},{"$f":"'Pas à pas'!H54","v":""},{"$f":"'Pas à pas'!I54","v":""}]
["v",{"$f":"IF(D55=\"\",\"\",'Pas à pas'!B55)","v":""},{"$f":"'Pas à pas'!C55","v":""},{"$f":"'Pas à pas'!D55","v":""},{"$f":"'Pas à pas'!E55","v":""},{"$f":"'Pas à pas'!F55","v":""},{"$f":"'Pas à pas'!G55","v":""},{"$f":"'Pas à pas'!H55","v":""},{"$f":"'Pas à pas'!I55","v":""}]
["v",{"$f":"IF(D56=\"\",\"\",'Pas à pas'!B56)","v":""},{"$f":"'Pas à pas'!C56","v":""},{"$f":"'Pas à pas'!D56","v":""},{"$f":"'Pas à pas'!E56","v":""},{"$f":"'Pas à pas'!F56","v":""},{"$f":"'Pas à pas'!G56","v":""},{"$f":"'Pas à pas'!H56","v":""},{"$f":"'Pas à pas'!I56","v":""}]
["v",{"$f":"IF(D57=\"\",\"\",'Pas à pas'!B57)","v":""},{"$f":"'Pas à pas'!C57","v":""},{"$f":"'Pas à pas'!D57","v":""},{"$f":"'Pas à pas'!E57","v":""},{"$f":"'Pas à pas'!F57","v":""},{"$f":"'Pas à pas'!G57","v":""},{"$f":"'Pas à pas'!H57","v":""},{"$f":"'Pas à pas'!I57","v":""}]
["v",{"$f":"IF(D58=\"\",\"\",'Pas à pas'!B58)","v":""},{"$f":"'Pas à pas'!C58","v":""},{"$f":"'Pas à pas'!D58","v":""},{"$f":"'Pas à pas'!E58","v":""},{"$f":"'Pas à pas'!F58","v":""},{"$f":"'Pas à pas'!G58","v":""},{"$f":"'Pas à pas'!H58","v":""},{"$f":"'Pas à pas'!I58","v":""}]
["v",{"$f":"IF(D59=\"\",\"\",'Pas à pas'!B59)","v":""},{"$f":"'Pas à pas'!C59","v":""},{"$f":"'Pas à pas'!D59","v":""},{"$f":"'Pas à pas'!E59","v":""},{"$f":"'Pas à pas'!F59","v":""},{"$f":"'Pas à pas'!G59","v":""},{"$f":"'Pas à pas'!H59","v":""},{"$f":"'Pas à pas'!I59","v":""}]
["v",{"$f":"IF(D60=\"\",\"\",'Pas à pas'!B60)","v":""},{"$f":"'Pas à pas'!C60","v":""},{"$f":"'Pas à pas'!D60","v":""},{"$f":"'Pas à pas'!E60","v":""},{"$f":"'Pas à pas'!F60","v":""},{"$f":"'Pas à pas'!G60","v":""},{"$f":"'Pas à pas'!H60","v":""},{"$f":"'Pas à pas'!I60","v":""}]
["v",{"$f":"IF(D61=\"\",\"\",'Pas à pas'!B61)","v":""},{"$f":"'Pas à pas'!C61","v":""},{"$f":"'Pas à pas'!D61","v":""},{"$f":"'Pas à pas'!E61","v":""},{"$f":"'Pas à pas'!F61","v":""},{"$f":"'Pas à pas'!G61","v":""},{"$f":"'Pas à pas'!H61","v":""},{"$f":"'Pas à pas'!I61","v":""}]
["v",{"$f":"IF(D62=\"\",\"\",'Pas à pas'!B62)","v":""},{"$f":"'Pas à pas'!C62","v":""},{"$f":"'Pas à pas'!D62","v":""},{"$f":"'Pas à pas'!E62","v":""},{"$f":"'Pas à pas'!F62","v":""},{"$f":"'Pas à pas'!G62","v":""},{"$f":"'Pas à pas'!H62","v":""},{"$f":"'Pas à pas'!I62","v":""}]
["v",{"$f":"IF(D63=\"\",\"\",'Pas à pas'!B63)","v":""},{"$f":"'Pas à pas'!C63","v":""},{"$f":"'Pas à pas'!D63","v":""},{"$f":"'Pas à pas'!E63","v":""},{"$f":"'Pas à pas'!F63","v":""},{"$f":"'Pas à pas'!G63","v":""},{"$f":"'Pas à pas'!H63","v":""},{"$f":"'Pas à pas'!I63","v":""}]
["v",{"$f":"IF(D64=\"\",\"\",'Pas à pas'!B64)","v":""},{"$f":"'Pas à pas'!C64","v":""},{"$f":"'Pas à pas'!D64","v":""},{"$f":"'Pas à pas'!E64","v":""},{"$f":"'Pas à pas'!F64","v":""},{"$f":"'Pas à pas'!G64","v":""},{"$f":"'Pas à pas'!H64","v":""},{"$f":"'Pas à pas'!I64","v":""}]
["v",{"$f":"IF(D65=\"\",\"\",'Pas à pas'!B65)","v":""},{"$f":"'Pas à pas'!C65","v":""},{"$f":"'Pas à pas'!D65","v":""},{"$f":"'Pas à pas'!E65","v":""},{"$f":"'Pas à pas'!F65","v":""},{"$f":"'Pas à pas'!G65","v":""},{"$f":"'Pas à pas'!H65","v":""},{"$f":"'Pas à pas'!I65","v":""}]
["v",{"$f":"IF(D66=\"\",\"\",'Pas à pas'!B66)","v":""},{"$f":"'Pas à pas'!C66","v":""},{"$f":"'Pas à pas'!D66","v":""},{"$f":"'Pas à pas'!E66","v":""},{"$f":"'Pas à pas'!F66","v":""},{"$f":"'Pas à pas'!G66","v":""},{"$f":"'Pas à pas'!H66","v":""},{"$f":"'Pas à pas'!I66","v":""}]
["v",{"$f":"IF(D67=\"\",\"\",'Pas à pas'!B67)","v":""},{"$f":"'Pas à pas'!C67","v":""},{"$f":"'Pas à pas'!D67","v":""},{"$f":"'Pas à pas'!E67","v":""},{"$f":"'Pas à pas'!F67","v":""},{"$f":"'Pas à pas'!G67","v":""},{"$f":"'Pas à pas'!H67","v":""},{"$f":"'Pas à pas'!I67","v":""}]
["v",{"$f":"IF(D68=\"\",\"\",'Pas à pas'!B68)","v":""},{"$f":"'Pas à pas'!C68","v":""},{"$f":"'Pas à pas'!D68","v":""},{"$f":"'Pas à pas'!E68","v":""},{"$f":"'Pas à pas'!F68","v":""},{"$f":"'Pas à pas'!G68","v":""},{"$f":"'Pas à pas'!H68","v":""},{"$f":"'Pas à pas'!I68","v":""}]
["v",{"$f":"IF(D69=\"\",\"\",'Pas à pas'!B69)","v":""},{"$f":"'Pas à pas'!C69","v":""},{"$f":"'Pas à pas'!D69","v":""},{"$f":"'Pas à pas'!E69","v":""},{"$f":"'Pas à pas'!F69","v":""},{"$f":"'Pas à pas'!G69","v":""},{"$f":"'Pas à pas'!H69","v":""},{"$f":"'Pas à pas'!I69","v":""}]
["v",{"$f":"IF(D70=\"\",\"\",'Pas à pas'!B70)","v":""},{"$f":"'Pas à pas'!C70","v":""},{"$f":"'Pas à pas'!D70","v":""},{"$f":"'Pas à pas'!E70","v":""},{"$f":"'Pas à pas'!F70","v":""},{"$f":"'Pas à pas'!G70","v":""},{"$f":"'Pas à pas'!H70","v":""},{"$f":"'Pas à pas'!I70","v":""}]
["v",{"$f":"IF(D71=\"\",\"\",'Pas à pas'!B71)","v":""},{"$f":"'Pas à pas'!C71","v":""},{"$f":"'Pas à pas'!D71","v":""},{"$f":"'Pas à pas'!E71","v":""},{"$f":"'Pas à pas'!F71","v":""},{"$f":"'Pas à pas'!G71","v":""},{"$f":"'Pas à pas'!H71","v":""},{"$f":"'Pas à pas'!I71","v":""}]
["v",{"$f":"IF(D72=\"\",\"\",'Pas à pas'!B72)","v":""},{"$f":"'Pas à pas'!C72","v":""},{"$f":"'Pas à pas'!D72","v":""},{"$f":"'Pas à pas'!E72","v":""},{"$f":"'Pas à pas'!F72","v":""},{"$f":"'Pas à pas'!G72","v":""},{"$f":"'Pas à pas'!H72","v":""},{"$f":"'Pas à pas'!I72","v":""}]
["v",{"$f":"IF(D73=\"\",\"\",'Pas à pas'!B73)","v":""},{"$f":"'Pas à pas'!C73","v":""},{"$f":"'Pas à pas'!D73","v":""},{"$f":"'Pas à pas'!E73","v":""},{"$f":"'Pas à pas'!F73","v":""},{"$f":"'Pas à pas'!G73","v":""},{"$f":"'Pas à pas'!H73","v":""},{"$f":"'Pas à pas'!I73","v":""}]
["v",{"$f":"IF(D74=\"\",\"\",'Pas à pas'!B74)","v":""},{"$f":"'Pas à pas'!C74","v":""},{"$f":"'Pas à pas'!D74","v":""},{"$f":"'Pas à pas'!E74","v":""},{"$f":"'Pas à pas'!F74","v":""},{"$f":"'Pas à pas'!G74","v":""},{"$f":"'Pas à pas'!H74","v":""},{"$f":"'Pas à pas'!I74","v":""}]
["v",{"$f":"IF(D75=\"\",\"\",'Pas à pas'!B75)","v":""},{"$f":"'Pas à pas'!C75","v":""},{"$f":"'Pas à pas'!D75","v":""},{"$f":"'Pas à pas'!E75","v":""},{"$f":"'Pas à pas'!F75","v":""},{"$f":"'Pas à pas'!G75","v":""},{"$f":"'Pas à pas'!H75","v":""},{"$f":"'Pas à pas'!I75","v":""}]
["v",{"$f":"IF(D76=\"\",\"\",'Pas à pas'!B76)","v":""},{"$f":"'Pas à pas'!C76","v":""},{"$f":"'Pas à pas'!D76","v":""},{"$f":"'Pas à pas'!E76","v":""},{"$f":"'Pas à pas'!F76","v":""},{"$f":"'Pas à pas'!G76","v":""},{"$f":"'Pas à pas'!H76","v":""},{"$f":"'Pas à pas'!I76","v":""}]
["v",{"$f":"IF(D77=\"\",\"\",'Pas à pas'!B77)","v":""},{"$f":"'Pas à pas'!C77","v":""},{"$f":"'Pas à pas'!D77","v":""},{"$f":"'Pas à pas'!E77","v":""},{"$f":"'Pas à pas'!F77","v":""},{"$f":"'Pas à pas'!G77","v":""},{"$f":"'Pas à pas'!H77","v":""},{"$f":"'Pas à pas'!I77","v":""}]
["v",{"$f":"IF(D78=\"\",\"\",'Pas à pas'!B78)","v":""},{"$f":"'Pas à pas'!C78","v":""},{"$f":"'Pas à pas'!D78","v":""},{"$f":"'Pas à pas'!E78","v":""},{"$f":"'Pas à pas'!F78","v":""},{"$f":"'Pas à pas'!G78","v":""},{"$f":"'Pas à pas'!H78","v":""},{"$f":"'Pas à pas'!I78","v":""}]
["v",{"$f":"IF(D79=\"\",\"\",'Pas à pas'!B79)","v":""},{"$f":"'Pas à pas'!C79","v":""},{"$f":"'Pas à pas'!D79","v":""},{"$f":"'Pas à pas'!E79","v":""},{"$f":"'Pas à pas'!F79","v":""},{"$f":"'Pas à pas'!G79","v":""},{"$f":"'Pas à pas'!H79","v":""},{"$f":"'Pas à pas'!I79","v":""}]
["v",{"$f":"IF(D80=\"\",\"\",'Pas à pas'!B80)","v":""},{"$f":"'Pas à pas'!C80","v":""},{"$f":"'Pas à pas'!D80","v":""},{"$f":"'Pas à pas'!E80","v":""},{"$f":"'Pas à pas'!F80","v":""},{"$f":"'Pas à pas'!G80","v":""},{"$f":"'Pas à pas'!H80","v":""},{"$f":"'Pas à pas'!I80","v":""}]
["v",{"$f":"IF(D81=\"\",\"\",'Pas à pas'!B81)","v":""},{"$f":"'Pas à pas'!C81","v":""},{"$f":"'Pas à pas'!D81","v":""},{"$f":"'Pas à pas'!E81","v":""},{"$f":"'Pas à pas'!F81","v":""},{"$f":"'Pas à pas'!G81","v":""},{"$f":"'Pas à pas'!H81","v":""},{"$f":"'Pas à pas'!I81","v":""}]
["v",{"$f":"IF(D82=\"\",\"\",'Pas à pas'!B82)","v":""},{"$f":"'Pas à pas'!C82","v":""},{"$f":"'Pas à pas'!D82","v":""},{"$f":"'Pas à pas'!E82","v":""},{"$f":"'Pas à pas'!F82","v":""},{"$f":"'Pas à pas'!G82","v":""},{"$f":"'Pas à pas'!H82","v":""},{"$f":"'Pas à pas'!I82","v":""}]
["v",{"$f":"IF(D83=\"\",\"\",'Pas à pas'!B83)","v":""},{"$f":"'Pas à pas'!C83","v":""},{"$f":"'Pas à pas'!D83","v":""},{"$f":"'Pas à pas'!E83","v":""},{"$f":"'Pas à pas'!F83","v":""},{"$f":"'Pas à pas'!G83","v":""},{"$f":"'Pas à pas'!H83","v":""},{"$f":"'Pas à pas'!I83","v":""}]
["v",{"$f":"IF(D84=\"\",\"\",'Pas à pas'!B84)","v":""},{"$f":"'Pas à pas'!C84","v":""},{"$f":"'Pas à pas'!D84","v":""},{"$f":"'Pas à pas'!E84","v":""},{"$f":"'Pas à pas'!F84","v":""},{"$f":"'Pas à pas'!G84","v":""},{"$f":"'Pas à pas'!H84","v":""},{"$f":"'Pas à pas'!I84","v":""}]
["v",{"$f":"IF(D85=\"\",\"\",'Pas à pas'!B85)","v":""},{"$f":"'Pas à pas'!C85","v":""},{"$f":"'Pas à pas'!D85","v":""},{"$f":"'Pas à pas'!E85","v":""},{"$f":"'Pas à pas'!F85","v":""},{"$f":"'Pas à pas'!G85","v":""},{"$f":"'Pas à pas'!H85","v":""},{"$f":"'Pas à pas'!I85","v":""}]
["v",{"$f":"IF(D86=\"\",\"\",'Pas à pas'!B86)","v":""},{"$f":"'Pas à pas'!C86","v":""},{"$f":"'Pas à pas'!D86","v":""},{"$f":"'Pas à pas'!E86","v":""},{"$f":"'Pas à pas'!F86","v":""},{"$f":"'Pas à pas'!G86","v":""},{"$f":"'Pas à pas'!H86","v":""},{"$f":"'Pas à pas'!I86","v":""}]
["v",{"$f":"IF(D87=\"\",\"\",'Pas à pas'!B87)","v":""},{"$f":"'Pas à pas'!C87","v":""},{"$f":"'Pas à pas'!D87","v":""},{"$f":"'Pas à pas'!E87","v":""},{"$f":"'Pas à pas'!F87","v":""},{"$f":"'Pas à pas'!G87","v":""},{"$f":"'Pas à pas'!H87","v":""},{"$f":"'Pas à pas'!I87","v":""}]
["v",{"$f":"IF(D88=\"\",\"\",'Pas à pas'!B88)","v":""},{"$f":"'Pas à pas'!C88","v":""},{"$f":"'Pas à pas'!D88","v":""},{"$f":"'Pas à pas'!E88","v":""},{"$f":"'Pas à pas'!F88","v":""},{"$f":"'Pas à pas'!G88","v":""},{"$f":"'Pas à pas'!H88","v":""},{"$f":"'Pas à pas'!I88","v":""}]
["v",{"$f":"IF(D89=\"\",\"\",'Pas à pas'!B89)","v":""},{"$f":"'Pas à pas'!C89","v":""},{"$f":"'Pas à pas'!D89","v":""},{"$f":"'Pas à pas'!E89","v":""},{"$f":"'Pas à pas'!F89","v":""},{"$f":"'Pas à pas'!G89","v":""},{"$f":"'Pas à pas'!H89","v":""},{"$f":"'Pas à pas'!I89","v":""}]
["v",{"$f":"IF(D90=\"\",\"\",'Pas à pas'!B90)","v":""},{"$f":"'Pas à pas'!C90","v":""},{"$f":"'Pas à pas'!D90","v":""},{"$f":"'Pas à pas'!E90","v":""},{"$f":"'Pas à pas'!F90","v":""},{"$f":"'Pas à pas'!G90","v":""},{"$f":"'Pas à pas'!H90","v":""},{"$f":"'Pas à pas'!I90","v":""}]
["v",{"$f":"IF(D91=\"\",\"\",'Pas à pas'!B91)","v":""},{"$f":"'Pas à pas'!C91","v":""},{"$f":"'Pas à pas'!D91","v":""},{"$f":"'Pas à pas'!E91","v":""},{"$f":"'Pas à pas'!F91","v":""},{"$f":"'Pas à pas'!G91","v":""},{"$f":"'Pas à pas'!H91","v":""},{"$f":"'Pas à pas'!I91","v":""}]
["v",{"$f":"IF(D92=\"\",\"\",'Pas à pas'!B92)","v":""},{"$f":"'Pas à pas'!C92","v":""},{"$f":"'Pas à pas'!D92","v":""},{"$f":"'Pas à pas'!E92","v":""},{"$f":"'Pas à pas'!F92","v":""},{"$f":"'Pas à pas'!G92","v":""},{"$f":"'Pas à pas'!H92","v":""},{"$f":"'Pas à pas'!I92","v":""}]
["v",{"$f":"IF(D93=\"\",\"\",'Pas à pas'!B93)","v":""},{"$f":"'Pas à pas'!C93","v":""},{"$f":"'Pas à pas'!D93","v":""},{"$f":"'Pas à pas'!E93","v":""},{"$f":"'Pas à pas'!F93","v":""},{"$f":"'Pas à pas'!G93","v":""},{"$f":"'Pas à pas'!H93","v":""},{"$f":"'Pas à pas'!I93","v":""}]
["v",{"$f":"IF(D94=\"\",\"\",'Pas à pas'!B94)","v":""},{"$f":"'Pas à pas'!C94","v":""},{"$f":"'Pas à pas'!D94","v":""},{"$f":"'Pas à pas'!E94","v":""},{"$f":"'Pas à pas'!F94","v":""},{"$f":"'Pas à pas'!G94","v":""},{"$f":"'Pas à pas'!H94","v":""},{"$f":"'Pas à pas'!I94","v":""}]
["v",{"$f":"IF(D95=\"\",\"\",'Pas à pas'!B95)","v":""},{"$f":"'Pas à pas'!C95","v":""},{"$f":"'Pas à pas'!D95","v":""},{"$f":"'Pas à pas'!E95","v":""},{"$f":"'Pas à pas'!F95","v":""},{"$f":"'Pas à pas'!G95","v":""},{"$f":"'Pas à pas'!H95","v":""},{"$f":"'Pas à pas'!I95","v":""}]
["v",{"$f":"IF(D96=\"\",\"\",'Pas à pas'!B96)","v":""},{"$f":"'Pas à pas'!C96","v":""},{"$f":"'Pas à pas'!D96","v":""},{"$f":"'Pas à pas'!E96","v":""},{"$f":"'Pas à pas'!F96","v":""},{"$f":"'Pas à pas'!G96","v":""},{"$f":"'Pas à pas'!H96","v":""},{"$f":"'Pas à pas'!I96","v":""}]
["v",{"$f":"IF(D97=\"\",\"\",'Pas à pas'!B97)","v":""},{"$f":"'Pas à pas'!C97","v":""},{"$f":"'Pas à pas'!D97","v":""},{"$f":"'Pas à pas'!E97","v":""},{"$f":"'Pas à pas'!F97","v":""},{"$f":"'Pas à pas'!G97","v":""},{"$f":"'Pas à pas'!H97","v":""},{"$f":"'Pas à pas'!I97","v":""}]
["v",{"$f":"IF(D98=\"\",\"\",'Pas à pas'!B98)","v":""},{"$f":"'Pas à pas'!C98","v":""},{"$f":"'Pas à pas'!D98","v":""},{"$f":"'Pas à pas'!E98","v":""},{"$f":"'Pas à pas'!F98","v":""},{"$f":"'Pas à pas'!G98","v":""},{"$f":"'Pas à pas'!H98","v":""},{"$f":"'Pas à pas'!I98","v":""}]
["v",{"$f":"IF(D99=\"\",\"\",'Pas à pas'!B99)","v":""},{"$f":"'Pas à pas'!C99","v":""},{"$f":"'Pas à pas'!D99","v":""},{"$f":"'Pas à pas'!E99","v":""},{"$f":"'Pas à pas'!F99","v":""},{"$f":"'Pas à pas'!G99","v":""},{"$f":"'Pas à pas'!H99","v":""},{"$f":"'Pas à pas'!I99","v":""}]
["v",{"$f":"IF(D100=\"\",\"\",'Pas à pas'!B100)","v":""},{"$f":"'Pas à pas'!C100","v":""},{"$f":"'Pas à pas'!D100","v":""},{"$f":"'Pas à pas'!E100","v":""},{"$f":"'Pas à pas'!F100","v":""},{"$f":"'Pas à pas'!G100","v":""},{"$f":"'Pas à pas'!H100","v":""},{"$f":"'Pas à pas'!I100","v":""}]
["v",{"$f":"IF(D101=\"\",\"\",'Pas à pas'!B101)","v":""},{"$f":"'Pas à pas'!C101","v":""},{"$f":"'Pas à pas'!D101","v":""},{"$f":"'Pas à pas'!E101","v":""},{"$f":"'Pas à pas'!F101","v":""},{"$f":"'Pas à pas'!G101","v":""},{"$f":"'Pas à pas'!H101","v":""},{"$f":"'Pas à pas'!I101","v":""}]
["v",{"$f":"IF(D102=\"\",\"\",'Pas à pas'!B102)","v":""},{"$f":"'Pas à pas'!C102","v":""},{"$f":"'Pas à pas'!D102","v":""},{"$f":"'Pas à pas'!E102","v":""},{"$f":"'Pas à pas'!F102","v":""},{"$f":"'Pas à pas'!G102","v":""},{"$f":"'Pas à pas'!H102","v":""},{"$f":"'Pas à pas'!I102","v":""}]
["v",{"$f":"IF(D103=\"\",\"\",'Pas à pas'!B103)","v":""},{"$f":"'Pas à pas'!C103","v":""},{"$f":"'Pas à pas'!D103","v":""},{"$f":"'Pas à pas'!E103","v":""},{"$f":"'Pas à pas'!F103","v":""},{"$f":"'Pas à pas'!G103","v":""},{"$f":"'Pas à pas'!H103","v":""},{"$f":"'Pas à pas'!I103","v":""}]
["v",{"$f":"IF(D104=\"\",\"\",'Pas à pas'!B104)","v":""},{"$f":"'Pas à pas'!C104","v":""},{"$f":"'Pas à pas'!D104","v":""},{"$f":"'Pas à pas'!E104","v":""},{"$f":"'Pas à pas'!F104","v":""},{"$f":"'Pas à pas'!G104","v":""},{"$f":"'Pas à pas'!H104","v":""},{"$f":"'Pas à pas'!I104","v":""}]
["v",{"$f":"IF(D105=\"\",\"\",'Pas à pas'!B105)","v":""},{"$f":"'Pas à pas'!C105","v":""},{"$f":"'Pas à pas'!D105","v":""},{"$f":"'Pas à pas'!E105","v":""},{"$f":"'Pas à pas'!F105","v":""},{"$f":"'Pas à pas'!G105","v":""},{"$f":"'Pas à pas'!H105","v":""},{"$f":"'Pas à pas'!I105","v":""}]
["v",{"$f":"IF(D106=\"\",\"\",'Pas à pas'!B106)","v":""},{"$f":"'Pas à pas'!C106","v":""},{"$f":"'Pas à pas'!D106","v":""},{"$f":"'Pas à pas'!E106","v":""},{"$f":"'Pas à pas'!F106","v":""},{"$f":"'Pas à pas'!G106","v":""},{"$f":"'Pas à pas'!H106","v":""},{"$f":"'Pas à pas'!I106","v":""}]