{"text_format":"1","workbook":"xlsx","n_sheets":2,"sheets":["Journal","Compte"],"not_rendered":{"charts":0,"images":0,"macros":1,"external_links":0,"defined_names":4,"comments":1,"pivot_tables":0},"unopened":[],"bounds":{"document_bytes":16777216,"sheet_cells":100000,"rows_first":2000,"rows_last":500,"rows_between":2000,"halvings":0,"cell_chars":16384,"cell_head_chars":4096},"cells_cut":0,"cells_raw":0,"read":"whole","date_system":"1900"}

{"sheet":"Journal","index":0,"n_rows":258,"n_cols":17,"rows_kept":258,"cut":false,"hidden":false,"merged":[[5,1,5,7],[6,2,6,3],[6,4,6,5]]}
[]
[]
[]
[]
[null,null,null,null,null,null,null,{"$f":"I5","v":0},{"$f":"COUNTA(H8:H258)","v":0}]
[null,"JOURNAL"]
[null,"Date (31.12)","Débit",null,"Crédit",null,"Libellé","Somme"]
[null,null,null,{"$f":"IF(C8>0,VLOOKUP(C8,Miniplan,2),\"\")","v":""},null,{"$f":"IF(E8>0,VLOOKUP(E8,Miniplan,2),\"\")","v":""},null,null,{"$f":"IF($H8=\"\",\"\",IF(C8=\"\",\"\",LOOKUP(C8,Miniplan,Compte!$S$8:$S$52)))","v":""},{"$f":"IF($H8=\"\",\"\",IF(E8=\"\",\"\",LOOKUP(E8,Miniplan,Compte!$S$8:$S$52)))","v":""}]
[null,null,null,"",null,{"$f":"IF(E9>0,VLOOKUP(E9,Miniplan,2),\"\")","v":""},null,null,{"$f":"IF($H9=\"\",\"\",IF(C9=\"\",\"\",LOOKUP(C9,Miniplan,Compte!$S$8:$S$52)))","v":""},{"$f":"IF($H9=\"\",\"\",IF(E9=\"\",\"\",LOOKUP(E9,Miniplan,Compte!$S$8:$S$52)))","v":""}]
[null,null,null,"",null,"",null,null,{"$f":"IF($H10=\"\",\"\",IF(C10=\"\",\"\",LOOKUP(C10,Miniplan,Compte!$S$8:$S$52)))","v":""},{"$f":"IF($H10=\"\",\"\",IF(E10=\"\",\"\",LOOKUP(E10,Miniplan,Compte!$S$8:$S$52)))","v":""}]
[null,null,null,"",null,"",null,null,{"$f":"IF($H11=\"\",\"\",IF(C11=\"\",\"\",LOOKUP(C11,Miniplan,Compte!$S$8:$S$52)))","v":""},{"$f":"IF($H11=\"\",\"\",IF(E11=\"\",\"\",LOOKUP(E11,Miniplan,Compte!$S$8:$S$52)))","v":""}]
[null,null,null,"",null,"",null,null,{"$f":"IF($H12=\"\",\"\",IF(C12=\"\",\"\",LOOKUP(C12,Miniplan,Compte!$S$8:$S$52)))","v":""},{"$f":"IF($H12=\"\",\"\",IF(E12=\"\",\"\",LOOKUP(E12,Miniplan,Compte!$S$8:$S$52)))","v":""}]
[null,null,null,"",null,"",null,null,{"$f":"IF($H13=\"\",\"\",IF(C13=\"\",\"\",LOOKUP(C13,Miniplan,Compte!$S$8:$S$52)))","v":""},{"$f":"IF($H13=\"\",\"\",IF(E13=\"\",\"\",LOOKUP(E13,Miniplan,Compte!$S$8:$S$52)))","v":""}]
[null,null,null,"",null,"",null,null,{"$f":"IF($H14=\"\",\"\",IF(C14=\"\",\"\",LOOKUP(C14,Miniplan,Compte!$S$8:$S$52)))","v":""},{"$f":"IF($H14=\"\",\"\",IF(E14=\"\",\"\",LOOKUP(E14,Miniplan,Compte!$S$8:$S$52)))","v":""}]
[null,null,null,"",null,"",null,null,{"$f":"IF($H15=\"\",\"\",IF(C15=\"\",\"\",LOOKUP(C15,Miniplan,Compte!$S$8:$S$52)))","v":""},{"$f":"IF($H15=\"\",\"\",IF(E15=\"\",\"\",LOOKUP(E15,Miniplan,Compte!$S$8:$S$52)))","v":""}]
[null,null,null,"",null,"",null,null,{"$f":"IF($H16=\"\",\"\",IF(C16=\"\",\"\",LOOKUP(C16,Miniplan,Compte!$S$8:$S$52)))","v":""},{"$f":"IF($H16=\"\",\"\",IF(E16=\"\",\"\",LOOKUP(E16,Miniplan,Compte!$S$8:$S$52)))","v":""}]
[null,null,null,"",null,"",null,null,{"$f":"IF($H17=\"\",\"\",IF(C17=\"\",\"\",LOOKUP(C17,Miniplan,Compte!$S$8:$S$52)))","v":""},{"$f":"IF($H17=\"\",\"\",IF(E17=\"\",\"\",LOOKUP(E17,Miniplan,Compte!$S$8:$S$52)))","v":""}]
[null,null,null,"",null,"",null,null,{"$f":"IF($H18=\"\",\"\",IF(C18=\"\",\"\",LOOKUP(C18,Miniplan,Compte!$S$8:$S$52)))","v":""},{"$f":"IF($H18=\"\",\"\",IF(E18=\"\",\"\",LOOKUP(E18,Miniplan,Compte!$S$8:$S$52)))","v":""}]
[null,null,null,"",null,"",null,null,{"$f":"IF($H19=\"\",\"\",IF(C19=\"\",\"\",LOOKUP(C19,Miniplan,Compte!$S$8:$S$52)))","v":""},{"$f":"IF($H19=\"\",\"\",IF(E19=\"\",\"\",LOOKUP(E19,Miniplan,Compte!$S$8:$S$52)))","v":""},null,null,null,null,null,null,{"$f":"IF(L19=\"\",\"\",Q18+O19-P19)","v":""}]
[null,null,null,"",null,"",null,null,{"$f":"IF($H20=\"\",\"\",IF(C20=\"\",\"\",LOOKUP(C20,Miniplan,Compte!$S$8:$S$52)))","v":""},{"$f":"IF($H20=\"\",\"\",IF(E20=\"\",\"\",LOOKUP(E20,Miniplan,Compte!$S$8:$S$52)))","v":""},null,null,null,null,null,null,""]
[null,null,null,"",null,"",null,null,{"$f":"IF($H21=\"\",\"\",IF(C21=\"\",\"\",LOOKUP(C21,Miniplan,Compte!$S$8:$S$52)))","v":""},{"$f":"IF($H21=\"\",\"\",IF(E21=\"\",\"\",LOOKUP(E21,Miniplan,Compte!$S$8:$S$52)))","v":""},null,null,null,null,null,null,""]
[null,null,null,"",null,"",null,null,{"$f":"IF($H22=\"\",\"\",IF(C22=\"\",\"\",LOOKUP(C22,Miniplan,Compte!$S$8:$S$52)))","v":""},{"$f":"IF($H22=\"\",\"\",IF(E22=\"\",\"\",LOOKUP(E22,Miniplan,Compte!$S$8:$S$52)))","v":""},null,null,null,null,null,null,""]
[null,null,null,"",null,"",null,null,{"$f":"IF($H23=\"\",\"\",IF(C23=\"\",\"\",LOOKUP(C23,Miniplan,Compte!$S$8:$S$52)))","v":""},{"$f":"IF($H23=\"\",\"\",IF(E23=\"\",\"\",LOOKUP(E23,Miniplan,Compte!$S$8:$S$52)))","v":""},null,null,null,null,null,null,""]
[null,null,null,"",null,"",null,null,{"$f":"IF($H24=\"\",\"\",IF(C24=\"\",\"\",LOOKUP(C24,Miniplan,Compte!$S$8:$S$52)))","v":""},{"$f":"IF($H24=\"\",\"\",IF(E24=\"\",\"\",LOOKUP(E24,Miniplan,Compte!$S$8:$S$52)))","v":""},null,null,null,null,null,null,""]
[null,null,null,"",null,"",null,null,{"$f":"IF($H25=\"\",\"\",IF(C25=\"\",\"\",LOOKUP(C25,Miniplan,Compte!$S$8:$S$52)))","v":""},{"$f":"IF($H25=\"\",\"\",IF(E25=\"\",\"\",LOOKUP(E25,Miniplan,Compte!$S$8:$S$52)))","v":""},null,null,null,null,null,null,""]
[null,null,null,"",null,"",null,null,{"$f":"IF($H26=\"\",\"\",IF(C26=\"\",\"\",LOOKUP(C26,Miniplan,Compte!$S$8:$S$52)))","v":""},{"$f":"IF($H26=\"\",\"\",IF(E26=\"\",\"\",LOOKUP(E26,Miniplan,Compte!$S$8:$S$52)))","v":""},null,null,null,null,null,null,""]
[null,null,null,"",null,"",null,null,{"$f":"IF($H27=\"\",\"\",IF(C27=\"\",\"\",LOOKUP(C27,Miniplan,Compte!$S$8:$S$52)))","v":""},{"$f":"IF($H27=\"\",\"\",IF(E27=\"\",\"\",LOOKUP(E27,Miniplan,Compte!$S$8:$S$52)))","v":""},null,null,null,null,null,null,""]
[null,null,null,"",null,"",null,null,{"$f":"IF($H28=\"\",\"\",IF(C28=\"\",\"\",LOOKUP(C28,Miniplan,Compte!$S$8:$S$52)))","v":""},{"$f":"IF($H28=\"\",\"\",IF(E28=\"\",\"\",LOOKUP(E28,Miniplan,Compte!$S$8:$S$52)))","v":""},null,null,null,null,null,null,""]
[null,null,null,"",null,"",null,null,{"$f":"IF($H29=\"\",\"\",IF(C29=\"\",\"\",LOOKUP(C29,Miniplan,Compte!$S$8:$S$52)))","v":""},{"$f":"IF($H29=\"\",\"\",IF(E29=\"\",\"\",LOOKUP(E29,Miniplan,Compte!$S$8:$S$52)))","v":""},null,null,null,null,null,null,""]
[null,null,null,"",null,"",null,null,{"$f":"IF($H30=\"\",\"\",IF(C30=\"\",\"\",LOOKUP(C30,Miniplan,Compte!$S$8:$S$52)))","v":""},{"$f":"IF($H30=\"\",\"\",IF(E30=\"\",\"\",LOOKUP(E30,Miniplan,Compte!$S$8:$S$52)))","v":""},null,null,null,null,null,null,""]
[null,null,null,"",null,"",null,null,{"$f":"IF($H31=\"\",\"\",IF(C31=\"\",\"\",LOOKUP(C31,Miniplan,Compte!$S$8:$S$52)))","v":""},{"$f":"IF($H31=\"\",\"\",IF(E31=\"\",\"\",LOOKUP(E31,Miniplan,Compte!$S$8:$S$52)))","v":""},null,null,null,null,null,null,""]
[null,null,null,"",null,"",null,null,{"$f":"IF($H32=\"\",\"\",IF(C32=\"\",\"\",LOOKUP(C32,Miniplan,Compte!$S$8:$S$52)))","v":""},{"$f":"IF($H32=\"\",\"\",IF(E32=\"\",\"\",LOOKUP(E32,Miniplan,Compte!$S$8:$S$52)))","v":""},null,null,null,null,null,null,""]
[null,null,null,"",null,"",null,null,{"$f":"IF($H33=\"\",\"\",IF(C33=\"\",\"\",LOOKUP(C33,Miniplan,Compte!$S$8:$S$52)))","v":""},{"$f":"IF($H33=\"\",\"\",IF(E33=\"\",\"\",LOOKUP(E33,Miniplan,Compte!$S$8:$S$52)))","v":""},null,null,null,null,null,null,""]
[null,null,null,"",null,"",null,null,{"$f":"IF($H34=\"\",\"\",IF(C34=\"\",\"\",LOOKUP(C34,Miniplan,Compte!$S$8:$S$52)))","v":""},{"$f":"IF($H34=\"\",\"\",IF(E34=\"\",\"\",LOOKUP(E34,Miniplan,Compte!$S$8:$S$52)))","v":""},null,null,null,null,null,null,""]
[null,null,null,"",null,"",null,null,{"$f":"IF($H35=\"\",\"\",IF(C35=\"\",\"\",LOOKUP(C35,Miniplan,Compte!$S$8:$S$52)))","v":""},{"$f":"IF($H35=\"\",\"\",IF(E35=\"\",\"\",LOOKUP(E35,Miniplan,Compte!$S$8:$S$52)))","v":""},null,null,null,null,null,null,""]
[null,null,null,"",null,"",null,null,{"$f":"IF($H36=\"\",\"\",IF(C36=\"\",\"\",LOOKUP(C36,Miniplan,Compte!$S$8:$S$52)))","v":""},{"$f":"IF($H36=\"\",\"\",IF(E36=\"\",\"\",LOOKUP(E36,Miniplan,Compte!$S$8:$S$52)))","v":""},null,null,null,null,null,null,""]
[null,null,null,"",null,"",null,null,{"$f":"IF($H37=\"\",\"\",IF(C37=\"\",\"\",LOOKUP(C37,Miniplan,Compte!$S$8:$S$52)))","v":""},{"$f":"IF($H37=\"\",\"\",IF(E37=\"\",\"\",LOOKUP(E37,Miniplan,Compte!$S$8:$S$52)))","v":""},null,null,null,null,null,null,""]
[null,null,null,"",null,"",null,null,{"$f":"IF($H38=\"\",\"\",IF(C38=\"\",\"\",LOOKUP(C38,Miniplan,Compte!$S$8:$S$52)))","v":""},{"$f":"IF($H38=\"\",\"\",IF(E38=\"\",\"\",LOOKUP(E38,Miniplan,Compte!$S$8:$S$52)))","v":""},null,null,null,null,null,null,""]
[null,null,null,"",null,"",null,null,{"$f":"IF($H39=\"\",\"\",IF(C39=\"\",\"\",LOOKUP(C39,Miniplan,Compte!$S$8:$S$52)))","v":""},{"$f":"IF($H39=\"\",\"\",IF(E39=\"\",\"\",LOOKUP(E39,Miniplan,Compte!$S$8:$S$52)))","v":""},null,null,null,null,null,null,""]
[null,null,null,"",null,"",null,null,{"$f":"IF($H40=\"\",\"\",IF(C40=\"\",\"\",LOOKUP(C40,Miniplan,Compte!$S$8:$S$52)))","v":""},{"$f":"IF($H40=\"\",\"\",IF(E40=\"\",\"\",LOOKUP(E40,Miniplan,Compte!$S$8:$S$52)))","v":""},null,null,null,null,null,null,""]
[null,null,null,"",null,"",null,null,{"$f":"IF($H41=\"\",\"\",IF(C41=\"\",\"\",LOOKUP(C41,Miniplan,Compte!$S$8:$S$52)))","v":""},{"$f":"IF($H41=\"\",\"\",IF(E41=\"\",\"\",LOOKUP(E41,Miniplan,Compte!$S$8:$S$52)))","v":""},null,null,null,null,null,null,""]
[null,null,null,"",null,"",null,null,{"$f":"IF($H42=\"\",\"\",IF(C42=\"\",\"\",LOOKUP(C42,Miniplan,Compte!$S$8:$S$52)))","v":""},{"$f":"IF($H42=\"\",\"\",IF(E42=\"\",\"\",LOOKUP(E42,Miniplan,Compte!$S$8:$S$52)))","v":""},null,null,null,null,null,null,""]
[null,null,null,"",null,"",null,null,{"$f":"IF($H43=\"\",\"\",IF(C43=\"\",\"\",LOOKUP(C43,Miniplan,Compte!$S$8:$S$52)))","v":""},{"$f":"IF($H43=\"\",\"\",IF(E43=\"\",\"\",LOOKUP(E43,Miniplan,Compte!$S$8:$S$52)))","v":""},null,null,null,null,null,null,""]
[null,null,null,"",null,"",null,null,{"$f":"IF($H44=\"\",\"\",IF(C44=\"\",\"\",LOOKUP(C44,Miniplan,Compte!$S$8:$S$52)))","v":""},{"$f":"IF($H44=\"\",\"\",IF(E44=\"\",\"\",LOOKUP(E44,Miniplan,Compte!$S$8:$S$52)))","v":""},null,null,null,null,null,null,""]
[null,null,null,"",null,"",null,null,{"$f":"IF($H45=\"\",\"\",IF(C45=\"\",\"\",LOOKUP(C45,Miniplan,Compte!$S$8:$S$52)))","v":""},{"$f":"IF($H45=\"\",\"\",IF(E45=\"\",\"\",LOOKUP(E45,Miniplan,Compte!$S$8:$S$52)))","v":""},null,null,null,null,null,null,""]
[null,null,null,"",null,"",null,null,{"$f":"IF($H46=\"\",\"\",IF(C46=\"\",\"\",LOOKUP(C46,Miniplan,Compte!$S$8:$S$52)))","v":""},{"$f":"IF($H46=\"\",\"\",IF(E46=\"\",\"\",LOOKUP(E46,Miniplan,Compte!$S$8:$S$52)))","v":""},null,null,null,null,null,null,""]
[null,null,null,"",null,"",null,null,{"$f":"IF($H47=\"\",\"\",IF(C47=\"\",\"\",LOOKUP(C47,Miniplan,Compte!$S$8:$S$52)))","v":""},{"$f":"IF($H47=\"\",\"\",IF(E47=\"\",\"\",LOOKUP(E47,Miniplan,Compte!$S$8:$S$52)))","v":""},null,null,null,null,null,null,""]
[null,null,null,"",null,"",null,null,{"$f":"IF($H48=\"\",\"\",IF(C48=\"\",\"\",LOOKUP(C48,Miniplan,Compte!$S$8:$S$52)))","v":""},{"$f":"IF($H48=\"\",\"\",IF(E48=\"\",\"\",LOOKUP(E48,Miniplan,Compte!$S$8:$S$52)))","v":""},null,null,null,null,null,null,""]
[null,null,null,"",null,"",null,null,{"$f":"IF($H49=\"\",\"\",IF(C49=\"\",\"\",LOOKUP(C49,Miniplan,Compte!$S$8:$S$52)))","v":""},{"$f":"IF($H49=\"\",\"\",IF(E49=\"\",\"\",LOOKUP(E49,Miniplan,Compte!$S$8:$S$52)))","v":""},null,null,null,null,null,null,""]
[null,null,null,"",null,"",null,null,{"$f":"IF($H50=\"\",\"\",IF(C50=\"\",\"\",LOOKUP(C50,Miniplan,Compte!$S$8:$S$52)))","v":""},{"$f":"IF($H50=\"\",\"\",IF(E50=\"\",\"\",LOOKUP(E50,Miniplan,Compte!$S$8:$S$52)))","v":""},null,null,null,null,null,null,""]
[null,null,null,"",null,"",null,null,{"$f":"IF($H51=\"\",\"\",IF(C51=\"\",\"\",LOOKUP(C51,Miniplan,Compte!$S$8:$S$52)))","v":""},{"$f":"IF($H51=\"\",\"\",IF(E51=\"\",\"\",LOOKUP(E51,Miniplan,Compte!$S$8:$S$52)))","v":""},null,null,null,null,null,null,""]
[null,null,null,"",null,"",null,null,{"$f":"IF($H52=\"\",\"\",IF(C52=\"\",\"\",LOOKUP(C52,Miniplan,Compte!$S$8:$S$52)))","v":""},{"$f":"IF($H52=\"\",\"\",IF(E52=\"\",\"\",LOOKUP(E52,Miniplan,Compte!$S$8:$S$52)))","v":""},null,null,null,null,null,null,""]
[null,null,null,"",null,"",null,null,{"$f":"IF($H53=\"\",\"\",IF(C53=\"\",\"\",LOOKUP(C53,Miniplan,Compte!$S$8:$S$52)))","v":""},{"$f":"IF($H53=\"\",\"\",IF(E53=\"\",\"\",LOOKUP(E53,Miniplan,Compte!$S$8:$S$52)))","v":""},null,null,null,null,null,null,""]
[null,null,null,"",null,"",null,null,{"$f":"IF($H54=\"\",\"\",IF(C54=\"\",\"\",LOOKUP(C54,Miniplan,Compte!$S$8:$S$52)))","v":""},{"$f":"IF($H54=\"\",\"\",IF(E54=\"\",\"\",LOOKUP(E54,Miniplan,Compte!$S$8:$S$52)))","v":""},null,null,null,null,null,null,""]
[null,null,null,"",null,"",null,null,{"$f":"IF($H55=\"\",\"\",IF(C55=\"\",\"\",LOOKUP(C55,Miniplan,Compte!$S$8:$S$52)))","v":""},{"$f":"IF($H55=\"\",\"\",IF(E55=\"\",\"\",LOOKUP(E55,Miniplan,Compte!$S$8:$S$52)))","v":""},null,null,null,null,null,null,""]
[null,null,null,"",null,"",null,null,{"$f":"IF($H56=\"\",\"\",IF(C56=\"\",\"\",LOOKUP(C56,Miniplan,Compte!$S$8:$S$52)))","v":""},{"$f":"IF($H56=\"\",\"\",IF(E56=\"\",\"\",LOOKUP(E56,Miniplan,Compte!$S$8:$S$52)))","v":""},null,null,null,null,null,null,""]
[null,null,null,"",null,"",null,null,{"$f":"IF($H57=\"\",\"\",IF(C57=\"\",\"\",LOOKUP(C57,Miniplan,Compte!$S$8:$S$52)))","v":""},{"$f":"IF($H57=\"\",\"\",IF(E57=\"\",\"\",LOOKUP(E57,Miniplan,Compte!$S$8:$S$52)))","v":""},null,null,null,null,null,null,""]
[null,null,null,"",null,"",null,null,{"$f":"IF($H58=\"\",\"\",IF(C58=\"\",\"\",LOOKUP(C58,Miniplan,Compte!$S$8:$S$52)))","v":""},{"$f":"IF($H58=\"\",\"\",IF(E58=\"\",\"\",LOOKUP(E58,Miniplan,Compte!$S$8:$S$52)))","v":""},null,null,null,null,null,null,""]
[null,null,null,"",null,"",null,null,{"$f":"IF($H59=\"\",\"\",IF(C59=\"\",\"\",LOOKUP(C59,Miniplan,Compte!$S$8:$S$52)))","v":""},{"$f":"IF($H59=\"\",\"\",IF(E59=\"\",\"\",LOOKUP(E59,Miniplan,Compte!$S$8:$S$52)))","v":""},null,null,null,null,null,null,""]
[null,null,null,"",null,"",null,null,{"$f":"IF($H60=\"\",\"\",IF(C60=\"\",\"\",LOOKUP(C60,Miniplan,Compte!$S$8:$S$52)))","v":""},{"$f":"IF($H60=\"\",\"\",IF(E60=\"\",\"\",LOOKUP(E60,Miniplan,Compte!$S$8:$S$52)))","v":""},null,null,null,null,null,null,""]
[null,null,null,"",null,"",null,null,{"$f":"IF($H61=\"\",\"\",IF(C61=\"\",\"\",LOOKUP(C61,Miniplan,Compte!$S$8:$S$52)))","v":""},{"$f":"IF($H61=\"\",\"\",IF(E61=\"\",\"\",LOOKUP(E61,Miniplan,Compte!$S$8:$S$52)))","v":""},null,null,null,null,null,null,""]
[null,null,null,"",null,"",null,null,{"$f":"IF($H62=\"\",\"\",IF(C62=\"\",\"\",LOOKUP(C62,Miniplan,Compte!$S$8:$S$52)))","v":""},{"$f":"IF($H62=\"\",\"\",IF(E62=\"\",\"\",LOOKUP(E62,Miniplan,Compte!$S$8:$S$52)))","v":""},null,null,null,null,null,null,""]
[null,null,null,"",null,"",null,null,{"$f":"IF($H63=\"\",\"\",IF(C63=\"\",\"\",LOOKUP(C63,Miniplan,Compte!$S$8:$S$52)))","v":""},{"$f":"IF($H63=\"\",\"\",IF(E63=\"\",\"\",LOOKUP(E63,Miniplan,Compte!$S$8:$S$52)))","v":""},null,null,null,null,null,null,""]
[null,null,null,"",null,"",null,null,{"$f":"IF($H64=\"\",\"\",IF(C64=\"\",\"\",LOOKUP(C64,Miniplan,Compte!$S$8:$S$52)))","v":""},{"$f":"IF($H64=\"\",\"\",IF(E64=\"\",\"\",LOOKUP(E64,Miniplan,Compte!$S$8:$S$52)))","v":""},null,null,null,null,null,null,""]
[null,null,null,"",null,"",null,null,{"$f":"IF($H65=\"\",\"\",IF(C65=\"\",\"\",LOOKUP(C65,Miniplan,Compte!$S$8:$S$52)))","v":""},{"$f":"IF($H65=\"\",\"\",IF(E65=\"\",\"\",LOOKUP(E65,Miniplan,Compte!$S$8:$S$52)))","v":""},null,null,null,null,null,null,""]
[null,null,null,"",null,"",null,null,{"$f":"IF($H66=\"\",\"\",IF(C66=\"\",\"\",LOOKUP(C66,Miniplan,Compte!$S$8:$S$52)))","v":""},{"$f":"IF($H66=\"\",\"\",IF(E66=\"\",\"\",LOOKUP(E66,Miniplan,Compte!$S$8:$S$52)))","v":""},null,null,null,null,null,null,""]
[null,null,null,"",null,"",null,null,{"$f":"IF($H67=\"\",\"\",IF(C67=\"\",\"\",LOOKUP(C67,Miniplan,Compte!$S$8:$S$52)))","v":""},{"$f":"IF($H67=\"\",\"\",IF(E67=\"\",\"\",LOOKUP(E67,Miniplan,Compte!$S$8:$S$52)))","v":""},null,null,null,null,null,null,""]
[null,null,null,"",null,"",null,null,{"$f":"IF($H68=\"\",\"\",IF(C68=\"\",\"\",LOOKUP(C68,Miniplan,Compte!$S$8:$S$52)))","v":""},{"$f":"IF($H68=\"\",\"\",IF(E68=\"\",\"\",LOOKUP(E68,Miniplan,Compte!$S$8:$S$52)))","v":""},null,null,null,null,null,null,""]
[null,null,null,"",null,"",null,null,{"$f":"IF($H69=\"\",\"\",IF(C69=\"\",\"\",LOOKUP(C69,Miniplan,Compte!$S$8:$S$52)))","v":""},{"$f":"IF($H69=\"\",\"\",IF(E69=\"\",\"\",LOOKUP(E69,Miniplan,Compte!$S$8:$S$52)))","v":""},null,null,null,null,null,null,""]
[null,null,null,"",null,"",null,null,{"$f":"IF($H70=\"\",\"\",IF(C70=\"\",\"\",LOOKUP(C70,Miniplan,Compte!$S$8:$S$52)))","v":""},{"$f":"IF($H70=\"\",\"\",IF(E70=\"\",\"\",LOOKUP(E70,Miniplan,Compte!$S$8:$S$52)))","v":""},null,null,null,null,null,null,""]
[null,null,null,"",null,"",null,null,{"$f":"IF($H71=\"\",\"\",IF(C71=\"\",\"\",LOOKUP(C71,Miniplan,Compte!$S$8:$S$52)))","v":""},{"$f":"IF($H71=\"\",\"\",IF(E71=\"\",\"\",LOOKUP(E71,Miniplan,Compte!$S$8:$S$52)))","v":""},null,null,null,null,null,null,""]
[null,null,null,{"$f":"IF(C72>0,VLOOKUP(C72,Miniplan,2),\"\")","v":""},null,"",null,null,{"$f":"IF($H72=\"\",\"\",IF(C72=\"\",\"\",LOOKUP(C72,Miniplan,Compte!$S$8:$S$52)))","v":""},{"$f":"IF($H72=\"\",\"\",IF(E72=\"\",\"\",LOOKUP(E72,Miniplan,Compte!$S$8:$S$52)))","v":""},null,null,null,null,null,null,""]
[null,null,null,"",null,{"$f":"IF(E73>0,VLOOKUP(E73,Miniplan,2),\"\")","v":""},null,null,{"$f":"IF($H73=\"\",\"\",IF(C73=\"\",\"\",LOOKUP(C73,Miniplan,Compte!$S$8:$S$52)))","v":""},{"$f":"IF($H73=\"\",\"\",IF(E73=\"\",\"\",LOOKUP(E73,Miniplan,Compte!$S$8:$S$52)))","v":""},null,null,null,null,null,null,""]
[null,null,null,"",null,"",null,null,{"$f":"IF($H74=\"\",\"\",IF(C74=\"\",\"\",LOOKUP(C74,Miniplan,Compte!$S$8:$S$52)))","v":""},{"$f":"IF($H74=\"\",\"\",IF(E74=\"\",\"\",LOOKUP(E74,Miniplan,Compte!$S$8:$S$52)))","v":""},null,null,null,null,null,null,""]
[null,null,null,"",null,"",null,null,{"$f":"IF($H75=\"\",\"\",IF(C75=\"\",\"\",LOOKUP(C75,Miniplan,Compte!$S$8:$S$52)))","v":""},{"$f":"IF($H75=\"\",\"\",IF(E75=\"\",\"\",LOOKUP(E75,Miniplan,Compte!$S$8:$S$52)))","v":""},null,null,null,null,null,null,""]
[null,null,null,"",null,"",null,null,{"$f":"IF($H76=\"\",\"\",IF(C76=\"\",\"\",LOOKUP(C76,Miniplan,Compte!$S$8:$S$52)))","v":""},{"$f":"IF($H76=\"\",\"\",IF(E76=\"\",\"\",LOOKUP(E76,Miniplan,Compte!$S$8:$S$52)))","v":""},null,null,null,null,null,null,{"$f":"IF(L76=\"\",\"\",Q75+O76-P76)","v":""}]
[null,null,null,"",null,"",null,null,{"$f":"IF($H77=\"\",\"\",IF(C77=\"\",\"\",LOOKUP(C77,Miniplan,Compte!$S$8:$S$52)))","v":""},{"$f":"IF($H77=\"\",\"\",IF(E77=\"\",\"\",LOOKUP(E77,Miniplan,Compte!$S$8:$S$52)))","v":""},null,null,null,null,null,null,""]
[null,null,null,"",null,"",null,null,{"$f":"IF($H78=\"\",\"\",IF(C78=\"\",\"\",LOOKUP(C78,Miniplan,Compte!$S$8:$S$52)))","v":""},{"$f":"IF($H78=\"\",\"\",IF(E78=\"\",\"\",LOOKUP(E78,Miniplan,Compte!$S$8:$S$52)))","v":""},null,null,null,null,null,null,""]
[null,null,null,"",null,"",null,null,{"$f":"IF($H79=\"\",\"\",IF(C79=\"\",\"\",LOOKUP(C79,Miniplan,Compte!$S$8:$S$52)))","v":""},{"$f":"IF($H79=\"\",\"\",IF(E79=\"\",\"\",LOOKUP(E79,Miniplan,Compte!$S$8:$S$52)))","v":""},null,null,null,null,null,null,""]
[null,null,null,"",null,"",null,null,{"$f":"IF($H80=\"\",\"\",IF(C80=\"\",\"\",LOOKUP(C80,Miniplan,Compte!$S$8:$S$52)))","v":""},{"$f":"IF($H80=\"\",\"\",IF(E80=\"\",\"\",LOOKUP(E80,Miniplan,Compte!$S$8:$S$52)))","v":""},null,null,null,null,null,null,""]
[null,null,null,"",null,"",null,null,{"$f":"IF($H81=\"\",\"\",IF(C81=\"\",\"\",LOOKUP(C81,Miniplan,Compte!$S$8:$S$52)))","v":""},{"$f":"IF($H81=\"\",\"\",IF(E81=\"\",\"\",LOOKUP(E81,Miniplan,Compte!$S$8:$S$52)))","v":""},null,null,null,null,null,null,""]
[null,null,null,"",null,"",null,null,{"$f":"IF($H82=\"\",\"\",IF(C82=\"\",\"\",LOOKUP(C82,Miniplan,Compte!$S$8:$S$52)))","v":""},{"$f":"IF($H82=\"\",\"\",IF(E82=\"\",\"\",LOOKUP(E82,Miniplan,Compte!$S$8:$S$52)))","v":""},null,null,null,null,null,null,""]
[null,null,null,"",null,"",null,null,{"$f":"IF($H83=\"\",\"\",IF(C83=\"\",\"\",LOOKUP(C83,Miniplan,Compte!$S$8:$S$52)))","v":""},{"$f":"IF($H83=\"\",\"\",IF(E83=\"\",\"\",LOOKUP(E83,Miniplan,Compte!$S$8:$S$52)))","v":""},null,null,null,null,null,null,""]
[null,null,null,"",null,"",null,null,{"$f":"IF($H84=\"\",\"\",IF(C84=\"\",\"\",LOOKUP(C84,Miniplan,Compte!$S$8:$S$52)))","v":""},{"$f":"IF($H84=\"\",\"\",IF(E84=\"\",\"\",LOOKUP(E84,Miniplan,Compte!$S$8:$S$52)))","v":""},null,null,null,null,null,null,""]
[null,null,null,"",null,"",null,null,{"$f":"IF($H85=\"\",\"\",IF(C85=\"\",\"\",LOOKUP(C85,Miniplan,Compte!$S$8:$S$52)))","v":""},{"$f":"IF($H85=\"\",\"\",IF(E85=\"\",\"\",LOOKUP(E85,Miniplan,Compte!$S$8:$S$52)))","v":""},null,null,null,null,null,null,""]
[null,null,null,"",null,"",null,null,{"$f":"IF($H86=\"\",\"\",IF(C86=\"\",\"\",LOOKUP(C86,Miniplan,Compte!$S$8:$S$52)))","v":""},{"$f":"IF($H86=\"\",\"\",IF(E86=\"\",\"\",LOOKUP(E86,Miniplan,Compte!$S$8:$S$52)))","v":""},null,null,null,null,null,null,""]
[null,null,null,"",null,"",null,null,{"$f":"IF($H87=\"\",\"\",IF(C87=\"\",\"\",LOOKUP(C87,Miniplan,Compte!$S$8:$S$52)))","v":""},{"$f":"IF($H87=\"\",\"\",IF(E87=\"\",\"\",LOOKUP(E87,Miniplan,Compte!$S$8:$S$52)))","v":""},null,null,null,null,null,null,""]
[null,null,null,"",null,"",null,null,{"$f":"IF($H88=\"\",\"\",IF(C88=\"\",\"\",LOOKUP(C88,Miniplan,Compte!$S$8:$S$52)))","v":""},{"$f":"IF($H88=\"\",\"\",IF(E88=\"\",\"\",LOOKUP(E88,Miniplan,Compte!$S$8:$S$52)))","v":""},null,null,null,null,null,null,""]
[null,null,null,"",null,"",null,null,{"$f":"IF($H89=\"\",\"\",IF(C89=\"\",\"\",LOOKUP(C89,Miniplan,Compte!$S$8:$S$52)))","v":""},{"$f":"IF($H89=\"\",\"\",IF(E89=\"\",\"\",LOOKUP(E89,Miniplan,Compte!$S$8:$S$52)))","v":""},null,null,null,null,null,null,""]
[null,null,null,"",null,"",null,null,{"$f":"IF($H90=\"\",\"\",IF(C90=\"\",\"\",LOOKUP(C90,Miniplan,Compte!$S$8:$S$52)))","v":""},{"$f":"IF($H90=\"\",\"\",IF(E90=\"\",\"\",LOOKUP(E90,Miniplan,Compte!$S$8:$S$52)))","v":""},null,null,null,null,null,null,""]
[null,null,null,"",null,"",null,null,{"$f":"IF($H91=\"\",\"\",IF(C91=\"\",\"\",LOOKUP(C91,Miniplan,Compte!$S$8:$S$52)))","v":""},{"$f":"IF($H91=\"\",\"\",IF(E91=\"\",\"\",LOOKUP(E91,Miniplan,Compte!$S$8:$S$52)))","v":""},null,null,null,null,null,null,""]
[null,null,null,"",null,"",null,null,{"$f":"IF($H92=\"\",\"\",IF(C92=\"\",\"\",LOOKUP(C92,Miniplan,Compte!$S$8:$S$52)))","v":""},{"$f":"IF($H92=\"\",\"\",IF(E92=\"\",\"\",LOOKUP(E92,Miniplan,Compte!$S$8:$S$52)))","v":""},null,null,null,null,null,null,""]
[null,null,null,"",null,"",null,null,{"$f":"IF($H93=\"\",\"\",IF(C93=\"\",\"\",LOOKUP(C93,Miniplan,Compte!$S$8:$S$52)))","v":""},{"$f":"IF($H93=\"\",\"\",IF(E93=\"\",\"\",LOOKUP(E93,Miniplan,Compte!$S$8:$S$52)))","v":""},null,null,null,null,null,null,""]
[null,null,null,"",null,"",null,null,{"$f":"IF($H94=\"\",\"\",IF(C94=\"\",\"\",LOOKUP(C94,Miniplan,Compte!$S$8:$S$52)))","v":""},{"$f":"IF($H94=\"\",\"\",IF(E94=\"\",\"\",LOOKUP(E94,Miniplan,Compte!$S$8:$S$52)))","v":""},null,null,null,null,null,null,""]
[null,null,null,"",null,"",null,null,{"$f":"IF($H95=\"\",\"\",IF(C95=\"\",\"\",LOOKUP(C95,Miniplan,Compte!$S$8:$S$52)))","v":""},{"$f":"IF($H95=\"\",\"\",IF(E95=\"\",\"\",LOOKUP(E95,Miniplan,Compte!$S$8:$S$52)))","v":""},null,null,null,null,null,null,""]
[null,null,null,"",null,"",null,null,{"$f":"IF($H96=\"\",\"\",IF(C96=\"\",\"\",LOOKUP(C96,Miniplan,Compte!$S$8:$S$52)))","v":""},{"$f":"IF($H96=\"\",\"\",IF(E96=\"\",\"\",LOOKUP(E96,Miniplan,Compte!$S$8:$S$52)))","v":""},null,null,null,null,null,null,""]
[null,null,null,"",null,"",null,null,{"$f":"IF($H97=\"\",\"\",IF(C97=\"\",\"\",LOOKUP(C97,Miniplan,Compte!$S$8:$S$52)))","v":""},{"$f":"IF($H97=\"\",\"\",IF(E97=\"\",\"\",LOOKUP(E97,Miniplan,Compte!$S$8:$S$52)))","v":""},null,null,null,null,null,null,""]
[null,null,null,"",null,"",null,null,{"$f":"IF($H98=\"\",\"\",IF(C98=\"\",\"\",LOOKUP(C98,Miniplan,Compte!$S$8:$S$52)))","v":""},{"$f":"IF($H98=\"\",\"\",IF(E98=\"\",\"\",LOOKUP(E98,Miniplan,Compte!$S$8:$S$52)))","v":""},null,null,null,null,null,null,""]
[null,null,null,"",null,"",null,null,{"$f":"IF($H99=\"\",\"\",IF(C99=\"\",\"\",LOOKUP(C99,Miniplan,Compte!$S$8:$S$52)))","v":""},{"$f":"IF($H99=\"\",\"\",IF(E99=\"\",\"\",LOOKUP(E99,Miniplan,Compte!$S$8:$S$52)))","v":""},null,null,null,null,null,null,""]
[null,null,null,"",null,"",null,null,{"$f":"IF($H100=\"\",\"\",IF(C100=\"\",\"\",LOOKUP(C100,Miniplan,Compte!$S$8:$S$52)))","v":""},{"$f":"IF($H100=\"\",\"\",IF(E100=\"\",\"\",LOOKUP(E100,Miniplan,Compte!$S$8:$S$52)))","v":""},null,null,null,null,null,null,""]
[null,null,null,"",null,"",null,null,{"$f":"IF($H101=\"\",\"\",IF(C101=\"\",\"\",LOOKUP(C101,Miniplan,Compte!$S$8:$S$52)))","v":""},{"$f":"IF($H101=\"\",\"\",IF(E101=\"\",\"\",LOOKUP(E101,Miniplan,Compte!$S$8:$S$52)))","v":""}]
[null,null,null,"",null,"",null,null,{"$f":"IF($H102=\"\",\"\",IF(C102=\"\",\"\",LOOKUP(C102,Miniplan,Compte!$S$8:$S$52)))","v":""},{"$f":"IF($H102=\"\",\"\",IF(E102=\"\",\"\",LOOKUP(E102,Miniplan,Compte!$S$8:$S$52)))","v":""}]
[null,null,null,"",null,"",null,null,{"$f":"IF($H103=\"\",\"\",IF(C103=\"\",\"\",LOOKUP(C103,Miniplan,Compte!$S$8:$S$52)))","v":""},{"$f":"IF($H103=\"\",\"\",IF(E103=\"\",\"\",LOOKUP(E103,Miniplan,Compte!$S$8:$S$52)))","v":""}]
[null,null,null,"",null,"",null,null,{"$f":"IF($H104=\"\",\"\",IF(C104=\"\",\"\",LOOKUP(C104,Miniplan,Compte!$S$8:$S$52)))","v":""},{"$f":"IF($H104=\"\",\"\",IF(E104=\"\",\"\",LOOKUP(E104,Miniplan,Compte!$S$8:$S$52)))","v":""}]
[null,null,null,"",null,"",null,null,{"$f":"IF($H105=\"\",\"\",IF(C105=\"\",\"\",LOOKUP(C105,Miniplan,Compte!$S$8:$S$52)))","v":""},{"$f":"IF($H105=\"\",\"\",IF(E105=\"\",\"\",LOOKUP(E105,Miniplan,Compte!$S$8:$S$52)))","v":""}]
[null,null,null,"",null,"",null,null,{"$f":"IF($H106=\"\",\"\",IF(C106=\"\",\"\",LOOKUP(C106,Miniplan,Compte!$S$8:$S$52)))","v":""},{"$f":"IF($H106=\"\",\"\",IF(E106=\"\",\"\",LOOKUP(E106,Miniplan,Compte!$S$8:$S$52)))","v":""}]
[null,null,null,"",null,"",null,null,{"$f":"IF($H107=\"\",\"\",IF(C107=\"\",\"\",LOOKUP(C107,Miniplan,Compte!$S$8:$S$52)))","v":""},{"$f":"IF($H107=\"\",\"\",IF(E107=\"\",\"\",LOOKUP(E107,Miniplan,Compte!$S$8:$S$52)))","v":""}]
[null,null,null,"",null,"",null,null,{"$f":"IF($H108=\"\",\"\",IF(C108=\"\",\"\",LOOKUP(C108,Miniplan,Compte!$S$8:$S$52)))","v":""},{"$f":"IF($H108=\"\",\"\",IF(E108=\"\",\"\",LOOKUP(E108,Miniplan,Compte!$S$8:$S$52)))","v":""}]
[null,null,null,"",null,"",null,null,{"$f":"IF($H109=\"\",\"\",IF(C109=\"\",\"\",LOOKUP(C109,Miniplan,Compte!$S$8:$S$52)))","v":""},{"$f":"IF($H109=\"\",\"\",IF(E109=\"\",\"\",LOOKUP(E109,Miniplan,Compte!$S$8:$S$52)))","v":""}]
[null,null,null,"",null,"",null,null,{"$f":"IF($H110=\"\",\"\",IF(C110=\"\",\"\",LOOKUP(C110,Miniplan,Compte!$S$8:$S$52)))","v":""},{"$f":"IF($H110=\"\",\"\",IF(E110=\"\",\"\",LOOKUP(E110,Miniplan,Compte!$S$8:$S$52)))","v":""}]
[null,null,null,"",null,"",null,null,{"$f":"IF($H111=\"\",\"\",IF(C111=\"\",\"\",LOOKUP(C111,Miniplan,Compte!$S$8:$S$52)))","v":""},{"$f":"IF($H111=\"\",\"\",IF(E111=\"\",\"\",LOOKUP(E111,Miniplan,Compte!$S$8:$S$52)))","v":""}]
[null,null,null,"",null,"",null,null,{"$f":"IF($H112=\"\",\"\",IF(C112=\"\",\"\",LOOKUP(C112,Miniplan,Compte!$S$8:$S$52)))","v":""},{"$f":"IF($H112=\"\",\"\",IF(E112=\"\",\"\",LOOKUP(E112,Miniplan,Compte!$S$8:$S$52)))","v":""}]
[null,null,null,"",null,"",null,null,{"$f":"IF($H113=\"\",\"\",IF(C113=\"\",\"\",LOOKUP(C113,Miniplan,Compte!$S$8:$S$52)))","v":""},{"$f":"IF($H113=\"\",\"\",IF(E113=\"\",\"\",LOOKUP(E113,Miniplan,Compte!$S$8:$S$52)))","v":""}]
[null,null,null,"",null,"",null,null,{"$f":"IF($H114=\"\",\"\",IF(C114=\"\",\"\",LOOKUP(C114,Miniplan,Compte!$S$8:$S$52)))","v":""},{"$f":"IF($H114=\"\",\"\",IF(E114=\"\",\"\",LOOKUP(E114,Miniplan,Compte!$S$8:$S$52)))","v":""}]
[null,null,null,"",null,"",null,null,{"$f":"IF($H115=\"\",\"\",IF(C115=\"\",\"\",LOOKUP(C115,Miniplan,Compte!$S$8:$S$52)))","v":""},{"$f":"IF($H115=\"\",\"\",IF(E115=\"\",\"\",LOOKUP(E115,Miniplan,Compte!$S$8:$S$52)))","v":""}]
[null,null,null,"",null,"",null,null,{"$f":"IF($H116=\"\",\"\",IF(C116=\"\",\"\",LOOKUP(C116,Miniplan,Compte!$S$8:$S$52)))","v":""},{"$f":"IF($H116=\"\",\"\",IF(E116=\"\",\"\",LOOKUP(E116,Miniplan,Compte!$S$8:$S$52)))","v":""}]
[null,null,null,"",null,"",null,null,{"$f":"IF($H117=\"\",\"\",IF(C117=\"\",\"\",LOOKUP(C117,Miniplan,Compte!$S$8:$S$52)))","v":""},{"$f":"IF($H117=\"\",\"\",IF(E117=\"\",\"\",LOOKUP(E117,Miniplan,Compte!$S$8:$S$52)))","v":""}]
[null,null,null,"",null,"",null,null,{"$f":"IF($H118=\"\",\"\",IF(C118=\"\",\"\",LOOKUP(C118,Miniplan,Compte!$S$8:$S$52)))","v":""},{"$f":"IF($H118=\"\",\"\",IF(E118=\"\",\"\",LOOKUP(E118,Miniplan,Compte!$S$8:$S$52)))","v":""}]
[null,null,null,"",null,"",null,null,{"$f":"IF($H119=\"\",\"\",IF(C119=\"\",\"\",LOOKUP(C119,Miniplan,Compte!$S$8:$S$52)))","v":""},{"$f":"IF($H119=\"\",\"\",IF(E119=\"\",\"\",LOOKUP(E119,Miniplan,Compte!$S$8:$S$52)))","v":""}]
[null,null,null,"",null,"",null,null,{"$f":"IF($H120=\"\",\"\",IF(C120=\"\",\"\",LOOKUP(C120,Miniplan,Compte!$S$8:$S$52)))","v":""},{"$f":"IF($H120=\"\",\"\",IF(E120=\"\",\"\",LOOKUP(E120,Miniplan,Compte!$S$8:$S$52)))","v":""}]
[null,null,null,"",null,"",null,null,{"$f":"IF($H121=\"\",\"\",IF(C121=\"\",\"\",LOOKUP(C121,Miniplan,Compte!$S$8:$S$52)))","v":""},{"$f":"IF($H121=\"\",\"\",IF(E121=\"\",\"\",LOOKUP(E121,Miniplan,Compte!$S$8:$S$52)))","v":""}]
[null,null,null,"",null,"",null,null,{"$f":"IF($H122=\"\",\"\",IF(C122=\"\",\"\",LOOKUP(C122,Miniplan,Compte!$S$8:$S$52)))","v":""},{"$f":"IF($H122=\"\",\"\",IF(E122=\"\",\"\",LOOKUP(E122,Miniplan,Compte!$S$8:$S$52)))","v":""}]
[null,null,null,"",null,"",null,null,{"$f":"IF($H123=\"\",\"\",IF(C123=\"\",\"\",LOOKUP(C123,Miniplan,Compte!$S$8:$S$52)))","v":""},{"$f":"IF($H123=\"\",\"\",IF(E123=\"\",\"\",LOOKUP(E123,Miniplan,Compte!$S$8:$S$52)))","v":""}]
[null,null,null,"",null,"",null,null,{"$f":"IF($H124=\"\",\"\",IF(C124=\"\",\"\",LOOKUP(C124,Miniplan,Compte!$S$8:$S$52)))","v":""},{"$f":"IF($H124=\"\",\"\",IF(E124=\"\",\"\",LOOKUP(E124,Miniplan,Compte!$S$8:$S$52)))","v":""}]
[null,null,null,"",null,"",null,null,{"$f":"IF($H125=\"\",\"\",IF(C125=\"\",\"\",LOOKUP(C125,Miniplan,Compte!$S$8:$S$52)))","v":""},{"$f":"IF($H125=\"\",\"\",IF(E125=\"\",\"\",LOOKUP(E125,Miniplan,Compte!$S$8:$S$52)))","v":""}]
[null,null,null,"",null,"",null,null,{"$f":"IF($H126=\"\",\"\",IF(C126=\"\",\"\",LOOKUP(C126,Miniplan,Compte!$S$8:$S$52)))","v":""},{"$f":"IF($H126=\"\",\"\",IF(E126=\"\",\"\",LOOKUP(E126,Miniplan,Compte!$S$8:$S$52)))","v":""}]
[null,null,null,"",null,"",null,null,{"$f":"IF($H127=\"\",\"\",IF(C127=\"\",\"\",LOOKUP(C127,Miniplan,Compte!$S$8:$S$52)))","v":""},{"$f":"IF($H127=\"\",\"\",IF(E127=\"\",\"\",LOOKUP(E127,Miniplan,Compte!$S$8:$S$52)))","v":""}]
[null,null,null,"",null,"",null,null,{"$f":"IF($H128=\"\",\"\",IF(C128=\"\",\"\",LOOKUP(C128,Miniplan,Compte!$S$8:$S$52)))","v":""},{"$f":"IF($H128=\"\",\"\",IF(E128=\"\",\"\",LOOKUP(E128,Miniplan,Compte!$S$8:$S$52)))","v":""}]
[null,null,null,"",null,"",null,null,{"$f":"IF($H129=\"\",\"\",IF(C129=\"\",\"\",LOOKUP(C129,Miniplan,Compte!$S$8:$S$52)))","v":""},{"$f":"IF($H129=\"\",\"\",IF(E129=\"\",\"\",LOOKUP(E129,Miniplan,Compte!$S$8:$S$52)))","v":""}]
[null,null,null,"",null,"",null,null,{"$f":"IF($H130=\"\",\"\",IF(C130=\"\",\"\",LOOKUP(C130,Miniplan,Compte!$S$8:$S$52)))","v":""},{"$f":"IF($H130=\"\",\"\",IF(E130=\"\",\"\",LOOKUP(E130,Miniplan,Compte!$S$8:$S$52)))","v":""}]
[null,null,null,"",null,"",null,null,{"$f":"IF($H131=\"\",\"\",IF(C131=\"\",\"\",LOOKUP(C131,Miniplan,Compte!$S$8:$S$52)))","v":""},{"$f":"IF($H131=\"\",\"\",IF(E131=\"\",\"\",LOOKUP(E131,Miniplan,Compte!$S$8:$S$52)))","v":""}]
[null,null,null,"",null,"",null,null,{"$f":"IF($H132=\"\",\"\",IF(C132=\"\",\"\",LOOKUP(C132,Miniplan,Compte!$S$8:$S$52)))","v":""},{"$f":"IF($H132=\"\",\"\",IF(E132=\"\",\"\",LOOKUP(E132,Miniplan,Compte!$S$8:$S$52)))","v":""}]
[null,null,null,"",null,"",null,null,{"$f":"IF($H133=\"\",\"\",IF(C133=\"\",\"\",LOOKUP(C133,Miniplan,Compte!$S$8:$S$52)))","v":""},{"$f":"IF($H133=\"\",\"\",IF(E133=\"\",\"\",LOOKUP(E133,Miniplan,Compte!$S$8:$S$52)))","v":""}]
[null,null,null,"",null,"",null,null,{"$f":"IF($H134=\"\",\"\",IF(C134=\"\",\"\",LOOKUP(C134,Miniplan,Compte!$S$8:$S$52)))","v":""},{"$f":"IF($H134=\"\",\"\",IF(E134=\"\",\"\",LOOKUP(E134,Miniplan,Compte!$S$8:$S$52)))","v":""}]
[null,null,null,"",null,"",null,null,{"$f":"IF($H135=\"\",\"\",IF(C135=\"\",\"\",LOOKUP(C135,Miniplan,Compte!$S$8:$S$52)))","v":""},{"$f":"IF($H135=\"\",\"\",IF(E135=\"\",\"\",LOOKUP(E135,Miniplan,Compte!$S$8:$S$52)))","v":""}]
[null,null,null,{"$f":"IF(C136>0,VLOOKUP(C136,Miniplan,2),\"\")","v":""},null,"",null,null,{"$f":"IF($H136=\"\",\"\",IF(C136=\"\",\"\",LOOKUP(C136,Miniplan,Compte!$S$8:$S$52)))","v":""},{"$f":"IF($H136=\"\",\"\",IF(E136=\"\",\"\",LOOKUP(E136,Miniplan,Compte!$S$8:$S$52)))","v":""}]
[null,null,null,"",null,{"$f":"IF(E137>0,VLOOKUP(E137,Miniplan,2),\"\")","v":""},null,null,{"$f":"IF($H137=\"\",\"\",IF(C137=\"\",\"\",LOOKUP(C137,Miniplan,Compte!$S$8:$S$52)))","v":""},{"$f":"IF($H137=\"\",\"\",IF(E137=\"\",\"\",LOOKUP(E137,Miniplan,Compte!$S$8:$S$52)))","v":""}]
[null,null,null,"",null,"",null,null,{"$f":"IF($H138=\"\",\"\",IF(C138=\"\",\"\",LOOKUP(C138,Miniplan,Compte!$S$8:$S$52)))","v":""},{"$f":"IF($H138=\"\",\"\",IF(E138=\"\",\"\",LOOKUP(E138,Miniplan,Compte!$S$8:$S$52)))","v":""}]
[null,null,null,"",null,"",null,null,{"$f":"IF($H139=\"\",\"\",IF(C139=\"\",\"\",LOOKUP(C139,Miniplan,Compte!$S$8:$S$52)))","v":""},{"$f":"IF($H139=\"\",\"\",IF(E139=\"\",\"\",LOOKUP(E139,Miniplan,Compte!$S$8:$S$52)))","v":""}]
[null,null,null,"",null,"",null,null,{"$f":"IF($H140=\"\",\"\",IF(C140=\"\",\"\",LOOKUP(C140,Miniplan,Compte!$S$8:$S$52)))","v":""},{"$f":"IF($H140=\"\",\"\",IF(E140=\"\",\"\",LOOKUP(E140,Miniplan,Compte!$S$8:$S$52)))","v":""}]
[null,null,null,"",null,"",null,null,{"$f":"IF($H141=\"\",\"\",IF(C141=\"\",\"\",LOOKUP(C141,Miniplan,Compte!$S$8:$S$52)))","v":""},{"$f":"IF($H141=\"\",\"\",IF(E141=\"\",\"\",LOOKUP(E141,Miniplan,Compte!$S$8:$S$52)))","v":""}]
[null,null,null,"",null,"",null,null,{"$f":"IF($H142=\"\",\"\",IF(C142=\"\",\"\",LOOKUP(C142,Miniplan,Compte!$S$8:$S$52)))","v":""},{"$f":"IF($H142=\"\",\"\",IF(E142=\"\",\"\",LOOKUP(E142,Miniplan,Compte!$S$8:$S$52)))","v":""}]
[null,null,null,"",null,"",null,null,{"$f":"IF($H143=\"\",\"\",IF(C143=\"\",\"\",LOOKUP(C143,Miniplan,Compte!$S$8:$S$52)))","v":""},{"$f":"IF($H143=\"\",\"\",IF(E143=\"\",\"\",LOOKUP(E143,Miniplan,Compte!$S$8:$S$52)))","v":""}]
[null,null,null,"",null,"",null,null,{"$f":"IF($H144=\"\",\"\",IF(C144=\"\",\"\",LOOKUP(C144,Miniplan,Compte!$S$8:$S$52)))","v":""},{"$f":"IF($H144=\"\",\"\",IF(E144=\"\",\"\",LOOKUP(E144,Miniplan,Compte!$S$8:$S$52)))","v":""}]
[null,null,null,"",null,"",null,null,{"$f":"IF($H145=\"\",\"\",IF(C145=\"\",\"\",LOOKUP(C145,Miniplan,Compte!$S$8:$S$52)))","v":""},{"$f":"IF($H145=\"\",\"\",IF(E145=\"\",\"\",LOOKUP(E145,Miniplan,Compte!$S$8:$S$52)))","v":""}]
[null,null,null,"",null,"",null,null,{"$f":"IF($H146=\"\",\"\",IF(C146=\"\",\"\",LOOKUP(C146,Miniplan,Compte!$S$8:$S$52)))","v":""},{"$f":"IF($H146=\"\",\"\",IF(E146=\"\",\"\",LOOKUP(E146,Miniplan,Compte!$S$8:$S$52)))","v":""}]
[null,null,null,"",null,"",null,null,{"$f":"IF($H147=\"\",\"\",IF(C147=\"\",\"\",LOOKUP(C147,Miniplan,Compte!$S$8:$S$52)))","v":""},{"$f":"IF($H147=\"\",\"\",IF(E147=\"\",\"\",LOOKUP(E147,Miniplan,Compte!$S$8:$S$52)))","v":""}]
[null,null,null,"",null,"",null,null,{"$f":"IF($H148=\"\",\"\",IF(C148=\"\",\"\",LOOKUP(C148,Miniplan,Compte!$S$8:$S$52)))","v":""},{"$f":"IF($H148=\"\",\"\",IF(E148=\"\",\"\",LOOKUP(E148,Miniplan,Compte!$S$8:$S$52)))","v":""}]
[null,null,null,"",null,"",null,null,{"$f":"IF($H149=\"\",\"\",IF(C149=\"\",\"\",LOOKUP(C149,Miniplan,Compte!$S$8:$S$52)))","v":""},{"$f":"IF($H149=\"\",\"\",IF(E149=\"\",\"\",LOOKUP(E149,Miniplan,Compte!$S$8:$S$52)))","v":""}]
[null,null,null,"",null,"",null,null,{"$f":"IF($H150=\"\",\"\",IF(C150=\"\",\"\",LOOKUP(C150,Miniplan,Compte!$S$8:$S$52)))","v":""},{"$f":"IF($H150=\"\",\"\",IF(E150=\"\",\"\",LOOKUP(E150,Miniplan,Compte!$S$8:$S$52)))","v":""}]
[null,null,null,"",null,"",null,null,{"$f":"IF($H151=\"\",\"\",IF(C151=\"\",\"\",LOOKUP(C151,Miniplan,Compte!$S$8:$S$52)))","v":""},{"$f":"IF($H151=\"\",\"\",IF(E151=\"\",\"\",LOOKUP(E151,Miniplan,Compte!$S$8:$S$52)))","v":""}]
[null,null,null,"",null,"",null,null,{"$f":"IF($H152=\"\",\"\",IF(C152=\"\",\"\",LOOKUP(C152,Miniplan,Compte!$S$8:$S$52)))","v":""},{"$f":"IF($H152=\"\",\"\",IF(E152=\"\",\"\",LOOKUP(E152,Miniplan,Compte!$S$8:$S$52)))","v":""}]
[null,null,null,"",null,"",null,null,{"$f":"IF($H153=\"\",\"\",IF(C153=\"\",\"\",LOOKUP(C153,Miniplan,Compte!$S$8:$S$52)))","v":""},{"$f":"IF($H153=\"\",\"\",IF(E153=\"\",\"\",LOOKUP(E153,Miniplan,Compte!$S$8:$S$52)))","v":""}]
[null,null,null,"",null,"",null,null,{"$f":"IF($H154=\"\",\"\",IF(C154=\"\",\"\",LOOKUP(C154,Miniplan,Compte!$S$8:$S$52)))","v":""},{"$f":"IF($H154=\"\",\"\",IF(E154=\"\",\"\",LOOKUP(E154,Miniplan,Compte!$S$8:$S$52)))","v":""}]
[null,null,null,"",null,"",null,null,{"$f":"IF($H155=\"\",\"\",IF(C155=\"\",\"\",LOOKUP(C155,Miniplan,Compte!$S$8:$S$52)))","v":""},{"$f":"IF($H155=\"\",\"\",IF(E155=\"\",\"\",LOOKUP(E155,Miniplan,Compte!$S$8:$S$52)))","v":""}]
[null,null,null,"",null,"",null,null,{"$f":"IF($H156=\"\",\"\",IF(C156=\"\",\"\",LOOKUP(C156,Miniplan,Compte!$S$8:$S$52)))","v":""},{"$f":"IF($H156=\"\",\"\",IF(E156=\"\",\"\",LOOKUP(E156,Miniplan,Compte!$S$8:$S$52)))","v":""}]
[null,null,null,"",null,"",null,null,{"$f":"IF($H157=\"\",\"\",IF(C157=\"\",\"\",LOOKUP(C157,Miniplan,Compte!$S$8:$S$52)))","v":""},{"$f":"IF($H157=\"\",\"\",IF(E157=\"\",\"\",LOOKUP(E157,Miniplan,Compte!$S$8:$S$52)))","v":""}]
[null,null,null,"",null,"",null,null,{"$f":"IF($H158=\"\",\"\",IF(C158=\"\",\"\",LOOKUP(C158,Miniplan,Compte!$S$8:$S$52)))","v":""},{"$f":"IF($H158=\"\",\"\",IF(E158=\"\",\"\",LOOKUP(E158,Miniplan,Compte!$S$8:$S$52)))","v":""}]
[null,null,null,"",null,"",null,null,{"$f":"IF($H159=\"\",\"\",IF(C159=\"\",\"\",LOOKUP(C159,Miniplan,Compte!$S$8:$S$52)))","v":""},{"$f":"IF($H159=\"\",\"\",IF(E159=\"\",\"\",LOOKUP(E159,Miniplan,Compte!$S$8:$S$52)))","v":""}]
[null,null,null,"",null,"",null,null,{"$f":"IF($H160=\"\",\"\",IF(C160=\"\",\"\",LOOKUP(C160,Miniplan,Compte!$S$8:$S$52)))","v":""},{"$f":"IF($H160=\"\",\"\",IF(E160=\"\",\"\",LOOKUP(E160,Miniplan,Compte!$S$8:$S$52)))","v":""}]
[null,null,null,"",null,"",null,null,{"$f":"IF($H161=\"\",\"\",IF(C161=\"\",\"\",LOOKUP(C161,Miniplan,Compte!$S$8:$S$52)))","v":""},{"$f":"IF($H161=\"\",\"\",IF(E161=\"\",\"\",LOOKUP(E161,Miniplan,Compte!$S$8:$S$52)))","v":""}]
[null,null,null,"",null,"",null,null,{"$f":"IF($H162=\"\",\"\",IF(C162=\"\",\"\",LOOKUP(C162,Miniplan,Compte!$S$8:$S$52)))","v":""},{"$f":"IF($H162=\"\",\"\",IF(E162=\"\",\"\",LOOKUP(E162,Miniplan,Compte!$S$8:$S$52)))","v":""}]
[null,null,null,"",null,"",null,null,{"$f":"IF($H163=\"\",\"\",IF(C163=\"\",\"\",LOOKUP(C163,Miniplan,Compte!$S$8:$S$52)))","v":""},{"$f":"IF($H163=\"\",\"\",IF(E163=\"\",\"\",LOOKUP(E163,Miniplan,Compte!$S$8:$S$52)))","v":""}]
[null,null,null,"",null,"",null,null,{"$f":"IF($H164=\"\",\"\",IF(C164=\"\",\"\",LOOKUP(C164,Miniplan,Compte!$S$8:$S$52)))","v":""},{"$f":"IF($H164=\"\",\"\",IF(E164=\"\",\"\",LOOKUP(E164,Miniplan,Compte!$S$8:$S$52)))","v":""}]
[null,null,null,"",null,"",null,null,{"$f":"IF($H165=\"\",\"\",IF(C165=\"\",\"\",LOOKUP(C165,Miniplan,Compte!$S$8:$S$52)))","v":""},{"$f":"IF($H165=\"\",\"\",IF(E165=\"\",\"\",LOOKUP(E165,Miniplan,Compte!$S$8:$S$52)))","v":""}]
[null,null,null,"",null,"",null,null,{"$f":"IF($H166=\"\",\"\",IF(C166=\"\",\"\",LOOKUP(C166,Miniplan,Compte!$S$8:$S$52)))","v":""},{"$f":"IF($H166=\"\",\"\",IF(E166=\"\",\"\",LOOKUP(E166,Miniplan,Compte!$S$8:$S$52)))","v":""}]
[null,null,null,"",null,"",null,null,{"$f":"IF($H167=\"\",\"\",IF(C167=\"\",\"\",LOOKUP(C167,Miniplan,Compte!$S$8:$S$52)))","v":""},{"$f":"IF($H167=\"\",\"\",IF(E167=\"\",\"\",LOOKUP(E167,Miniplan,Compte!$S$8:$S$52)))","v":""}]
[null,null,null,"",null,"",null,null,{"$f":"IF($H168=\"\",\"\",IF(C168=\"\",\"\",LOOKUP(C168,Miniplan,Compte!$S$8:$S$52)))","v":""},{"$f":"IF($H168=\"\",\"\",IF(E168=\"\",\"\",LOOKUP(E168,Miniplan,Compte!$S$8:$S$52)))","v":""}]
[null,null,null,"",null,"",null,null,{"$f":"IF($H169=\"\",\"\",IF(C169=\"\",\"\",LOOKUP(C169,Miniplan,Compte!$S$8:$S$52)))","v":""},{"$f":"IF($H169=\"\",\"\",IF(E169=\"\",\"\",LOOKUP(E169,Miniplan,Compte!$S$8:$S$52)))","v":""}]
[null,null,null,"",null,"",null,null,{"$f":"IF($H170=\"\",\"\",IF(C170=\"\",\"\",LOOKUP(C170,Miniplan,Compte!$S$8:$S$52)))","v":""},{"$f":"IF($H170=\"\",\"\",IF(E170=\"\",\"\",LOOKUP(E170,Miniplan,Compte!$S$8:$S$52)))","v":""}]
[null,null,null,"",null,"",null,null,{"$f":"IF($H171=\"\",\"\",IF(C171=\"\",\"\",LOOKUP(C171,Miniplan,Compte!$S$8:$S$52)))","v":""},{"$f":"IF($H171=\"\",\"\",IF(E171=\"\",\"\",LOOKUP(E171,Miniplan,Compte!$S$8:$S$52)))","v":""}]
[null,null,null,"",null,"",null,null,{"$f":"IF($H172=\"\",\"\",IF(C172=\"\",\"\",LOOKUP(C172,Miniplan,Compte!$S$8:$S$52)))","v":""},{"$f":"IF($H172=\"\",\"\",IF(E172=\"\",\"\",LOOKUP(E172,Miniplan,Compte!$S$8:$S$52)))","v":""}]
[null,null,null,"",null,"",null,null,{"$f":"IF($H173=\"\",\"\",IF(C173=\"\",\"\",LOOKUP(C173,Miniplan,Compte!$S$8:$S$52)))","v":""},{"$f":"IF($H173=\"\",\"\",IF(E173=\"\",\"\",LOOKUP(E173,Miniplan,Compte!$S$8:$S$52)))","v":""}]
[null,null,null,"",null,"",null,null,{"$f":"IF($H174=\"\",\"\",IF(C174=\"\",\"\",LOOKUP(C174,Miniplan,Compte!$S$8:$S$52)))","v":""},{"$f":"IF($H174=\"\",\"\",IF(E174=\"\",\"\",LOOKUP(E174,Miniplan,Compte!$S$8:$S$52)))","v":""}]
[null,null,null,"",null,"",null,null,{"$f":"IF($H175=\"\",\"\",IF(C175=\"\",\"\",LOOKUP(C175,Miniplan,Compte!$S$8:$S$52)))","v":""},{"$f":"IF($H175=\"\",\"\",IF(E175=\"\",\"\",LOOKUP(E175,Miniplan,Compte!$S$8:$S$52)))","v":""}]
[null,null,null,"",null,"",null,null,{"$f":"IF($H176=\"\",\"\",IF(C176=\"\",\"\",LOOKUP(C176,Miniplan,Compte!$S$8:$S$52)))","v":""},{"$f":"IF($H176=\"\",\"\",IF(E176=\"\",\"\",LOOKUP(E176,Miniplan,Compte!$S$8:$S$52)))","v":""}]
[null,null,null,"",null,"",null,null,{"$f":"IF($H177=\"\",\"\",IF(C177=\"\",\"\",LOOKUP(C177,Miniplan,Compte!$S$8:$S$52)))","v":""},{"$f":"IF($H177=\"\",\"\",IF(E177=\"\",\"\",LOOKUP(E177,Miniplan,Compte!$S$8:$S$52)))","v":""}]
[null,null,null,"",null,"",null,null,{"$f":"IF($H178=\"\",\"\",IF(C178=\"\",\"\",LOOKUP(C178,Miniplan,Compte!$S$8:$S$52)))","v":""},{"$f":"IF($H178=\"\",\"\",IF(E178=\"\",\"\",LOOKUP(E178,Miniplan,Compte!$S$8:$S$52)))","v":""}]
[null,null,null,"",null,"",null,null,{"$f":"IF($H179=\"\",\"\",IF(C179=\"\",\"\",LOOKUP(C179,Miniplan,Compte!$S$8:$S$52)))","v":""},{"$f":"IF($H179=\"\",\"\",IF(E179=\"\",\"\",LOOKUP(E179,Miniplan,Compte!$S$8:$S$52)))","v":""}]
[null,null,null,"",null,"",null,null,{"$f":"IF($H180=\"\",\"\",IF(C180=\"\",\"\",LOOKUP(C180,Miniplan,Compte!$S$8:$S$52)))","v":""},{"$f":"IF($H180=\"\",\"\",IF(E180=\"\",\"\",LOOKUP(E180,Miniplan,Compte!$S$8:$S$52)))","v":""}]
[null,null,null,"",null,"",null,null,{"$f":"IF($H181=\"\",\"\",IF(C181=\"\",\"\",LOOKUP(C181,Miniplan,Compte!$S$8:$S$52)))","v":""},{"$f":"IF($H181=\"\",\"\",IF(E181=\"\",\"\",LOOKUP(E181,Miniplan,Compte!$S$8:$S$52)))","v":""}]
[null,null,null,"",null,"",null,null,{"$f":"IF($H182=\"\",\"\",IF(C182=\"\",\"\",LOOKUP(C182,Miniplan,Compte!$S$8:$S$52)))","v":""},{"$f":"IF($H182=\"\",\"\",IF(E182=\"\",\"\",LOOKUP(E182,Miniplan,Compte!$S$8:$S$52)))","v":""}]
[null,null,null,"",null,"",null,null,{"$f":"IF($H183=\"\",\"\",IF(C183=\"\",\"\",LOOKUP(C183,Miniplan,Compte!$S$8:$S$52)))","v":""},{"$f":"IF($H183=\"\",\"\",IF(E183=\"\",\"\",LOOKUP(E183,Miniplan,Compte!$S$8:$S$52)))","v":""}]
[null,null,null,"",null,"",null,null,{"$f":"IF($H184=\"\",\"\",IF(C184=\"\",\"\",LOOKUP(C184,Miniplan,Compte!$S$8:$S$52)))","v":""},{"$f":"IF($H184=\"\",\"\",IF(E184=\"\",\"\",LOOKUP(E184,Miniplan,Compte!$S$8:$S$52)))","v":""}]
[null,null,null,"",null,"",null,null,{"$f":"IF($H185=\"\",\"\",IF(C185=\"\",\"\",LOOKUP(C185,Miniplan,Compte!$S$8:$S$52)))","v":""},{"$f":"IF($H185=\"\",\"\",IF(E185=\"\",\"\",LOOKUP(E185,Miniplan,Compte!$S$8:$S$52)))","v":""}]
[null,null,null,"",null,"",null,null,{"$f":"IF($H186=\"\",\"\",IF(C186=\"\",\"\",LOOKUP(C186,Miniplan,Compte!$S$8:$S$52)))","v":""},{"$f":"IF($H186=\"\",\"\",IF(E186=\"\",\"\",LOOKUP(E186,Miniplan,Compte!$S$8:$S$52)))","v":""}]
[null,null,null,"",null,"",null,null,{"$f":"IF($H187=\"\",\"\",IF(C187=\"\",\"\",LOOKUP(C187,Miniplan,Compte!$S$8:$S$52)))","v":""},{"$f":"IF($H187=\"\",\"\",IF(E187=\"\",\"\",LOOKUP(E187,Miniplan,Compte!$S$8:$S$52)))","v":""}]
[null,null,null,"",null,"",null,null,{"$f":"IF($H188=\"\",\"\",IF(C188=\"\",\"\",LOOKUP(C188,Miniplan,Compte!$S$8:$S$52)))","v":""},{"$f":"IF($H188=\"\",\"\",IF(E188=\"\",\"\",LOOKUP(E188,Miniplan,Compte!$S$8:$S$52)))","v":""}]
[null,null,null,"",null,"",null,null,{"$f":"IF($H189=\"\",\"\",IF(C189=\"\",\"\",LOOKUP(C189,Miniplan,Compte!$S$8:$S$52)))","v":""},{"$f":"IF($H189=\"\",\"\",IF(E189=\"\",\"\",LOOKUP(E189,Miniplan,Compte!$S$8:$S$52)))","v":""}]
[null,null,null,"",null,"",null,null,{"$f":"IF($H190=\"\",\"\",IF(C190=\"\",\"\",LOOKUP(C190,Miniplan,Compte!$S$8:$S$52)))","v":""},{"$f":"IF($H190=\"\",\"\",IF(E190=\"\",\"\",LOOKUP(E190,Miniplan,Compte!$S$8:$S$52)))","v":""}]
[null,null,null,"",null,"",null,null,{"$f":"IF($H191=\"\",\"\",IF(C191=\"\",\"\",LOOKUP(C191,Miniplan,Compte!$S$8:$S$52)))","v":""},{"$f":"IF($H191=\"\",\"\",IF(E191=\"\",\"\",LOOKUP(E191,Miniplan,Compte!$S$8:$S$52)))","v":""}]
[null,null,null,"",null,"",null,null,{"$f":"IF($H192=\"\",\"\",IF(C192=\"\",\"\",LOOKUP(C192,Miniplan,Compte!$S$8:$S$52)))","v":""},{"$f":"IF($H192=\"\",\"\",IF(E192=\"\",\"\",LOOKUP(E192,Miniplan,Compte!$S$8:$S$52)))","v":""}]
[null,null,null,"",null,"",null,null,{"$f":"IF($H193=\"\",\"\",IF(C193=\"\",\"\",LOOKUP(C193,Miniplan,Compte!$S$8:$S$52)))","v":""},{"$f":"IF($H193=\"\",\"\",IF(E193=\"\",\"\",LOOKUP(E193,Miniplan,Compte!$S$8:$S$52)))","v":""}]
[null,null,null,"",null,"",null,null,{"$f":"IF($H194=\"\",\"\",IF(C194=\"\",\"\",LOOKUP(C194,Miniplan,Compte!$S$8:$S$52)))","v":""},{"$f":"IF($H194=\"\",\"\",IF(E194=\"\",\"\",LOOKUP(E194,Miniplan,Compte!$S$8:$S$52)))","v":""}]
[null,null,null,"",null,"",null,null,{"$f":"IF($H195=\"\",\"\",IF(C195=\"\",\"\",LOOKUP(C195,Miniplan,Compte!$S$8:$S$52)))","v":""},{"$f":"IF($H195=\"\",\"\",IF(E195=\"\",\"\",LOOKUP(E195,Miniplan,Compte!$S$8:$S$52)))","v":""}]
[null,null,null,"",null,"",null,null,{"$f":"IF($H196=\"\",\"\",IF(C196=\"\",\"\",LOOKUP(C196,Miniplan,Compte!$S$8:$S$52)))","v":""},{"$f":"IF($H196=\"\",\"\",IF(E196=\"\",\"\",LOOKUP(E196,Miniplan,Compte!$S$8:$S$52)))","v":""}]
[null,null,null,"",null,"",null,null,{"$f":"IF($H197=\"\",\"\",IF(C197=\"\",\"\",LOOKUP(C197,Miniplan,Compte!$S$8:$S$52)))","v":""},{"$f":"IF($H197=\"\",\"\",IF(E197=\"\",\"\",LOOKUP(E197,Miniplan,Compte!$S$8:$S$52)))","v":""}]
[null,null,null,"",null,"",null,null,{"$f":"IF($H198=\"\",\"\",IF(C198=\"\",\"\",LOOKUP(C198,Miniplan,Compte!$S$8:$S$52)))","v":""},{"$f":"IF($H198=\"\",\"\",IF(E198=\"\",\"\",LOOKUP(E198,Miniplan,Compte!$S$8:$S$52)))","v":""}]
[null,null,null,"",null,"",null,null,{"$f":"IF($H199=\"\",\"\",IF(C199=\"\",\"\",LOOKUP(C199,Miniplan,Compte!$S$8:$S$52)))","v":""},{"$f":"IF($H199=\"\",\"\",IF(E199=\"\",\"\",LOOKUP(E199,Miniplan,Compte!$S$8:$S$52)))","v":""}]
[null,null,null,{"$f":"IF(C200>0,VLOOKUP(C200,Miniplan,2),\"\")","v":""},null,"",null,null,{"$f":"IF($H200=\"\",\"\",IF(C200=\"\",\"\",LOOKUP(C200,Miniplan,Compte!$S$8:$S$52)))","v":""},{"$f":"IF($H200=\"\",\"\",IF(E200=\"\",\"\",LOOKUP(E200,Miniplan,Compte!$S$8:$S$52)))","v":""}]
[null,null,null,"",null,{"$f":"IF(E201>0,VLOOKUP(E201,Miniplan,2),\"\")","v":""},null,null,{"$f":"IF($H201=\"\",\"\",IF(C201=\"\",\"\",LOOKUP(C201,Miniplan,Compte!$S$8:$S$52)))","v":""},{"$f":"IF($H201=\"\",\"\",IF(E201=\"\",\"\",LOOKUP(E201,Miniplan,Compte!$S$8:$S$52)))","v":""}]
[null,null,null,"",null,"",null,null,{"$f":"IF($H202=\"\",\"\",IF(C202=\"\",\"\",LOOKUP(C202,Miniplan,Compte!$S$8:$S$52)))","v":""},{"$f":"IF($H202=\"\",\"\",IF(E202=\"\",\"\",LOOKUP(E202,Miniplan,Compte!$S$8:$S$52)))","v":""}]
[null,null,null,"",null,"",null,null,{"$f":"IF($H203=\"\",\"\",IF(C203=\"\",\"\",LOOKUP(C203,Miniplan,Compte!$S$8:$S$52)))","v":""},{"$f":"IF($H203=\"\",\"\",IF(E203=\"\",\"\",LOOKUP(E203,Miniplan,Compte!$S$8:$S$52)))","v":""}]
[null,null,null,"",null,"",null,null,{"$f":"IF($H204=\"\",\"\",IF(C204=\"\",\"\",LOOKUP(C204,Miniplan,Compte!$S$8:$S$52)))","v":""},{"$f":"IF($H204=\"\",\"\",IF(E204=\"\",\"\",LOOKUP(E204,Miniplan,Compte!$S$8:$S$52)))","v":""}]
[null,null,null,"",null,"",null,null,{"$f":"IF($H205=\"\",\"\",IF(C205=\"\",\"\",LOOKUP(C205,Miniplan,Compte!$S$8:$S$52)))","v":""},{"$f":"IF($H205=\"\",\"\",IF(E205=\"\",\"\",LOOKUP(E205,Miniplan,Compte!$S$8:$S$52)))","v":""}]
[null,null,null,"",null,"",null,null,{"$f":"IF($H206=\"\",\"\",IF(C206=\"\",\"\",LOOKUP(C206,Miniplan,Compte!$S$8:$S$52)))","v":""},{"$f":"IF($H206=\"\",\"\",IF(E206=\"\",\"\",LOOKUP(E206,Miniplan,Compte!$S$8:$S$52)))","v":""}]
[null,null,null,"",null,"",null,null,{"$f":"IF($H207=\"\",\"\",IF(C207=\"\",\"\",LOOKUP(C207,Miniplan,Compte!$S$8:$S$52)))","v":""},{"$f":"IF($H207=\"\",\"\",IF(E207=\"\",\"\",LOOKUP(E207,Miniplan,Compte!$S$8:$S$52)))","v":""}]
[null,null,null,"",null,"",null,null,{"$f":"IF($H208=\"\",\"\",IF(C208=\"\",\"\",LOOKUP(C208,Miniplan,Compte!$S$8:$S$52)))","v":""},{"$f":"IF($H208=\"\",\"\",IF(E208=\"\",\"\",LOOKUP(E208,Miniplan,Compte!$S$8:$S$52)))","v":""}]
[null,null,null,"",null,"",null,null,{"$f":"IF($H209=\"\",\"\",IF(C209=\"\",\"\",LOOKUP(C209,Miniplan,Compte!$S$8:$S$52)))","v":""},{"$f":"IF($H209=\"\",\"\",IF(E209=\"\",\"\",LOOKUP(E209,Miniplan,Compte!$S$8:$S$52)))","v":""}]
[null,null,null,"",null,"",null,null,{"$f":"IF($H210=\"\",\"\",IF(C210=\"\",\"\",LOOKUP(C210,Miniplan,Compte!$S$8:$S$52)))","v":""},{"$f":"IF($H210=\"\",\"\",IF(E210=\"\",\"\",LOOKUP(E210,Miniplan,Compte!$S$8:$S$52)))","v":""}]
[null,null,null,"",null,"",null,null,{"$f":"IF($H211=\"\",\"\",IF(C211=\"\",\"\",LOOKUP(C211,Miniplan,Compte!$S$8:$S$52)))","v":""},{"$f":"IF($H211=\"\",\"\",IF(E211=\"\",\"\",LOOKUP(E211,Miniplan,Compte!$S$8:$S$52)))","v":""}]
[null,null,null,"",null,"",null,null,{"$f":"IF($H212=\"\",\"\",IF(C212=\"\",\"\",LOOKUP(C212,Miniplan,Compte!$S$8:$S$52)))","v":""},{"$f":"IF($H212=\"\",\"\",IF(E212=\"\",\"\",LOOKUP(E212,Miniplan,Compte!$S$8:$S$52)))","v":""}]
[null,null,null,"",null,"",null,null,{"$f":"IF($H213=\"\",\"\",IF(C213=\"\",\"\",LOOKUP(C213,Miniplan,Compte!$S$8:$S$52)))","v":""},{"$f":"IF($H213=\"\",\"\",IF(E213=\"\",\"\",LOOKUP(E213,Miniplan,Compte!$S$8:$S$52)))","v":""}]
[null,null,null,"",null,"",null,null,{"$f":"IF($H214=\"\",\"\",IF(C214=\"\",\"\",LOOKUP(C214,Miniplan,Compte!$S$8:$S$52)))","v":""},{"$f":"IF($H214=\"\",\"\",IF(E214=\"\",\"\",LOOKUP(E214,Miniplan,Compte!$S$8:$S$52)))","v":""}]
[null,null,null,"",null,"",null,null,{"$f":"IF($H215=\"\",\"\",IF(C215=\"\",\"\",LOOKUP(C215,Miniplan,Compte!$S$8:$S$52)))","v":""},{"$f":"IF($H215=\"\",\"\",IF(E215=\"\",\"\",LOOKUP(E215,Miniplan,Compte!$S$8:$S$52)))","v":""}]
[null,null,null,"",null,"",null,null,{"$f":"IF($H216=\"\",\"\",IF(C216=\"\",\"\",LOOKUP(C216,Miniplan,Compte!$S$8:$S$52)))","v":""},{"$f":"IF($H216=\"\",\"\",IF(E216=\"\",\"\",LOOKUP(E216,Miniplan,Compte!$S$8:$S$52)))","v":""}]
[null,null,null,"",null,"",null,null,{"$f":"IF($H217=\"\",\"\",IF(C217=\"\",\"\",LOOKUP(C217,Miniplan,Compte!$S$8:$S$52)))","v":""},{"$f":"IF($H217=\"\",\"\",IF(E217=\"\",\"\",LOOKUP(E217,Miniplan,Compte!$S$8:$S$52)))","v":""}]
[null,null,null,"",null,"",null,null,{"$f":"IF($H218=\"\",\"\",IF(C218=\"\",\"\",LOOKUP(C218,Miniplan,Compte!$S$8:$S$52)))","v":""},{"$f":"IF($H218=\"\",\"\",IF(E218=\"\",\"\",LOOKUP(E218,Miniplan,Compte!$S$8:$S$52)))","v":""}]
[null,null,null,"",null,"",null,null,{"$f":"IF($H219=\"\",\"\",IF(C219=\"\",\"\",LOOKUP(C219,Miniplan,Compte!$S$8:$S$52)))","v":""},{"$f":"IF($H219=\"\",\"\",IF(E219=\"\",\"\",LOOKUP(E219,Miniplan,Compte!$S$8:$S$52)))","v":""}]
[null,null,null,"",null,"",null,null,{"$f":"IF($H220=\"\",\"\",IF(C220=\"\",\"\",LOOKUP(C220,Miniplan,Compte!$S$8:$S$52)))","v":""},{"$f":"IF($H220=\"\",\"\",IF(E220=\"\",\"\",LOOKUP(E220,Miniplan,Compte!$S$8:$S$52)))","v":""}]
[null,null,null,"",null,"",null,null,{"$f":"IF($H221=\"\",\"\",IF(C221=\"\",\"\",LOOKUP(C221,Miniplan,Compte!$S$8:$S$52)))","v":""},{"$f":"IF($H221=\"\",\"\",IF(E221=\"\",\"\",LOOKUP(E221,Miniplan,Compte!$S$8:$S$52)))","v":""}]
[null,null,null,"",null,"",null,null,{"$f":"IF($H222=\"\",\"\",IF(C222=\"\",\"\",LOOKUP(C222,Miniplan,Compte!$S$8:$S$52)))","v":""},{"$f":"IF($H222=\"\",\"\",IF(E222=\"\",\"\",LOOKUP(E222,Miniplan,Compte!$S$8:$S$52)))","v":""}]
[null,null,null,"",null,"",null,null,{"$f":"IF($H223=\"\",\"\",IF(C223=\"\",\"\",LOOKUP(C223,Miniplan,Compte!$S$8:$S$52)))","v":""},{"$f":"IF($H223=\"\",\"\",IF(E223=\"\",\"\",LOOKUP(E223,Miniplan,Compte!$S$8:$S$52)))","v":""}]
[null,null,null,"",null,"",null,null,{"$f":"IF($H224=\"\",\"\",IF(C224=\"\",\"\",LOOKUP(C224,Miniplan,Compte!$S$8:$S$52)))","v":""},{"$f":"IF($H224=\"\",\"\",IF(E224=\"\",\"\",LOOKUP(E224,Miniplan,Compte!$S$8:$S$52)))","v":""}]
[null,null,null,"",null,"",null,null,{"$f":"IF($H225=\"\",\"\",IF(C225=\"\",\"\",LOOKUP(C225,Miniplan,Compte!$S$8:$S$52)))","v":""},{"$f":"IF($H225=\"\",\"\",IF(E225=\"\",\"\",LOOKUP(E225,Miniplan,Compte!$S$8:$S$52)))","v":""}]
[null,null,null,"",null,"",null,null,{"$f":"IF($H226=\"\",\"\",IF(C226=\"\",\"\",LOOKUP(C226,Miniplan,Compte!$S$8:$S$52)))","v":""},{"$f":"IF($H226=\"\",\"\",IF(E226=\"\",\"\",LOOKUP(E226,Miniplan,Compte!$S$8:$S$52)))","v":""}]
[null,null,null,"",null,"",null,null,{"$f":"IF($H227=\"\",\"\",IF(C227=\"\",\"\",LOOKUP(C227,Miniplan,Compte!$S$8:$S$52)))","v":""},{"$f":"IF($H227=\"\",\"\",IF(E227=\"\",\"\",LOOKUP(E227,Miniplan,Compte!$S$8:$S$52)))","v":""}]
[null,null,null,"",null,"",null,null,{"$f":"IF($H228=\"\",\"\",IF(C228=\"\",\"\",LOOKUP(C228,Miniplan,Compte!$S$8:$S$52)))","v":""},{"$f":"IF($H228=\"\",\"\",IF(E228=\"\",\"\",LOOKUP(E228,Miniplan,Compte!$S$8:$S$52)))","v":""}]
[null,null,null,"",null,"",null,null,{"$f":"IF($H229=\"\",\"\",IF(C229=\"\",\"\",LOOKUP(C229,Miniplan,Compte!$S$8:$S$52)))","v":""},{"$f":"IF($H229=\"\",\"\",IF(E229=\"\",\"\",LOOKUP(E229,Miniplan,Compte!$S$8:$S$52)))","v":""}]
[null,null,null,"",null,"",null,null,{"$f":"IF($H230=\"\",\"\",IF(C230=\"\",\"\",LOOKUP(C230,Miniplan,Compte!$S$8:$S$52)))","v":""},{"$f":"IF($H230=\"\",\"\",IF(E230=\"\",\"\",LOOKUP(E230,Miniplan,Compte!$S$8:$S$52)))","v":""}]
[null,null,null,"",null,"",null,null,{"$f":"IF($H231=\"\",\"\",IF(C231=\"\",\"\",LOOKUP(C231,Miniplan,Compte!$S$8:$S$52)))","v":""},{"$f":"IF($H231=\"\",\"\",IF(E231=\"\",\"\",LOOKUP(E231,Miniplan,Compte!$S$8:$S$52)))","v":""}]
[null,null,null,"",null,"",null,null,{"$f":"IF($H232=\"\",\"\",IF(C232=\"\",\"\",LOOKUP(C232,Miniplan,Compte!$S$8:$S$52)))","v":""},{"$f":"IF($H232=\"\",\"\",IF(E232=\"\",\"\",LOOKUP(E232,Miniplan,Compte!$S$8:$S$52)))","v":""}]
[null,null,null,"",null,"",null,null,{"$f":"IF($H233=\"\",\"\",IF(C233=\"\",\"\",LOOKUP(C233,Miniplan,Compte!$S$8:$S$52)))","v":""},{"$f":"IF($H233=\"\",\"\",IF(E233=\"\",\"\",LOOKUP(E233,Miniplan,Compte!$S$8:$S$52)))","v":""}]
[null,null,null,"",null,"",null,null,{"$f":"IF($H234=\"\",\"\",IF(C234=\"\",\"\",LOOKUP(C234,Miniplan,Compte!$S$8:$S$52)))","v":""},{"$f":"IF($H234=\"\",\"\",IF(E234=\"\",\"\",LOOKUP(E234,Miniplan,Compte!$S$8:$S$52)))","v":""}]
[null,null,null,"",null,"",null,null,{"$f":"IF($H235=\"\",\"\",IF(C235=\"\",\"\",LOOKUP(C235,Miniplan,Compte!$S$8:$S$52)))","v":""},{"$f":"IF($H235=\"\",\"\",IF(E235=\"\",\"\",LOOKUP(E235,Miniplan,Compte!$S$8:$S$52)))","v":""}]
[null,null,null,"",null,"",null,null,{"$f":"IF($H236=\"\",\"\",IF(C236=\"\",\"\",LOOKUP(C236,Miniplan,Compte!$S$8:$S$52)))","v":""},{"$f":"IF($H236=\"\",\"\",IF(E236=\"\",\"\",LOOKUP(E236,Miniplan,Compte!$S$8:$S$52)))","v":""}]
[null,null,null,"",null,"",null,null,{"$f":"IF($H237=\"\",\"\",IF(C237=\"\",\"\",LOOKUP(C237,Miniplan,Compte!$S$8:$S$52)))","v":""},{"$f":"IF($H237=\"\",\"\",IF(E237=\"\",\"\",LOOKUP(E237,Miniplan,Compte!$S$8:$S$52)))","v":""}]
[null,null,null,"",null,"",null,null,{"$f":"IF($H238=\"\",\"\",IF(C238=\"\",\"\",LOOKUP(C238,Miniplan,Compte!$S$8:$S$52)))","v":""},{"$f":"IF($H238=\"\",\"\",IF(E238=\"\",\"\",LOOKUP(E238,Miniplan,Compte!$S$8:$S$52)))","v":""}]
[null,null,null,"",null,"",null,null,{"$f":"IF($H239=\"\",\"\",IF(C239=\"\",\"\",LOOKUP(C239,Miniplan,Compte!$S$8:$S$52)))","v":""},{"$f":"IF($H239=\"\",\"\",IF(E239=\"\",\"\",LOOKUP(E239,Miniplan,Compte!$S$8:$S$52)))","v":""}]
[null,null,null,"",null,"",null,null,{"$f":"IF($H240=\"\",\"\",IF(C240=\"\",\"\",LOOKUP(C240,Miniplan,Compte!$S$8:$S$52)))","v":""},{"$f":"IF($H240=\"\",\"\",IF(E240=\"\",\"\",LOOKUP(E240,Miniplan,Compte!$S$8:$S$52)))","v":""}]
[null,null,null,"",null,"",null,null,{"$f":"IF($H241=\"\",\"\",IF(C241=\"\",\"\",LOOKUP(C241,Miniplan,Compte!$S$8:$S$52)))","v":""},{"$f":"IF($H241=\"\",\"\",IF(E241=\"\",\"\",LOOKUP(E241,Miniplan,Compte!$S$8:$S$52)))","v":""}]
[null,null,null,"",null,"",null,null,{"$f":"IF($H242=\"\",\"\",IF(C242=\"\",\"\",LOOKUP(C242,Miniplan,Compte!$S$8:$S$52)))","v":""},{"$f":"IF($H242=\"\",\"\",IF(E242=\"\",\"\",LOOKUP(E242,Miniplan,Compte!$S$8:$S$52)))","v":""}]
[null,null,null,"",null,"",null,null,{"$f":"IF($H243=\"\",\"\",IF(C243=\"\",\"\",LOOKUP(C243,Miniplan,Compte!$S$8:$S$52)))","v":""},{"$f":"IF($H243=\"\",\"\",IF(E243=\"\",\"\",LOOKUP(E243,Miniplan,Compte!$S$8:$S$52)))","v":""}]
[null,null,null,"",null,"",null,null,{"$f":"IF($H244=\"\",\"\",IF(C244=\"\",\"\",LOOKUP(C244,Miniplan,Compte!$S$8:$S$52)))","v":""},{"$f":"IF($H244=\"\",\"\",IF(E244=\"\",\"\",LOOKUP(E244,Miniplan,Compte!$S$8:$S$52)))","v":""}]
[null,null,null,"",null,"",null,null,{"$f":"IF($H245=\"\",\"\",IF(C245=\"\",\"\",LOOKUP(C245,Miniplan,Compte!$S$8:$S$52)))","v":""},{"$f":"IF($H245=\"\",\"\",IF(E245=\"\",\"\",LOOKUP(E245,Miniplan,Compte!$S$8:$S$52)))","v":""}]
[null,null,null,"",null,"",null,null,{"$f":"IF($H246=\"\",\"\",IF(C246=\"\",\"\",LOOKUP(C246,Miniplan,Compte!$S$8:$S$52)))","v":""},{"$f":"IF($H246=\"\",\"\",IF(E246=\"\",\"\",LOOKUP(E246,Miniplan,Compte!$S$8:$S$52)))","v":""}]
[null,null,null,"",null,"",null,null,{"$f":"IF($H247=\"\",\"\",IF(C247=\"\",\"\",LOOKUP(C247,Miniplan,Compte!$S$8:$S$52)))","v":""},{"$f":"IF($H247=\"\",\"\",IF(E247=\"\",\"\",LOOKUP(E247,Miniplan,Compte!$S$8:$S$52)))","v":""}]
[null,null,null,"",null,"",null,null,{"$f":"IF($H248=\"\",\"\",IF(C248=\"\",\"\",LOOKUP(C248,Miniplan,Compte!$S$8:$S$52)))","v":""},{"$f":"IF($H248=\"\",\"\",IF(E248=\"\",\"\",LOOKUP(E248,Miniplan,Compte!$S$8:$S$52)))","v":""}]
[null,null,null,"",null,"",null,null,{"$f":"IF($H249=\"\",\"\",IF(C249=\"\",\"\",LOOKUP(C249,Miniplan,Compte!$S$8:$S$52)))","v":""},{"$f":"IF($H249=\"\",\"\",IF(E249=\"\",\"\",LOOKUP(E249,Miniplan,Compte!$S$8:$S$52)))","v":""}]
[null,null,null,"",null,"",null,null,{"$f":"IF($H250=\"\",\"\",IF(C250=\"\",\"\",LOOKUP(C250,Miniplan,Compte!$S$8:$S$52)))","v":""},{"$f":"IF($H250=\"\",\"\",IF(E250=\"\",\"\",LOOKUP(E250,Miniplan,Compte!$S$8:$S$52)))","v":""}]
[null,null,null,"",null,"",null,null,{"$f":"IF($H251=\"\",\"\",IF(C251=\"\",\"\",LOOKUP(C251,Miniplan,Compte!$S$8:$S$52)))","v":""},{"$f":"IF($H251=\"\",\"\",IF(E251=\"\",\"\",LOOKUP(E251,Miniplan,Compte!$S$8:$S$52)))","v":""}]
[null,null,null,"",null,"",null,null,{"$f":"IF($H252=\"\",\"\",IF(C252=\"\",\"\",LOOKUP(C252,Miniplan,Compte!$S$8:$S$52)))","v":""},{"$f":"IF($H252=\"\",\"\",IF(E252=\"\",\"\",LOOKUP(E252,Miniplan,Compte!$S$8:$S$52)))","v":""}]
[null,null,null,"",null,"",null,null,{"$f":"IF($H253=\"\",\"\",IF(C253=\"\",\"\",LOOKUP(C253,Miniplan,Compte!$S$8:$S$52)))","v":""},{"$f":"IF($H253=\"\",\"\",IF(E253=\"\",\"\",LOOKUP(E253,Miniplan,Compte!$S$8:$S$52)))","v":""}]
[null,null,null,"",null,"",null,null,{"$f":"IF($H254=\"\",\"\",IF(C254=\"\",\"\",LOOKUP(C254,Miniplan,Compte!$S$8:$S$52)))","v":""},{"$f":"IF($H254=\"\",\"\",IF(E254=\"\",\"\",LOOKUP(E254,Miniplan,Compte!$S$8:$S$52)))","v":""}]
[null,null,null,"",null,"",null,null,{"$f":"IF($H255=\"\",\"\",IF(C255=\"\",\"\",LOOKUP(C255,Miniplan,Compte!$S$8:$S$52)))","v":""},{"$f":"IF($H255=\"\",\"\",IF(E255=\"\",\"\",LOOKUP(E255,Miniplan,Compte!$S$8:$S$52)))","v":""}]
[null,null,null,"",null,"",null,null,{"$f":"IF($H256=\"\",\"\",IF(C256=\"\",\"\",LOOKUP(C256,Miniplan,Compte!$S$8:$S$52)))","v":""},{"$f":"IF($H256=\"\",\"\",IF(E256=\"\",\"\",LOOKUP(E256,Miniplan,Compte!$S$8:$S$52)))","v":""}]
[null,null,null,"",null,"",null,null,{"$f":"IF($H257=\"\",\"\",IF(C257=\"\",\"\",LOOKUP(C257,Miniplan,Compte!$S$8:$S$52)))","v":""},{"$f":"IF($H257=\"\",\"\",IF(E257=\"\",\"\",LOOKUP(E257,Miniplan,Compte!$S$8:$S$52)))","v":""}]
[null,null,null,"",null,"",null,null,{"$f":"IF($H258=\"\",\"\",IF(C258=\"\",\"\",LOOKUP(C258,Miniplan,Compte!$S$8:$S$52)))","v":""},{"$f":"IF($H258=\"\",\"\",IF(E258=\"\",\"\",LOOKUP(E258,Miniplan,Compte!$S$8:$S$52)))","v":""}]

{"sheet":"Compte","index":1,"n_rows":100,"n_cols":36,"rows_kept":100,"cut":false,"hidden":false,"merged":[[8,26,8,27],[8,32,8,33],[8,28,8,29],[8,34,8,35],[5,1,5,7],[6,11,7,16],[6,2,6,3],[6,4,6,5],[6,26,7,29],[6,32,7,35]]}
[7]
[]
[]
[]
[null,null,null,null,null,null,null,null,null,null,null,"1900-01-06",1,4,null,null,true]
[]
[null,null,null,null,null,null,null,null,null,null,null,{"$f":"VLOOKUP(M5,Plan,3)","v":"Caisse"},null,null,null,null,null,null,null,"Plan comptable",null,{"$f":"T7","v":"Plan comptable"},null,null,null,null,"Résultat",null,null,null,null,null,"Bilan"]
[null,null,null,null,null,null,null,null,{"$f":"IF($H8=\"\",\"\",LOOKUP(C8,$T$8:$T$26,$S$8:$S$26))","v":""},{"$f":"IF($H8=\"\",\"\",LOOKUP(E8,$T$8:$T$26,$S$8:$S$26))","v":""},null,null,null,null,null,null,null,null,1,1000,"Caisse",{"$f":"T8&\"  \"&U8","v":"1000  Caisse"}]
[null,null,null,null,null,null,null,null,"","",null," Date","C/partie","Libellé","Débit","Crédit","Solde D/C",null,{"$f":"S8+1","v":2},1010,"Poste",{"$f":"T9&\"  \"&U9","v":"1010  Poste"},null,null,null,null,"Charges",null,"Produits",null,null,null,"Actif",null,"Passif"]
[null,null,null,null,null,null,null,null,"","",null,null,null,null,null,null,null,null,{"$f":"S9+1","v":3},1020,"Banque A","1020  Banque A"]
[null,null,null,null,null,null,null,null,"","",null,null,null,null,null,null,null,null,4,1021,"Banque B","1021  Banque B"]
[null,null,null,null,null,null,null,null,"","",null,null,null,null,null,null,null,null,5,1060,"Titres","1060  Titres"]
[null,null,null,null,null,null,null,null,"","",null,null,null,null,null,null,null,null,6,1100,"Clients","1100  Clients"]
[null,null,null,null,null,null,null,null,"","",null,null,null,null,null,null,null,null,7,1172,"Impôt anticip.","1172  Impôt anticip."]
[null,null,null,null,null,null,null,null,"","",null,null,null,null,null,null,null,null,8,1200,"Stock","1200  Stock"]
[null,null,null,null,null,null,null,null,"","",null,null,null,null,null,null,null,null,9,1300,"Actif trans.","1300  Actif trans."]
[null,null,null,null,null,null,null,null,"","",null,null,null,null,null,null,null,null,10,1500,"Machines","1500  Machines"]
[null,null,null,null,null,null,null,null,"","",null,null,null,null,null,null,null,null,11,1510,"Mobilier","1510  Mobilier"]
[null,null,null,null,null,null,null,null,"","",null,null,null,null,null,null,null,null,12,1520,"Informatique","1520  Informatique"]
[null,null,null,null,null,null,null,null,"","",null,null,null,null,null,null,null,null,13,1530,"Véhicules","1530  Véhicules"]
[null,null,null,null,null,null,null,null,"","",null,null,null,null,null,null,null,null,14,1600,"Immeuble","1600  Immeuble"]
[null,null,null,null,null,null,null,null,"","",null,null,null,null,null,null,null,null,15,null,null,"  "]
[null,null,null,null,null,null,null,null,"","",null,null,null,null,null,null,null,null,16,2000,"Fournisseurs","2000  Fournisseurs"]
[null,null,null,null,null,null,null,null,"","",null,null,null,null,null,null,null,null,17,2010,"Autres dettes","2010  Autres dettes"]
[null,null,null,null,null,null,null,null,"","",null,null,null,null,null,null,null,null,18,2100,"AVS / LPP","2100  AVS / LPP"]
[null,null,null,null,null,null,null,null,"","",null,null,null,null,null,null,null,null,19,2300,"Passif trans.","2300  Passif trans."]
[null,null,null,null,null,null,null,null,"","",null,null,null,null,null,null,null,null,20,2440,"Hypothèque","2440  Hypothèque"]
[null,null,null,null,null,null,null,null,"","",null,null,null,null,null,null,null,null,21,2800,"Capital","2800  Capital"]
[null,null,null,null,null,null,null,null,"","",null,null,null,null,null,null,null,null,22,2890,"Privé","2890  Privé"]
[null,null,null,null,null,null,null,null,"","",null,null,null,null,null,null,null,null,23,2990,"Résultat","2990  Résultat"]
[null,null,null,null,null,null,null,null,"","",null,null,null,null,null,null,null,null,24,null,null,"  ",null,null,null,{"$f":"AB31-AD31","v":0},{"$f":"IF(AB31=0,\"\",\"Bénéfice\")","v":""},{"$f":"IF(AB10+AD10=0,0,IF(SUM(AB10:AB30)>SUM(AD10:AD30),0,SUM(AD10:AD30)-SUM(AB10:AB30)))","v":0},{"$f":"IF(AD31=0,\"\",\"Perte\")","v":""},{"$f":"IF(AB10+AD10=0,0,IF(SUM(AD10:AD30)>SUM(AB10:AB30),0,SUM(AB10:AB30)-SUM(AD10:AD30)))","v":0},null,{"$f":"AH31-AJ31","v":0},{"$f":"IF(AH31=0,\"\",\"Perte\")","v":""},{"$f":"IF(AH10+AJ10=0,0,IF(SUM(AH10:AH30)>SUM(AJ10:AJ30),0,SUM(AJ10:AJ30)-SUM(AH10:AH30)))","v":0},{"$f":"IF(AJ31=0,\"\",\"Bénéfice\")","v":""},{"$f":"IF(AH10+AJ10=0,0,IF(SUM(AJ10:AJ30)>SUM(AH10:AH30),0,SUM(AH10:AH30)-SUM(AJ10:AJ30)))","v":0}]
[null,null,null,null,null,null,null,null,"","",null,null,null,null,null,null,null,null,25,3200,"Ventes","3200  Ventes",null,null,null,null,null,{"$f":"IF(AB10+AD10=0,\"\",SUM(AB10:AB31))","v":""},null,{"$f":"IF(AB10+AD10=0,\"\",SUM(AD10:AD31))","v":""},null,null,null,{"$f":"IF(AH10+AJ10=0,\"\",SUM(AH10:AH31))","v":""},null,{"$f":"IF(AH10+AJ10=0,\"\",SUM(AJ10:AJ31))","v":""}]
[null,null,null,null,null,null,null,null,"","",null,null,null,null,null,null,null,null,26,3290,"Déd.s/ventes","3290  Déd.s/ventes"]
[null,null,null,null,null,null,null,null,"","",null,null,null,null,null,null,null,null,27,3295,"Pertes s/cré.","3295  Pertes s/cré."]
[null,null,null,null,null,null,null,null,"","",null,null,null,null,null,null,null,null,28,3400,"Honoraires","3400  Honoraires"]
[null,null,null,null,null,null,null,null,"","",null,null,null,null,null,null,null,null,29,3630,"Autres produits","3630  Autres produits"]
[null,null,null,null,null,null,null,null,"","",null,null,null,null,null,null,null,null,30,null,null,"  "]
[null,null,null,null,null,null,null,null,"","",null,null,null,null,null,null,null,null,31,4000,"Achats mat.","4000  Achats mat."]
[null,null,null,null,null,null,null,null,"","",null,null,null,null,null,null,null,null,32,4200,"Achats march.","4200  Achats march."]
[null,null,null,null,null,null,null,null,{"$f":"IF($H40=\"\",\"\",LOOKUP(C40,$T$8:$T$26,$S$8:$S$26))","v":""},{"$f":"IF($H40=\"\",\"\",LOOKUP(E40,$T$8:$T$26,$S$8:$S$26))","v":""},null,null,null,null,null,null,null,null,33,4270,"Frais achats","4270  Frais achats"]
[null,null,null,null,null,null,null,null,"","",null,null,null,null,null,null,null,null,34,4280,"Variat. stock","4280  Variat. stock"]
[null,null,null,null,null,null,null,null,"","",null,null,null,null,null,null,null,null,35,4290,"Déd.s/achats","4290  Déd.s/achats"]
[null,null,null,null,null,null,null,null,"","",null,null,null,null,null,null,null,null,36,null,null,"  "]
[null,null,null,null,null,null,null,null,"","",null,null,null,null,null,null,null,null,37,5000,"Salaires","5000  Salaires"]
[null,null,null,null,null,null,null,null,"","",null,null,null,null,null,null,null,null,38,5270,"Ch. Sociales","5270  Ch. Sociales"]
[null,null,null,null,null,null,null,null,"","",null,null,null,null,null,null,null,null,39,6000,"Loyer","6000  Loyer"]
[null,null,null,null,null,null,null,null,"","",null,null,null,null,null,null,null,null,40,6100,"Entretien","6100  Entretien"]
[null,null,null,null,null,null,null,null,"","",null,null,null,null,null,null,null,null,41,6200,"Frais véhic.","6200  Frais véhic."]
[null,null,null,null,null,null,null,null,"","",null,null,null,null,null,null,null,null,42,6280,"Frais livraison","6280  Frais livraison"]
[null,null,null,null,null,null,null,null,"","",null,null,null,null,null,null,null,null,43,6400,"Eau  - Elec.","6400  Eau  - Elec."]
[null,null,null,null,null,null,null,null,"","",null,null,null,null,null,null,null,null,44,6500,"Frais admin.","6500  Frais admin."]
[null,null,null,null,null,null,null,null,"","",null,null,null,null,null,null,null,null,45,6600,"Publicité","6600  Publicité"]
[null,null,null,null,null,null,null,null,"","",null,null,null,null,null,null,null,null,46,6700,"ACE",{"$f":"T53&\"  \"&U53","v":"6700  ACE"}]
[null,null,null,null,null,null,null,null,"","",null,null,null,null,null,null,null,null,47,6800,"Intérêts - frais","6800  Intérêts - frais"]
[null,null,null,null,null,null,null,null,"","",null,null,null,null,null,null,null,null,48,null,null,"  "]
[null,null,null,null,null,null,null,null,"","",null,null,null,null,null,null,null,null,49,7000,"Hors expl.","7000  Hors expl."]
[null,null,null,null,null,null,null,null,"","",null,null,null,null,null,null,null,null,50,7400,"Ch et Pr titres","7400  Ch et Pr titres"]
[null,null,null,null,null,null,null,null,"","",null,null,null,null,null,null,null,null,51,7500,"Ch et Pr imm.","7500  Ch et Pr imm."]
[null,null,null,null,null,null,null,null,"","",null,null,null,null,null,null,null,null,52,8000,"Prod. except.","8000  Prod. except."]
[null,null,null,null,null,null,null,null,"","",null,null,null,null,null,null,null,null,53,9000,"Résultat exp.","9000  Résultat exp."]
[null,null,null,null,null,null,null,null,"","",null,null,null,null,null,null,null,null,54,9100,"Bilan initial","9100  Bilan initial"]
[null,null,null,null,null,null,null,null,"","",null,null,null,null,null,null,null,null,55,null,null,"  "]
[null,null,null,null,null,null,null,null,"","",null,null,null,null,null,null,null,null,{"$f":"S62+1","v":56}]
[null,null,null,null,null,null,null,null,"","",null,null,null,null,null,null,null,null,57]
[null,null,null,null,null,null,null,null,"","",null,null,null,null,null,null,null,null,58]
[null,null,null,null,null,null,null,null,"","",null,null,null,null,null,null,null,null,59]
[null,null,null,null,null,null,null,null,"","",null,null,null,null,null,null,null,null,60]
[null,null,null,null,null,null,null,null,"","",null,null,null,null,null,null,null,null,61]
[null,null,null,null,null,null,null,null,"","",null,null,null,null,null,null,null,null,62]
[null,null,null,null,null,null,null,null,"","",null,null,null,null,null,null,null,null,63]
[null,null,null,null,null,null,null,null,"","",null,null,null,null,null,null,null,null,64]
[null,null,null,null,null,null,null,null,{"$f":"IF($H72=\"\",\"\",LOOKUP(C72,$T$8:$T$26,$S$8:$S$26))","v":""},{"$f":"IF($H72=\"\",\"\",LOOKUP(E72,$T$8:$T$26,$S$8:$S$26))","v":""},null,null,null,null,null,null,null,null,65]
[null,null,null,null,null,null,null,null,"","",null,null,null,null,null,null,null,null,null,"© Yvan Péguiron - HEP Lausanne - fév. 06"]
[null,null,null,null,null,null,null,null,"",""]
[null,null,null,null,null,null,null,null,"",""]
[null,null,null,null,null,null,null,null,"",""]
[null,null,null,null,null,null,null,null,"",""]
[null,null,null,null,null,null,null,null,"",""]
[null,null,null,null,null,null,null,null,"",""]
[null,null,null,null,null,null,null,null,"",""]
[null,null,null,null,null,null,null,null,"",""]
[null,null,null,null,null,null,null,null,"",""]
[null,null,null,null,null,null,null,null,"",""]
[null,null,null,null,null,null,null,null,"",""]
[null,null,null,null,null,null,null,null,"",""]
[null,null,null,null,null,null,null,null,"",""]
[null,null,null,null,null,null,null,null,"",""]
[null,null,null,null,null,null,null,null,"",""]
[null,null,null,null,null,null,null,null,"",""]
[null,null,null,null,null,null,null,null,"",""]
[null,null,null,null,null,null,null,null,"",""]
[null,null,null,null,null,null,null,null,"",""]
[null,null,null,null,null,null,null,null,"",""]
[null,null,null,null,null,null,null,null,"",""]
[null,null,null,null,null,null,null,null,"",""]
[null,null,null,null,null,null,null,null,"",""]
[null,null,null,null,null,null,null,null,"",""]
[null,null,null,null,null,null,null,null,"",""]
[null,null,null,null,null,null,null,null,"",""]
[null,null,null,null,null,null,null,null,"",""]